BEGIN:VCALENDAR
VERSION:2.0
PRODID:-//LARFPA - ECPv6.15.20//NONSGML v1.0//EN
CALSCALE:GREGORIAN
METHOD:PUBLISH
X-ORIGINAL-URL:https://larfpa.org
X-WR-CALDESC:Events for LARFPA
REFRESH-INTERVAL;VALUE=DURATION:PT1H
X-Robots-Tag:noindex
X-PUBLISHED-TTL:PT1H
BEGIN:VTIMEZONE
TZID:America/Los_Angeles
BEGIN:DAYLIGHT
TZOFFSETFROM:-0800
TZOFFSETTO:-0700
TZNAME:PDT
DTSTART:20270314T100000
END:DAYLIGHT
BEGIN:STANDARD
TZOFFSETFROM:-0700
TZOFFSETTO:-0800
TZNAME:PST
DTSTART:20271107T090000
END:STANDARD
BEGIN:DAYLIGHT
TZOFFSETFROM:-0800
TZOFFSETTO:-0700
TZNAME:PDT
DTSTART:20280312T100000
END:DAYLIGHT
BEGIN:STANDARD
TZOFFSETFROM:-0700
TZOFFSETTO:-0800
TZNAME:PST
DTSTART:20281105T090000
END:STANDARD
BEGIN:DAYLIGHT
TZOFFSETFROM:-0800
TZOFFSETTO:-0700
TZNAME:PDT
DTSTART:20290311T100000
END:DAYLIGHT
BEGIN:STANDARD
TZOFFSETFROM:-0700
TZOFFSETTO:-0800
TZNAME:PST
DTSTART:20291104T090000
END:STANDARD
BEGIN:DAYLIGHT
TZOFFSETFROM:-0800
TZOFFSETTO:-0700
TZNAME:PDT
DTSTART:20300310T100000
END:DAYLIGHT
BEGIN:STANDARD
TZOFFSETFROM:-0700
TZOFFSETTO:-0800
TZNAME:PST
DTSTART:20301103T090000
END:STANDARD
BEGIN:DAYLIGHT
TZOFFSETFROM:-0800
TZOFFSETTO:-0700
TZNAME:PDT
DTSTART:20310309T100000
END:DAYLIGHT
BEGIN:STANDARD
TZOFFSETFROM:-0700
TZOFFSETTO:-0800
TZNAME:PST
DTSTART:20311102T090000
END:STANDARD
END:VTIMEZONE
BEGIN:VEVENT
DTSTART;TZID=America/Los_Angeles:20280511T113000
DTEND;TZID=America/Los_Angeles:20280511T150000
DTSTAMP:20260420T082906
CREATED:20250702T002505Z
LAST-MODIFIED:20250702T002505Z
UID:10003245-1841657400-1841670000@larfpa.org
SUMMARY:Sacramento Area Blue Line Association (SABLA)
DESCRIPTION:Contact Joe Sandoval (916) 961-3679
URL:https://larfpa.org/calendar-single-post-name/sacramento-area-blue-line-association-sabla/2028-05-11/
LOCATION:Strikes Bowling Alley\, 5681 Lonetree Blvd.\, Rocklin\, CA
CATEGORIES:LAPD Group Meeting,Retiree Group Meeting
ATTACH;FMTTYPE=image/png:https://larfpa.org/wp-content/uploads/2025/07/Untitled-design-2025-07-01T161726.101-scaled.png
END:VEVENT
BEGIN:VEVENT
DTSTART;TZID=America/Los_Angeles:20280608T113000
DTEND;TZID=America/Los_Angeles:20280608T150000
DTSTAMP:20260420T082906
CREATED:20250702T002505Z
LAST-MODIFIED:20250702T002505Z
UID:10003246-1844076600-1844089200@larfpa.org
SUMMARY:Sacramento Area Blue Line Association (SABLA)
DESCRIPTION:Contact Joe Sandoval (916) 961-3679
URL:https://larfpa.org/calendar-single-post-name/sacramento-area-blue-line-association-sabla/2028-06-08/
LOCATION:Strikes Bowling Alley\, 5681 Lonetree Blvd.\, Rocklin\, CA
CATEGORIES:LAPD Group Meeting,Retiree Group Meeting
ATTACH;FMTTYPE=image/png:https://larfpa.org/wp-content/uploads/2025/07/Untitled-design-2025-07-01T161726.101-scaled.png
END:VEVENT
BEGIN:VEVENT
DTSTART;TZID=America/Los_Angeles:20280713T113000
DTEND;TZID=America/Los_Angeles:20280713T150000
DTSTAMP:20260420T082906
CREATED:20250702T002505Z
LAST-MODIFIED:20250702T002505Z
UID:10003247-1847100600-1847113200@larfpa.org
SUMMARY:Sacramento Area Blue Line Association (SABLA)
DESCRIPTION:Contact Joe Sandoval (916) 961-3679
URL:https://larfpa.org/calendar-single-post-name/sacramento-area-blue-line-association-sabla/2028-07-13/
LOCATION:Strikes Bowling Alley\, 5681 Lonetree Blvd.\, Rocklin\, CA
CATEGORIES:LAPD Group Meeting,Retiree Group Meeting
ATTACH;FMTTYPE=image/png:https://larfpa.org/wp-content/uploads/2025/07/Untitled-design-2025-07-01T161726.101-scaled.png
END:VEVENT
BEGIN:VEVENT
DTSTART;TZID=America/Los_Angeles:20280810T113000
DTEND;TZID=America/Los_Angeles:20280810T150000
DTSTAMP:20260420T082906
CREATED:20250702T002505Z
LAST-MODIFIED:20250702T002505Z
UID:10003248-1849519800-1849532400@larfpa.org
SUMMARY:Sacramento Area Blue Line Association (SABLA)
DESCRIPTION:Contact Joe Sandoval (916) 961-3679
URL:https://larfpa.org/calendar-single-post-name/sacramento-area-blue-line-association-sabla/2028-08-10/
LOCATION:Strikes Bowling Alley\, 5681 Lonetree Blvd.\, Rocklin\, CA
CATEGORIES:LAPD Group Meeting,Retiree Group Meeting
ATTACH;FMTTYPE=image/png:https://larfpa.org/wp-content/uploads/2025/07/Untitled-design-2025-07-01T161726.101-scaled.png
END:VEVENT
BEGIN:VEVENT
DTSTART;TZID=America/Los_Angeles:20280914T113000
DTEND;TZID=America/Los_Angeles:20280914T150000
DTSTAMP:20260420T082906
CREATED:20250702T002505Z
LAST-MODIFIED:20250702T002505Z
UID:10003249-1852543800-1852556400@larfpa.org
SUMMARY:Sacramento Area Blue Line Association (SABLA)
DESCRIPTION:Contact Joe Sandoval (916) 961-3679
URL:https://larfpa.org/calendar-single-post-name/sacramento-area-blue-line-association-sabla/2028-09-14/
LOCATION:Strikes Bowling Alley\, 5681 Lonetree Blvd.\, Rocklin\, CA
CATEGORIES:LAPD Group Meeting,Retiree Group Meeting
ATTACH;FMTTYPE=image/png:https://larfpa.org/wp-content/uploads/2025/07/Untitled-design-2025-07-01T161726.101-scaled.png
END:VEVENT
BEGIN:VEVENT
DTSTART;TZID=America/Los_Angeles:20281012T113000
DTEND;TZID=America/Los_Angeles:20281012T150000
DTSTAMP:20260420T082906
CREATED:20250702T002505Z
LAST-MODIFIED:20250702T002505Z
UID:10003250-1854963000-1854975600@larfpa.org
SUMMARY:Sacramento Area Blue Line Association (SABLA)
DESCRIPTION:Contact Joe Sandoval (916) 961-3679
URL:https://larfpa.org/calendar-single-post-name/sacramento-area-blue-line-association-sabla/2028-10-12/
LOCATION:Strikes Bowling Alley\, 5681 Lonetree Blvd.\, Rocklin\, CA
CATEGORIES:LAPD Group Meeting,Retiree Group Meeting
ATTACH;FMTTYPE=image/png:https://larfpa.org/wp-content/uploads/2025/07/Untitled-design-2025-07-01T161726.101-scaled.png
END:VEVENT
BEGIN:VEVENT
DTSTART;TZID=America/Los_Angeles:20281109T113000
DTEND;TZID=America/Los_Angeles:20281109T150000
DTSTAMP:20260420T082906
CREATED:20250702T002505Z
LAST-MODIFIED:20250702T002505Z
UID:10003251-1857382200-1857394800@larfpa.org
SUMMARY:Sacramento Area Blue Line Association (SABLA)
DESCRIPTION:Contact Joe Sandoval (916) 961-3679
URL:https://larfpa.org/calendar-single-post-name/sacramento-area-blue-line-association-sabla/2028-11-09/
LOCATION:Strikes Bowling Alley\, 5681 Lonetree Blvd.\, Rocklin\, CA
CATEGORIES:LAPD Group Meeting,Retiree Group Meeting
ATTACH;FMTTYPE=image/png:https://larfpa.org/wp-content/uploads/2025/07/Untitled-design-2025-07-01T161726.101-scaled.png
END:VEVENT
BEGIN:VEVENT
DTSTART;TZID=America/Los_Angeles:20281214T113000
DTEND;TZID=America/Los_Angeles:20281214T150000
DTSTAMP:20260420T082906
CREATED:20250702T002505Z
LAST-MODIFIED:20250702T002505Z
UID:10003252-1860406200-1860418800@larfpa.org
SUMMARY:Sacramento Area Blue Line Association (SABLA)
DESCRIPTION:Contact Joe Sandoval (916) 961-3679
URL:https://larfpa.org/calendar-single-post-name/sacramento-area-blue-line-association-sabla/2028-12-14/
LOCATION:Strikes Bowling Alley\, 5681 Lonetree Blvd.\, Rocklin\, CA
CATEGORIES:LAPD Group Meeting,Retiree Group Meeting
ATTACH;FMTTYPE=image/png:https://larfpa.org/wp-content/uploads/2025/07/Untitled-design-2025-07-01T161726.101-scaled.png
END:VEVENT
BEGIN:VEVENT
DTSTART;TZID=America/Los_Angeles:20290111T113000
DTEND;TZID=America/Los_Angeles:20290111T150000
DTSTAMP:20260420T082906
CREATED:20250702T002505Z
LAST-MODIFIED:20250702T002505Z
UID:10003253-1862825400-1862838000@larfpa.org
SUMMARY:Sacramento Area Blue Line Association (SABLA)
DESCRIPTION:Contact Joe Sandoval (916) 961-3679
URL:https://larfpa.org/calendar-single-post-name/sacramento-area-blue-line-association-sabla/2029-01-11/
LOCATION:Strikes Bowling Alley\, 5681 Lonetree Blvd.\, Rocklin\, CA
CATEGORIES:LAPD Group Meeting,Retiree Group Meeting
ATTACH;FMTTYPE=image/png:https://larfpa.org/wp-content/uploads/2025/07/Untitled-design-2025-07-01T161726.101-scaled.png
END:VEVENT
BEGIN:VEVENT
DTSTART;TZID=America/Los_Angeles:20290208T113000
DTEND;TZID=America/Los_Angeles:20290208T150000
DTSTAMP:20260420T082906
CREATED:20250702T002505Z
LAST-MODIFIED:20250702T002505Z
UID:10003254-1865244600-1865257200@larfpa.org
SUMMARY:Sacramento Area Blue Line Association (SABLA)
DESCRIPTION:Contact Joe Sandoval (916) 961-3679
URL:https://larfpa.org/calendar-single-post-name/sacramento-area-blue-line-association-sabla/2029-02-08/
LOCATION:Strikes Bowling Alley\, 5681 Lonetree Blvd.\, Rocklin\, CA
CATEGORIES:LAPD Group Meeting,Retiree Group Meeting
ATTACH;FMTTYPE=image/png:https://larfpa.org/wp-content/uploads/2025/07/Untitled-design-2025-07-01T161726.101-scaled.png
END:VEVENT
BEGIN:VEVENT
DTSTART;TZID=America/Los_Angeles:20290308T113000
DTEND;TZID=America/Los_Angeles:20290308T150000
DTSTAMP:20260420T082906
CREATED:20250702T002505Z
LAST-MODIFIED:20250702T002505Z
UID:10003255-1867663800-1867676400@larfpa.org
SUMMARY:Sacramento Area Blue Line Association (SABLA)
DESCRIPTION:Contact Joe Sandoval (916) 961-3679
URL:https://larfpa.org/calendar-single-post-name/sacramento-area-blue-line-association-sabla/2029-03-08/
LOCATION:Strikes Bowling Alley\, 5681 Lonetree Blvd.\, Rocklin\, CA
CATEGORIES:LAPD Group Meeting,Retiree Group Meeting
ATTACH;FMTTYPE=image/png:https://larfpa.org/wp-content/uploads/2025/07/Untitled-design-2025-07-01T161726.101-scaled.png
END:VEVENT
BEGIN:VEVENT
DTSTART;TZID=America/Los_Angeles:20290412T113000
DTEND;TZID=America/Los_Angeles:20290412T150000
DTSTAMP:20260420T082906
CREATED:20250702T002505Z
LAST-MODIFIED:20250702T002505Z
UID:10003256-1870687800-1870700400@larfpa.org
SUMMARY:Sacramento Area Blue Line Association (SABLA)
DESCRIPTION:Contact Joe Sandoval (916) 961-3679
URL:https://larfpa.org/calendar-single-post-name/sacramento-area-blue-line-association-sabla/2029-04-12/
LOCATION:Strikes Bowling Alley\, 5681 Lonetree Blvd.\, Rocklin\, CA
CATEGORIES:LAPD Group Meeting,Retiree Group Meeting
ATTACH;FMTTYPE=image/png:https://larfpa.org/wp-content/uploads/2025/07/Untitled-design-2025-07-01T161726.101-scaled.png
END:VEVENT
BEGIN:VEVENT
DTSTART;TZID=America/Los_Angeles:20290510T113000
DTEND;TZID=America/Los_Angeles:20290510T150000
DTSTAMP:20260420T082906
CREATED:20250702T002505Z
LAST-MODIFIED:20250702T002505Z
UID:10003257-1873107000-1873119600@larfpa.org
SUMMARY:Sacramento Area Blue Line Association (SABLA)
DESCRIPTION:Contact Joe Sandoval (916) 961-3679
URL:https://larfpa.org/calendar-single-post-name/sacramento-area-blue-line-association-sabla/2029-05-10/
LOCATION:Strikes Bowling Alley\, 5681 Lonetree Blvd.\, Rocklin\, CA
CATEGORIES:LAPD Group Meeting,Retiree Group Meeting
ATTACH;FMTTYPE=image/png:https://larfpa.org/wp-content/uploads/2025/07/Untitled-design-2025-07-01T161726.101-scaled.png
END:VEVENT
BEGIN:VEVENT
DTSTART;TZID=America/Los_Angeles:20290614T113000
DTEND;TZID=America/Los_Angeles:20290614T150000
DTSTAMP:20260420T082906
CREATED:20250702T002505Z
LAST-MODIFIED:20250702T002505Z
UID:10003258-1876131000-1876143600@larfpa.org
SUMMARY:Sacramento Area Blue Line Association (SABLA)
DESCRIPTION:Contact Joe Sandoval (916) 961-3679
URL:https://larfpa.org/calendar-single-post-name/sacramento-area-blue-line-association-sabla/2029-06-14/
LOCATION:Strikes Bowling Alley\, 5681 Lonetree Blvd.\, Rocklin\, CA
CATEGORIES:LAPD Group Meeting,Retiree Group Meeting
ATTACH;FMTTYPE=image/png:https://larfpa.org/wp-content/uploads/2025/07/Untitled-design-2025-07-01T161726.101-scaled.png
END:VEVENT
BEGIN:VEVENT
DTSTART;TZID=America/Los_Angeles:20290712T113000
DTEND;TZID=America/Los_Angeles:20290712T150000
DTSTAMP:20260420T082906
CREATED:20250702T002505Z
LAST-MODIFIED:20250702T002505Z
UID:10003259-1878550200-1878562800@larfpa.org
SUMMARY:Sacramento Area Blue Line Association (SABLA)
DESCRIPTION:Contact Joe Sandoval (916) 961-3679
URL:https://larfpa.org/calendar-single-post-name/sacramento-area-blue-line-association-sabla/2029-07-12/
LOCATION:Strikes Bowling Alley\, 5681 Lonetree Blvd.\, Rocklin\, CA
CATEGORIES:LAPD Group Meeting,Retiree Group Meeting
ATTACH;FMTTYPE=image/png:https://larfpa.org/wp-content/uploads/2025/07/Untitled-design-2025-07-01T161726.101-scaled.png
END:VEVENT
BEGIN:VEVENT
DTSTART;TZID=America/Los_Angeles:20290809T113000
DTEND;TZID=America/Los_Angeles:20290809T150000
DTSTAMP:20260420T082906
CREATED:20250702T002505Z
LAST-MODIFIED:20250702T002505Z
UID:10003260-1880969400-1880982000@larfpa.org
SUMMARY:Sacramento Area Blue Line Association (SABLA)
DESCRIPTION:Contact Joe Sandoval (916) 961-3679
URL:https://larfpa.org/calendar-single-post-name/sacramento-area-blue-line-association-sabla/2029-08-09/
LOCATION:Strikes Bowling Alley\, 5681 Lonetree Blvd.\, Rocklin\, CA
CATEGORIES:LAPD Group Meeting,Retiree Group Meeting
ATTACH;FMTTYPE=image/png:https://larfpa.org/wp-content/uploads/2025/07/Untitled-design-2025-07-01T161726.101-scaled.png
END:VEVENT
BEGIN:VEVENT
DTSTART;TZID=America/Los_Angeles:20290913T113000
DTEND;TZID=America/Los_Angeles:20290913T150000
DTSTAMP:20260420T082906
CREATED:20250702T002505Z
LAST-MODIFIED:20250702T002505Z
UID:10003261-1883993400-1884006000@larfpa.org
SUMMARY:Sacramento Area Blue Line Association (SABLA)
DESCRIPTION:Contact Joe Sandoval (916) 961-3679
URL:https://larfpa.org/calendar-single-post-name/sacramento-area-blue-line-association-sabla/2029-09-13/
LOCATION:Strikes Bowling Alley\, 5681 Lonetree Blvd.\, Rocklin\, CA
CATEGORIES:LAPD Group Meeting,Retiree Group Meeting
ATTACH;FMTTYPE=image/png:https://larfpa.org/wp-content/uploads/2025/07/Untitled-design-2025-07-01T161726.101-scaled.png
END:VEVENT
BEGIN:VEVENT
DTSTART;TZID=America/Los_Angeles:20291011T113000
DTEND;TZID=America/Los_Angeles:20291011T150000
DTSTAMP:20260420T082906
CREATED:20250702T002505Z
LAST-MODIFIED:20250702T002505Z
UID:10003262-1886412600-1886425200@larfpa.org
SUMMARY:Sacramento Area Blue Line Association (SABLA)
DESCRIPTION:Contact Joe Sandoval (916) 961-3679
URL:https://larfpa.org/calendar-single-post-name/sacramento-area-blue-line-association-sabla/2029-10-11/
LOCATION:Strikes Bowling Alley\, 5681 Lonetree Blvd.\, Rocklin\, CA
CATEGORIES:LAPD Group Meeting,Retiree Group Meeting
ATTACH;FMTTYPE=image/png:https://larfpa.org/wp-content/uploads/2025/07/Untitled-design-2025-07-01T161726.101-scaled.png
END:VEVENT
BEGIN:VEVENT
DTSTART;TZID=America/Los_Angeles:20291108T113000
DTEND;TZID=America/Los_Angeles:20291108T150000
DTSTAMP:20260420T082906
CREATED:20250702T002505Z
LAST-MODIFIED:20250702T002505Z
UID:10003263-1888831800-1888844400@larfpa.org
SUMMARY:Sacramento Area Blue Line Association (SABLA)
DESCRIPTION:Contact Joe Sandoval (916) 961-3679
URL:https://larfpa.org/calendar-single-post-name/sacramento-area-blue-line-association-sabla/2029-11-08/
LOCATION:Strikes Bowling Alley\, 5681 Lonetree Blvd.\, Rocklin\, CA
CATEGORIES:LAPD Group Meeting,Retiree Group Meeting
ATTACH;FMTTYPE=image/png:https://larfpa.org/wp-content/uploads/2025/07/Untitled-design-2025-07-01T161726.101-scaled.png
END:VEVENT
BEGIN:VEVENT
DTSTART;TZID=America/Los_Angeles:20291213T113000
DTEND;TZID=America/Los_Angeles:20291213T150000
DTSTAMP:20260420T082906
CREATED:20250702T002505Z
LAST-MODIFIED:20250702T002505Z
UID:10003264-1891855800-1891868400@larfpa.org
SUMMARY:Sacramento Area Blue Line Association (SABLA)
DESCRIPTION:Contact Joe Sandoval (916) 961-3679
URL:https://larfpa.org/calendar-single-post-name/sacramento-area-blue-line-association-sabla/2029-12-13/
LOCATION:Strikes Bowling Alley\, 5681 Lonetree Blvd.\, Rocklin\, CA
CATEGORIES:LAPD Group Meeting,Retiree Group Meeting
ATTACH;FMTTYPE=image/png:https://larfpa.org/wp-content/uploads/2025/07/Untitled-design-2025-07-01T161726.101-scaled.png
END:VEVENT
BEGIN:VEVENT
DTSTART;TZID=America/Los_Angeles:20300110T113000
DTEND;TZID=America/Los_Angeles:20300110T150000
DTSTAMP:20260420T082906
CREATED:20250702T002505Z
LAST-MODIFIED:20250702T002505Z
UID:10003265-1894275000-1894287600@larfpa.org
SUMMARY:Sacramento Area Blue Line Association (SABLA)
DESCRIPTION:Contact Joe Sandoval (916) 961-3679
URL:https://larfpa.org/calendar-single-post-name/sacramento-area-blue-line-association-sabla/2030-01-10/
LOCATION:Strikes Bowling Alley\, 5681 Lonetree Blvd.\, Rocklin\, CA
CATEGORIES:LAPD Group Meeting,Retiree Group Meeting
ATTACH;FMTTYPE=image/png:https://larfpa.org/wp-content/uploads/2025/07/Untitled-design-2025-07-01T161726.101-scaled.png
END:VEVENT
BEGIN:VEVENT
DTSTART;TZID=America/Los_Angeles:20300214T113000
DTEND;TZID=America/Los_Angeles:20300214T150000
DTSTAMP:20260420T082906
CREATED:20250702T002505Z
LAST-MODIFIED:20250702T002505Z
UID:10003266-1897299000-1897311600@larfpa.org
SUMMARY:Sacramento Area Blue Line Association (SABLA)
DESCRIPTION:Contact Joe Sandoval (916) 961-3679
URL:https://larfpa.org/calendar-single-post-name/sacramento-area-blue-line-association-sabla/2030-02-14/
LOCATION:Strikes Bowling Alley\, 5681 Lonetree Blvd.\, Rocklin\, CA
CATEGORIES:LAPD Group Meeting,Retiree Group Meeting
ATTACH;FMTTYPE=image/png:https://larfpa.org/wp-content/uploads/2025/07/Untitled-design-2025-07-01T161726.101-scaled.png
END:VEVENT
BEGIN:VEVENT
DTSTART;TZID=America/Los_Angeles:20300314T113000
DTEND;TZID=America/Los_Angeles:20300314T150000
DTSTAMP:20260420T082906
CREATED:20250702T002505Z
LAST-MODIFIED:20250702T002505Z
UID:10003267-1899718200-1899730800@larfpa.org
SUMMARY:Sacramento Area Blue Line Association (SABLA)
DESCRIPTION:Contact Joe Sandoval (916) 961-3679
URL:https://larfpa.org/calendar-single-post-name/sacramento-area-blue-line-association-sabla/2030-03-14/
LOCATION:Strikes Bowling Alley\, 5681 Lonetree Blvd.\, Rocklin\, CA
CATEGORIES:LAPD Group Meeting,Retiree Group Meeting
ATTACH;FMTTYPE=image/png:https://larfpa.org/wp-content/uploads/2025/07/Untitled-design-2025-07-01T161726.101-scaled.png
END:VEVENT
BEGIN:VEVENT
DTSTART;TZID=America/Los_Angeles:20300411T113000
DTEND;TZID=America/Los_Angeles:20300411T150000
DTSTAMP:20260420T082906
CREATED:20250702T002505Z
LAST-MODIFIED:20250702T002505Z
UID:10003268-1902137400-1902150000@larfpa.org
SUMMARY:Sacramento Area Blue Line Association (SABLA)
DESCRIPTION:Contact Joe Sandoval (916) 961-3679
URL:https://larfpa.org/calendar-single-post-name/sacramento-area-blue-line-association-sabla/2030-04-11/
LOCATION:Strikes Bowling Alley\, 5681 Lonetree Blvd.\, Rocklin\, CA
CATEGORIES:LAPD Group Meeting,Retiree Group Meeting
ATTACH;FMTTYPE=image/png:https://larfpa.org/wp-content/uploads/2025/07/Untitled-design-2025-07-01T161726.101-scaled.png
END:VEVENT
BEGIN:VEVENT
DTSTART;TZID=America/Los_Angeles:20300509T113000
DTEND;TZID=America/Los_Angeles:20300509T150000
DTSTAMP:20260420T082906
CREATED:20250702T002505Z
LAST-MODIFIED:20250702T002505Z
UID:10003269-1904556600-1904569200@larfpa.org
SUMMARY:Sacramento Area Blue Line Association (SABLA)
DESCRIPTION:Contact Joe Sandoval (916) 961-3679
URL:https://larfpa.org/calendar-single-post-name/sacramento-area-blue-line-association-sabla/2030-05-09/
LOCATION:Strikes Bowling Alley\, 5681 Lonetree Blvd.\, Rocklin\, CA
CATEGORIES:LAPD Group Meeting,Retiree Group Meeting
ATTACH;FMTTYPE=image/png:https://larfpa.org/wp-content/uploads/2025/07/Untitled-design-2025-07-01T161726.101-scaled.png
END:VEVENT
BEGIN:VEVENT
DTSTART;TZID=America/Los_Angeles:20300613T113000
DTEND;TZID=America/Los_Angeles:20300613T150000
DTSTAMP:20260420T082906
CREATED:20250702T002505Z
LAST-MODIFIED:20250702T002505Z
UID:10003270-1907580600-1907593200@larfpa.org
SUMMARY:Sacramento Area Blue Line Association (SABLA)
DESCRIPTION:Contact Joe Sandoval (916) 961-3679
URL:https://larfpa.org/calendar-single-post-name/sacramento-area-blue-line-association-sabla/2030-06-13/
LOCATION:Strikes Bowling Alley\, 5681 Lonetree Blvd.\, Rocklin\, CA
CATEGORIES:LAPD Group Meeting,Retiree Group Meeting
ATTACH;FMTTYPE=image/png:https://larfpa.org/wp-content/uploads/2025/07/Untitled-design-2025-07-01T161726.101-scaled.png
END:VEVENT
END:VCALENDAR