BEGIN:VCALENDAR
VERSION:2.0
PRODID:-//LARFPA - ECPv6.15.20//NONSGML v1.0//EN
CALSCALE:GREGORIAN
METHOD:PUBLISH
X-ORIGINAL-URL:https://larfpa.org
X-WR-CALDESC:Events for LARFPA
REFRESH-INTERVAL;VALUE=DURATION:PT1H
X-Robots-Tag:noindex
X-PUBLISHED-TTL:PT1H
BEGIN:VTIMEZONE
TZID:America/Los_Angeles
BEGIN:DAYLIGHT
TZOFFSETFROM:-0800
TZOFFSETTO:-0700
TZNAME:PDT
DTSTART:20280312T100000
END:DAYLIGHT
BEGIN:STANDARD
TZOFFSETFROM:-0700
TZOFFSETTO:-0800
TZNAME:PST
DTSTART:20281105T090000
END:STANDARD
BEGIN:DAYLIGHT
TZOFFSETFROM:-0800
TZOFFSETTO:-0700
TZNAME:PDT
DTSTART:20290311T100000
END:DAYLIGHT
BEGIN:STANDARD
TZOFFSETFROM:-0700
TZOFFSETTO:-0800
TZNAME:PST
DTSTART:20291104T090000
END:STANDARD
BEGIN:DAYLIGHT
TZOFFSETFROM:-0800
TZOFFSETTO:-0700
TZNAME:PDT
DTSTART:20300310T100000
END:DAYLIGHT
BEGIN:STANDARD
TZOFFSETFROM:-0700
TZOFFSETTO:-0800
TZNAME:PST
DTSTART:20301103T090000
END:STANDARD
BEGIN:DAYLIGHT
TZOFFSETFROM:-0800
TZOFFSETTO:-0700
TZNAME:PDT
DTSTART:20310309T100000
END:DAYLIGHT
BEGIN:STANDARD
TZOFFSETFROM:-0700
TZOFFSETTO:-0800
TZNAME:PST
DTSTART:20311102T090000
END:STANDARD
END:VTIMEZONE
BEGIN:VEVENT
DTSTART;TZID=America/Los_Angeles:20290427T163000
DTEND;TZID=America/Los_Angeles:20290427T173000
DTSTAMP:20260419T203948
CREATED:20221103T065357Z
LAST-MODIFIED:20250702T000626Z
UID:10002844-1872001800-1872005400@larfpa.org
SUMMARY:Long Beach Blue
DESCRIPTION:Contact: John Halligan – E: dandjhalligan@me.com
URL:https://larfpa.org/calendar-single-post-name/long-beach-blue/2029-04-27/
LOCATION:Long Beach Blue Meeting Location – El Dorado Golf Course\, 2400 N. Studebaker Rd.\, Long Beach\, CA\, United States
CATEGORIES:LAPD Group Meeting,Retiree Group Meeting
ATTACH;FMTTYPE=image/png:https://larfpa.org/wp-content/uploads/2025/07/Untitled-design-2025-07-01T161726.101-scaled.png
END:VEVENT
BEGIN:VEVENT
DTSTART;TZID=America/Los_Angeles:20290525T163000
DTEND;TZID=America/Los_Angeles:20290525T173000
DTSTAMP:20260419T203948
CREATED:20221103T065357Z
LAST-MODIFIED:20250702T000626Z
UID:10002845-1874421000-1874424600@larfpa.org
SUMMARY:Long Beach Blue
DESCRIPTION:Contact: John Halligan – E: dandjhalligan@me.com
URL:https://larfpa.org/calendar-single-post-name/long-beach-blue/2029-05-25/
LOCATION:Long Beach Blue Meeting Location – El Dorado Golf Course\, 2400 N. Studebaker Rd.\, Long Beach\, CA\, United States
CATEGORIES:LAPD Group Meeting,Retiree Group Meeting
ATTACH;FMTTYPE=image/png:https://larfpa.org/wp-content/uploads/2025/07/Untitled-design-2025-07-01T161726.101-scaled.png
END:VEVENT
BEGIN:VEVENT
DTSTART;TZID=America/Los_Angeles:20290629T163000
DTEND;TZID=America/Los_Angeles:20290629T173000
DTSTAMP:20260419T203948
CREATED:20221103T065357Z
LAST-MODIFIED:20250702T000626Z
UID:10002846-1877445000-1877448600@larfpa.org
SUMMARY:Long Beach Blue
DESCRIPTION:Contact: John Halligan – E: dandjhalligan@me.com
URL:https://larfpa.org/calendar-single-post-name/long-beach-blue/2029-06-29/
LOCATION:Long Beach Blue Meeting Location – El Dorado Golf Course\, 2400 N. Studebaker Rd.\, Long Beach\, CA\, United States
CATEGORIES:LAPD Group Meeting,Retiree Group Meeting
ATTACH;FMTTYPE=image/png:https://larfpa.org/wp-content/uploads/2025/07/Untitled-design-2025-07-01T161726.101-scaled.png
END:VEVENT
BEGIN:VEVENT
DTSTART;TZID=America/Los_Angeles:20290727T163000
DTEND;TZID=America/Los_Angeles:20290727T173000
DTSTAMP:20260419T203948
CREATED:20221103T065357Z
LAST-MODIFIED:20250702T000626Z
UID:10002847-1879864200-1879867800@larfpa.org
SUMMARY:Long Beach Blue
DESCRIPTION:Contact: John Halligan – E: dandjhalligan@me.com
URL:https://larfpa.org/calendar-single-post-name/long-beach-blue/2029-07-27/
LOCATION:Long Beach Blue Meeting Location – El Dorado Golf Course\, 2400 N. Studebaker Rd.\, Long Beach\, CA\, United States
CATEGORIES:LAPD Group Meeting,Retiree Group Meeting
ATTACH;FMTTYPE=image/png:https://larfpa.org/wp-content/uploads/2025/07/Untitled-design-2025-07-01T161726.101-scaled.png
END:VEVENT
BEGIN:VEVENT
DTSTART;TZID=America/Los_Angeles:20290831T163000
DTEND;TZID=America/Los_Angeles:20290831T173000
DTSTAMP:20260419T203948
CREATED:20221103T065357Z
LAST-MODIFIED:20250702T000626Z
UID:10002848-1882888200-1882891800@larfpa.org
SUMMARY:Long Beach Blue
DESCRIPTION:Contact: John Halligan – E: dandjhalligan@me.com
URL:https://larfpa.org/calendar-single-post-name/long-beach-blue/2029-08-31/
LOCATION:Long Beach Blue Meeting Location – El Dorado Golf Course\, 2400 N. Studebaker Rd.\, Long Beach\, CA\, United States
CATEGORIES:LAPD Group Meeting,Retiree Group Meeting
ATTACH;FMTTYPE=image/png:https://larfpa.org/wp-content/uploads/2025/07/Untitled-design-2025-07-01T161726.101-scaled.png
END:VEVENT
BEGIN:VEVENT
DTSTART;TZID=America/Los_Angeles:20290928T163000
DTEND;TZID=America/Los_Angeles:20290928T173000
DTSTAMP:20260419T203948
CREATED:20221103T065357Z
LAST-MODIFIED:20250702T000626Z
UID:10002849-1885307400-1885311000@larfpa.org
SUMMARY:Long Beach Blue
DESCRIPTION:Contact: John Halligan – E: dandjhalligan@me.com
URL:https://larfpa.org/calendar-single-post-name/long-beach-blue/2029-09-28/
LOCATION:Long Beach Blue Meeting Location – El Dorado Golf Course\, 2400 N. Studebaker Rd.\, Long Beach\, CA\, United States
CATEGORIES:LAPD Group Meeting,Retiree Group Meeting
ATTACH;FMTTYPE=image/png:https://larfpa.org/wp-content/uploads/2025/07/Untitled-design-2025-07-01T161726.101-scaled.png
END:VEVENT
BEGIN:VEVENT
DTSTART;TZID=America/Los_Angeles:20291026T163000
DTEND;TZID=America/Los_Angeles:20291026T173000
DTSTAMP:20260419T203948
CREATED:20221103T065357Z
LAST-MODIFIED:20250702T000626Z
UID:10002850-1887726600-1887730200@larfpa.org
SUMMARY:Long Beach Blue
DESCRIPTION:Contact: John Halligan – E: dandjhalligan@me.com
URL:https://larfpa.org/calendar-single-post-name/long-beach-blue/2029-10-26/
LOCATION:Long Beach Blue Meeting Location – El Dorado Golf Course\, 2400 N. Studebaker Rd.\, Long Beach\, CA\, United States
CATEGORIES:LAPD Group Meeting,Retiree Group Meeting
ATTACH;FMTTYPE=image/png:https://larfpa.org/wp-content/uploads/2025/07/Untitled-design-2025-07-01T161726.101-scaled.png
END:VEVENT
BEGIN:VEVENT
DTSTART;TZID=America/Los_Angeles:20291130T163000
DTEND;TZID=America/Los_Angeles:20291130T173000
DTSTAMP:20260419T203948
CREATED:20221103T065357Z
LAST-MODIFIED:20250702T000626Z
UID:10002851-1890750600-1890754200@larfpa.org
SUMMARY:Long Beach Blue
DESCRIPTION:Contact: John Halligan – E: dandjhalligan@me.com
URL:https://larfpa.org/calendar-single-post-name/long-beach-blue/2029-11-30/
LOCATION:Long Beach Blue Meeting Location – El Dorado Golf Course\, 2400 N. Studebaker Rd.\, Long Beach\, CA\, United States
CATEGORIES:LAPD Group Meeting,Retiree Group Meeting
ATTACH;FMTTYPE=image/png:https://larfpa.org/wp-content/uploads/2025/07/Untitled-design-2025-07-01T161726.101-scaled.png
END:VEVENT
BEGIN:VEVENT
DTSTART;TZID=America/Los_Angeles:20291228T163000
DTEND;TZID=America/Los_Angeles:20291228T173000
DTSTAMP:20260419T203948
CREATED:20221103T065357Z
LAST-MODIFIED:20250702T000626Z
UID:10002852-1893169800-1893173400@larfpa.org
SUMMARY:Long Beach Blue
DESCRIPTION:Contact: John Halligan – E: dandjhalligan@me.com
URL:https://larfpa.org/calendar-single-post-name/long-beach-blue/2029-12-28/
LOCATION:Long Beach Blue Meeting Location – El Dorado Golf Course\, 2400 N. Studebaker Rd.\, Long Beach\, CA\, United States
CATEGORIES:LAPD Group Meeting,Retiree Group Meeting
ATTACH;FMTTYPE=image/png:https://larfpa.org/wp-content/uploads/2025/07/Untitled-design-2025-07-01T161726.101-scaled.png
END:VEVENT
BEGIN:VEVENT
DTSTART;TZID=America/Los_Angeles:20300125T163000
DTEND;TZID=America/Los_Angeles:20300125T173000
DTSTAMP:20260419T203948
CREATED:20221103T065357Z
LAST-MODIFIED:20250702T000626Z
UID:10002853-1895589000-1895592600@larfpa.org
SUMMARY:Long Beach Blue
DESCRIPTION:Contact: John Halligan – E: dandjhalligan@me.com
URL:https://larfpa.org/calendar-single-post-name/long-beach-blue/2030-01-25/
LOCATION:Long Beach Blue Meeting Location – El Dorado Golf Course\, 2400 N. Studebaker Rd.\, Long Beach\, CA\, United States
CATEGORIES:LAPD Group Meeting,Retiree Group Meeting
ATTACH;FMTTYPE=image/png:https://larfpa.org/wp-content/uploads/2025/07/Untitled-design-2025-07-01T161726.101-scaled.png
END:VEVENT
BEGIN:VEVENT
DTSTART;TZID=America/Los_Angeles:20300222T163000
DTEND;TZID=America/Los_Angeles:20300222T173000
DTSTAMP:20260419T203948
CREATED:20221103T065357Z
LAST-MODIFIED:20250702T000626Z
UID:10002854-1898008200-1898011800@larfpa.org
SUMMARY:Long Beach Blue
DESCRIPTION:Contact: John Halligan – E: dandjhalligan@me.com
URL:https://larfpa.org/calendar-single-post-name/long-beach-blue/2030-02-22/
LOCATION:Long Beach Blue Meeting Location – El Dorado Golf Course\, 2400 N. Studebaker Rd.\, Long Beach\, CA\, United States
CATEGORIES:LAPD Group Meeting,Retiree Group Meeting
ATTACH;FMTTYPE=image/png:https://larfpa.org/wp-content/uploads/2025/07/Untitled-design-2025-07-01T161726.101-scaled.png
END:VEVENT
BEGIN:VEVENT
DTSTART;TZID=America/Los_Angeles:20300329T163000
DTEND;TZID=America/Los_Angeles:20300329T173000
DTSTAMP:20260419T203948
CREATED:20221103T065357Z
LAST-MODIFIED:20250702T000626Z
UID:10002855-1901032200-1901035800@larfpa.org
SUMMARY:Long Beach Blue
DESCRIPTION:Contact: John Halligan – E: dandjhalligan@me.com
URL:https://larfpa.org/calendar-single-post-name/long-beach-blue/2030-03-29/
LOCATION:Long Beach Blue Meeting Location – El Dorado Golf Course\, 2400 N. Studebaker Rd.\, Long Beach\, CA\, United States
CATEGORIES:LAPD Group Meeting,Retiree Group Meeting
ATTACH;FMTTYPE=image/png:https://larfpa.org/wp-content/uploads/2025/07/Untitled-design-2025-07-01T161726.101-scaled.png
END:VEVENT
BEGIN:VEVENT
DTSTART;TZID=America/Los_Angeles:20300426T163000
DTEND;TZID=America/Los_Angeles:20300426T173000
DTSTAMP:20260419T203948
CREATED:20221103T065357Z
LAST-MODIFIED:20250702T000626Z
UID:10002856-1903451400-1903455000@larfpa.org
SUMMARY:Long Beach Blue
DESCRIPTION:Contact: John Halligan – E: dandjhalligan@me.com
URL:https://larfpa.org/calendar-single-post-name/long-beach-blue/2030-04-26/
LOCATION:Long Beach Blue Meeting Location – El Dorado Golf Course\, 2400 N. Studebaker Rd.\, Long Beach\, CA\, United States
CATEGORIES:LAPD Group Meeting,Retiree Group Meeting
ATTACH;FMTTYPE=image/png:https://larfpa.org/wp-content/uploads/2025/07/Untitled-design-2025-07-01T161726.101-scaled.png
END:VEVENT
BEGIN:VEVENT
DTSTART;TZID=America/Los_Angeles:20300531T163000
DTEND;TZID=America/Los_Angeles:20300531T173000
DTSTAMP:20260419T203948
CREATED:20221103T065357Z
LAST-MODIFIED:20250702T000626Z
UID:10002857-1906475400-1906479000@larfpa.org
SUMMARY:Long Beach Blue
DESCRIPTION:Contact: John Halligan – E: dandjhalligan@me.com
URL:https://larfpa.org/calendar-single-post-name/long-beach-blue/2030-05-31/
LOCATION:Long Beach Blue Meeting Location – El Dorado Golf Course\, 2400 N. Studebaker Rd.\, Long Beach\, CA\, United States
CATEGORIES:LAPD Group Meeting,Retiree Group Meeting
ATTACH;FMTTYPE=image/png:https://larfpa.org/wp-content/uploads/2025/07/Untitled-design-2025-07-01T161726.101-scaled.png
END:VEVENT
BEGIN:VEVENT
DTSTART;TZID=America/Los_Angeles:20300628T163000
DTEND;TZID=America/Los_Angeles:20300628T173000
DTSTAMP:20260419T203948
CREATED:20221103T065357Z
LAST-MODIFIED:20250702T000626Z
UID:10002858-1908894600-1908898200@larfpa.org
SUMMARY:Long Beach Blue
DESCRIPTION:Contact: John Halligan – E: dandjhalligan@me.com
URL:https://larfpa.org/calendar-single-post-name/long-beach-blue/2030-06-28/
LOCATION:Long Beach Blue Meeting Location – El Dorado Golf Course\, 2400 N. Studebaker Rd.\, Long Beach\, CA\, United States
CATEGORIES:LAPD Group Meeting,Retiree Group Meeting
ATTACH;FMTTYPE=image/png:https://larfpa.org/wp-content/uploads/2025/07/Untitled-design-2025-07-01T161726.101-scaled.png
END:VEVENT
END:VCALENDAR