BEGIN:VCALENDAR
VERSION:2.0
PRODID:-//LARFPA - ECPv6.15.20//NONSGML v1.0//EN
CALSCALE:GREGORIAN
METHOD:PUBLISH
X-ORIGINAL-URL:https://larfpa.org
X-WR-CALDESC:Events for LARFPA
REFRESH-INTERVAL;VALUE=DURATION:PT1H
X-Robots-Tag:noindex
X-PUBLISHED-TTL:PT1H
BEGIN:VTIMEZONE
TZID:America/Los_Angeles
BEGIN:DAYLIGHT
TZOFFSETFROM:-0800
TZOFFSETTO:-0700
TZNAME:PDT
DTSTART:20270314T100000
END:DAYLIGHT
BEGIN:STANDARD
TZOFFSETFROM:-0700
TZOFFSETTO:-0800
TZNAME:PST
DTSTART:20271107T090000
END:STANDARD
BEGIN:DAYLIGHT
TZOFFSETFROM:-0800
TZOFFSETTO:-0700
TZNAME:PDT
DTSTART:20280312T100000
END:DAYLIGHT
BEGIN:STANDARD
TZOFFSETFROM:-0700
TZOFFSETTO:-0800
TZNAME:PST
DTSTART:20281105T090000
END:STANDARD
BEGIN:DAYLIGHT
TZOFFSETFROM:-0800
TZOFFSETTO:-0700
TZNAME:PDT
DTSTART:20290311T100000
END:DAYLIGHT
BEGIN:STANDARD
TZOFFSETFROM:-0700
TZOFFSETTO:-0800
TZNAME:PST
DTSTART:20291104T090000
END:STANDARD
BEGIN:DAYLIGHT
TZOFFSETFROM:-0800
TZOFFSETTO:-0700
TZNAME:PDT
DTSTART:20300310T100000
END:DAYLIGHT
BEGIN:STANDARD
TZOFFSETFROM:-0700
TZOFFSETTO:-0800
TZNAME:PST
DTSTART:20301103T090000
END:STANDARD
BEGIN:DAYLIGHT
TZOFFSETFROM:-0800
TZOFFSETTO:-0700
TZNAME:PDT
DTSTART:20310309T100000
END:DAYLIGHT
BEGIN:STANDARD
TZOFFSETFROM:-0700
TZOFFSETTO:-0800
TZNAME:PST
DTSTART:20311102T090000
END:STANDARD
END:VTIMEZONE
BEGIN:VEVENT
DTSTART;TZID=America/Los_Angeles:20280503T103000
DTEND;TZID=America/Los_Angeles:20280503T113000
DTSTAMP:20260419T230746
CREATED:20221102T064209Z
LAST-MODIFIED:20260305T180306Z
UID:10003799-1840962600-1840966200@larfpa.org
SUMMARY:Las Vegas Blueline Group Luncheon
DESCRIPTION:Contact: \nJoe Germain – P: 702-580-2407\, E: germain.joe@cox.net
URL:https://larfpa.org/calendar-single-post-name/las-vegas-blueline-group-luncheon/2028-05-03/
LOCATION:Las Vegas Blueline Group Luncheon Meeting Location – Las Vegas National Golf Club\, 1911 E. Desert Inn Rd.\, Las Vegas\, NV\, 89169\, United States
CATEGORIES:LAPD Group Meeting,Retiree Group Meeting
ATTACH;FMTTYPE=image/png:https://larfpa.org/wp-content/uploads/2025/07/Untitled-design-2025-07-01T161726.101-scaled.png
END:VEVENT
BEGIN:VEVENT
DTSTART;TZID=America/Los_Angeles:20280607T103000
DTEND;TZID=America/Los_Angeles:20280607T113000
DTSTAMP:20260419T230746
CREATED:20221102T064209Z
LAST-MODIFIED:20260305T180306Z
UID:10003800-1843986600-1843990200@larfpa.org
SUMMARY:Las Vegas Blueline Group Luncheon
DESCRIPTION:Contact: \nJoe Germain – P: 702-580-2407\, E: germain.joe@cox.net
URL:https://larfpa.org/calendar-single-post-name/las-vegas-blueline-group-luncheon/2028-06-07/
LOCATION:Las Vegas Blueline Group Luncheon Meeting Location – Las Vegas National Golf Club\, 1911 E. Desert Inn Rd.\, Las Vegas\, NV\, 89169\, United States
CATEGORIES:LAPD Group Meeting,Retiree Group Meeting
ATTACH;FMTTYPE=image/png:https://larfpa.org/wp-content/uploads/2025/07/Untitled-design-2025-07-01T161726.101-scaled.png
END:VEVENT
BEGIN:VEVENT
DTSTART;TZID=America/Los_Angeles:20280705T103000
DTEND;TZID=America/Los_Angeles:20280705T113000
DTSTAMP:20260419T230746
CREATED:20221102T064209Z
LAST-MODIFIED:20260305T180306Z
UID:10003801-1846405800-1846409400@larfpa.org
SUMMARY:Las Vegas Blueline Group Luncheon
DESCRIPTION:Contact: \nJoe Germain – P: 702-580-2407\, E: germain.joe@cox.net
URL:https://larfpa.org/calendar-single-post-name/las-vegas-blueline-group-luncheon/2028-07-05/
LOCATION:Las Vegas Blueline Group Luncheon Meeting Location – Las Vegas National Golf Club\, 1911 E. Desert Inn Rd.\, Las Vegas\, NV\, 89169\, United States
CATEGORIES:LAPD Group Meeting,Retiree Group Meeting
ATTACH;FMTTYPE=image/png:https://larfpa.org/wp-content/uploads/2025/07/Untitled-design-2025-07-01T161726.101-scaled.png
END:VEVENT
BEGIN:VEVENT
DTSTART;TZID=America/Los_Angeles:20280802T103000
DTEND;TZID=America/Los_Angeles:20280802T113000
DTSTAMP:20260419T230746
CREATED:20221102T064209Z
LAST-MODIFIED:20260305T180306Z
UID:10003802-1848825000-1848828600@larfpa.org
SUMMARY:Las Vegas Blueline Group Luncheon
DESCRIPTION:Contact: \nJoe Germain – P: 702-580-2407\, E: germain.joe@cox.net
URL:https://larfpa.org/calendar-single-post-name/las-vegas-blueline-group-luncheon/2028-08-02/
LOCATION:Las Vegas Blueline Group Luncheon Meeting Location – Las Vegas National Golf Club\, 1911 E. Desert Inn Rd.\, Las Vegas\, NV\, 89169\, United States
CATEGORIES:LAPD Group Meeting,Retiree Group Meeting
ATTACH;FMTTYPE=image/png:https://larfpa.org/wp-content/uploads/2025/07/Untitled-design-2025-07-01T161726.101-scaled.png
END:VEVENT
BEGIN:VEVENT
DTSTART;TZID=America/Los_Angeles:20280906T103000
DTEND;TZID=America/Los_Angeles:20280906T113000
DTSTAMP:20260419T230746
CREATED:20221102T064209Z
LAST-MODIFIED:20260305T180306Z
UID:10003803-1851849000-1851852600@larfpa.org
SUMMARY:Las Vegas Blueline Group Luncheon
DESCRIPTION:Contact: \nJoe Germain – P: 702-580-2407\, E: germain.joe@cox.net
URL:https://larfpa.org/calendar-single-post-name/las-vegas-blueline-group-luncheon/2028-09-06/
LOCATION:Las Vegas Blueline Group Luncheon Meeting Location – Las Vegas National Golf Club\, 1911 E. Desert Inn Rd.\, Las Vegas\, NV\, 89169\, United States
CATEGORIES:LAPD Group Meeting,Retiree Group Meeting
ATTACH;FMTTYPE=image/png:https://larfpa.org/wp-content/uploads/2025/07/Untitled-design-2025-07-01T161726.101-scaled.png
END:VEVENT
BEGIN:VEVENT
DTSTART;TZID=America/Los_Angeles:20281004T103000
DTEND;TZID=America/Los_Angeles:20281004T113000
DTSTAMP:20260419T230746
CREATED:20221102T064209Z
LAST-MODIFIED:20260305T180306Z
UID:10003804-1854268200-1854271800@larfpa.org
SUMMARY:Las Vegas Blueline Group Luncheon
DESCRIPTION:Contact: \nJoe Germain – P: 702-580-2407\, E: germain.joe@cox.net
URL:https://larfpa.org/calendar-single-post-name/las-vegas-blueline-group-luncheon/2028-10-04/
LOCATION:Las Vegas Blueline Group Luncheon Meeting Location – Las Vegas National Golf Club\, 1911 E. Desert Inn Rd.\, Las Vegas\, NV\, 89169\, United States
CATEGORIES:LAPD Group Meeting,Retiree Group Meeting
ATTACH;FMTTYPE=image/png:https://larfpa.org/wp-content/uploads/2025/07/Untitled-design-2025-07-01T161726.101-scaled.png
END:VEVENT
BEGIN:VEVENT
DTSTART;TZID=America/Los_Angeles:20281101T103000
DTEND;TZID=America/Los_Angeles:20281101T113000
DTSTAMP:20260419T230746
CREATED:20221102T064209Z
LAST-MODIFIED:20260305T180306Z
UID:10003805-1856687400-1856691000@larfpa.org
SUMMARY:Las Vegas Blueline Group Luncheon
DESCRIPTION:Contact: \nJoe Germain – P: 702-580-2407\, E: germain.joe@cox.net
URL:https://larfpa.org/calendar-single-post-name/las-vegas-blueline-group-luncheon/2028-11-01/
LOCATION:Las Vegas Blueline Group Luncheon Meeting Location – Las Vegas National Golf Club\, 1911 E. Desert Inn Rd.\, Las Vegas\, NV\, 89169\, United States
CATEGORIES:LAPD Group Meeting,Retiree Group Meeting
ATTACH;FMTTYPE=image/png:https://larfpa.org/wp-content/uploads/2025/07/Untitled-design-2025-07-01T161726.101-scaled.png
END:VEVENT
BEGIN:VEVENT
DTSTART;TZID=America/Los_Angeles:20281206T103000
DTEND;TZID=America/Los_Angeles:20281206T113000
DTSTAMP:20260419T230746
CREATED:20221102T064209Z
LAST-MODIFIED:20260305T180306Z
UID:10003806-1859711400-1859715000@larfpa.org
SUMMARY:Las Vegas Blueline Group Luncheon
DESCRIPTION:Contact: \nJoe Germain – P: 702-580-2407\, E: germain.joe@cox.net
URL:https://larfpa.org/calendar-single-post-name/las-vegas-blueline-group-luncheon/2028-12-06/
LOCATION:Las Vegas Blueline Group Luncheon Meeting Location – Las Vegas National Golf Club\, 1911 E. Desert Inn Rd.\, Las Vegas\, NV\, 89169\, United States
CATEGORIES:LAPD Group Meeting,Retiree Group Meeting
ATTACH;FMTTYPE=image/png:https://larfpa.org/wp-content/uploads/2025/07/Untitled-design-2025-07-01T161726.101-scaled.png
END:VEVENT
BEGIN:VEVENT
DTSTART;TZID=America/Los_Angeles:20290103T103000
DTEND;TZID=America/Los_Angeles:20290103T113000
DTSTAMP:20260419T230746
CREATED:20221102T064209Z
LAST-MODIFIED:20260305T180306Z
UID:10003807-1862130600-1862134200@larfpa.org
SUMMARY:Las Vegas Blueline Group Luncheon
DESCRIPTION:Contact: \nJoe Germain – P: 702-580-2407\, E: germain.joe@cox.net
URL:https://larfpa.org/calendar-single-post-name/las-vegas-blueline-group-luncheon/2029-01-03/
LOCATION:Las Vegas Blueline Group Luncheon Meeting Location – Las Vegas National Golf Club\, 1911 E. Desert Inn Rd.\, Las Vegas\, NV\, 89169\, United States
CATEGORIES:LAPD Group Meeting,Retiree Group Meeting
ATTACH;FMTTYPE=image/png:https://larfpa.org/wp-content/uploads/2025/07/Untitled-design-2025-07-01T161726.101-scaled.png
END:VEVENT
BEGIN:VEVENT
DTSTART;TZID=America/Los_Angeles:20290207T103000
DTEND;TZID=America/Los_Angeles:20290207T113000
DTSTAMP:20260419T230746
CREATED:20221102T064209Z
LAST-MODIFIED:20260305T180306Z
UID:10003808-1865154600-1865158200@larfpa.org
SUMMARY:Las Vegas Blueline Group Luncheon
DESCRIPTION:Contact: \nJoe Germain – P: 702-580-2407\, E: germain.joe@cox.net
URL:https://larfpa.org/calendar-single-post-name/las-vegas-blueline-group-luncheon/2029-02-07/
LOCATION:Las Vegas Blueline Group Luncheon Meeting Location – Las Vegas National Golf Club\, 1911 E. Desert Inn Rd.\, Las Vegas\, NV\, 89169\, United States
CATEGORIES:LAPD Group Meeting,Retiree Group Meeting
ATTACH;FMTTYPE=image/png:https://larfpa.org/wp-content/uploads/2025/07/Untitled-design-2025-07-01T161726.101-scaled.png
END:VEVENT
BEGIN:VEVENT
DTSTART;TZID=America/Los_Angeles:20290307T103000
DTEND;TZID=America/Los_Angeles:20290307T113000
DTSTAMP:20260419T230746
CREATED:20221102T064209Z
LAST-MODIFIED:20260305T180306Z
UID:10003809-1867573800-1867577400@larfpa.org
SUMMARY:Las Vegas Blueline Group Luncheon
DESCRIPTION:Contact: \nJoe Germain – P: 702-580-2407\, E: germain.joe@cox.net
URL:https://larfpa.org/calendar-single-post-name/las-vegas-blueline-group-luncheon/2029-03-07/
LOCATION:Las Vegas Blueline Group Luncheon Meeting Location – Las Vegas National Golf Club\, 1911 E. Desert Inn Rd.\, Las Vegas\, NV\, 89169\, United States
CATEGORIES:LAPD Group Meeting,Retiree Group Meeting
ATTACH;FMTTYPE=image/png:https://larfpa.org/wp-content/uploads/2025/07/Untitled-design-2025-07-01T161726.101-scaled.png
END:VEVENT
BEGIN:VEVENT
DTSTART;TZID=America/Los_Angeles:20290404T103000
DTEND;TZID=America/Los_Angeles:20290404T113000
DTSTAMP:20260419T230747
CREATED:20221102T064209Z
LAST-MODIFIED:20260305T180306Z
UID:10003810-1869993000-1869996600@larfpa.org
SUMMARY:Las Vegas Blueline Group Luncheon
DESCRIPTION:Contact: \nJoe Germain – P: 702-580-2407\, E: germain.joe@cox.net
URL:https://larfpa.org/calendar-single-post-name/las-vegas-blueline-group-luncheon/2029-04-04/
LOCATION:Las Vegas Blueline Group Luncheon Meeting Location – Las Vegas National Golf Club\, 1911 E. Desert Inn Rd.\, Las Vegas\, NV\, 89169\, United States
CATEGORIES:LAPD Group Meeting,Retiree Group Meeting
ATTACH;FMTTYPE=image/png:https://larfpa.org/wp-content/uploads/2025/07/Untitled-design-2025-07-01T161726.101-scaled.png
END:VEVENT
BEGIN:VEVENT
DTSTART;TZID=America/Los_Angeles:20290502T103000
DTEND;TZID=America/Los_Angeles:20290502T113000
DTSTAMP:20260419T230747
CREATED:20221102T064209Z
LAST-MODIFIED:20260305T180306Z
UID:10003811-1872412200-1872415800@larfpa.org
SUMMARY:Las Vegas Blueline Group Luncheon
DESCRIPTION:Contact: \nJoe Germain – P: 702-580-2407\, E: germain.joe@cox.net
URL:https://larfpa.org/calendar-single-post-name/las-vegas-blueline-group-luncheon/2029-05-02/
LOCATION:Las Vegas Blueline Group Luncheon Meeting Location – Las Vegas National Golf Club\, 1911 E. Desert Inn Rd.\, Las Vegas\, NV\, 89169\, United States
CATEGORIES:LAPD Group Meeting,Retiree Group Meeting
ATTACH;FMTTYPE=image/png:https://larfpa.org/wp-content/uploads/2025/07/Untitled-design-2025-07-01T161726.101-scaled.png
END:VEVENT
BEGIN:VEVENT
DTSTART;TZID=America/Los_Angeles:20290606T103000
DTEND;TZID=America/Los_Angeles:20290606T113000
DTSTAMP:20260419T230747
CREATED:20221102T064209Z
LAST-MODIFIED:20260305T180306Z
UID:10003812-1875436200-1875439800@larfpa.org
SUMMARY:Las Vegas Blueline Group Luncheon
DESCRIPTION:Contact: \nJoe Germain – P: 702-580-2407\, E: germain.joe@cox.net
URL:https://larfpa.org/calendar-single-post-name/las-vegas-blueline-group-luncheon/2029-06-06/
LOCATION:Las Vegas Blueline Group Luncheon Meeting Location – Las Vegas National Golf Club\, 1911 E. Desert Inn Rd.\, Las Vegas\, NV\, 89169\, United States
CATEGORIES:LAPD Group Meeting,Retiree Group Meeting
ATTACH;FMTTYPE=image/png:https://larfpa.org/wp-content/uploads/2025/07/Untitled-design-2025-07-01T161726.101-scaled.png
END:VEVENT
BEGIN:VEVENT
DTSTART;TZID=America/Los_Angeles:20290704T103000
DTEND;TZID=America/Los_Angeles:20290704T113000
DTSTAMP:20260419T230747
CREATED:20221102T064209Z
LAST-MODIFIED:20260305T180306Z
UID:10003813-1877855400-1877859000@larfpa.org
SUMMARY:Las Vegas Blueline Group Luncheon
DESCRIPTION:Contact: \nJoe Germain – P: 702-580-2407\, E: germain.joe@cox.net
URL:https://larfpa.org/calendar-single-post-name/las-vegas-blueline-group-luncheon/2029-07-04/
LOCATION:Las Vegas Blueline Group Luncheon Meeting Location – Las Vegas National Golf Club\, 1911 E. Desert Inn Rd.\, Las Vegas\, NV\, 89169\, United States
CATEGORIES:LAPD Group Meeting,Retiree Group Meeting
ATTACH;FMTTYPE=image/png:https://larfpa.org/wp-content/uploads/2025/07/Untitled-design-2025-07-01T161726.101-scaled.png
END:VEVENT
BEGIN:VEVENT
DTSTART;TZID=America/Los_Angeles:20290801T103000
DTEND;TZID=America/Los_Angeles:20290801T113000
DTSTAMP:20260419T230747
CREATED:20221102T064209Z
LAST-MODIFIED:20260305T180306Z
UID:10003814-1880274600-1880278200@larfpa.org
SUMMARY:Las Vegas Blueline Group Luncheon
DESCRIPTION:Contact: \nJoe Germain – P: 702-580-2407\, E: germain.joe@cox.net
URL:https://larfpa.org/calendar-single-post-name/las-vegas-blueline-group-luncheon/2029-08-01/
LOCATION:Las Vegas Blueline Group Luncheon Meeting Location – Las Vegas National Golf Club\, 1911 E. Desert Inn Rd.\, Las Vegas\, NV\, 89169\, United States
CATEGORIES:LAPD Group Meeting,Retiree Group Meeting
ATTACH;FMTTYPE=image/png:https://larfpa.org/wp-content/uploads/2025/07/Untitled-design-2025-07-01T161726.101-scaled.png
END:VEVENT
BEGIN:VEVENT
DTSTART;TZID=America/Los_Angeles:20290905T103000
DTEND;TZID=America/Los_Angeles:20290905T113000
DTSTAMP:20260419T230747
CREATED:20221102T064209Z
LAST-MODIFIED:20260305T180306Z
UID:10003815-1883298600-1883302200@larfpa.org
SUMMARY:Las Vegas Blueline Group Luncheon
DESCRIPTION:Contact: \nJoe Germain – P: 702-580-2407\, E: germain.joe@cox.net
URL:https://larfpa.org/calendar-single-post-name/las-vegas-blueline-group-luncheon/2029-09-05/
LOCATION:Las Vegas Blueline Group Luncheon Meeting Location – Las Vegas National Golf Club\, 1911 E. Desert Inn Rd.\, Las Vegas\, NV\, 89169\, United States
CATEGORIES:LAPD Group Meeting,Retiree Group Meeting
ATTACH;FMTTYPE=image/png:https://larfpa.org/wp-content/uploads/2025/07/Untitled-design-2025-07-01T161726.101-scaled.png
END:VEVENT
BEGIN:VEVENT
DTSTART;TZID=America/Los_Angeles:20291003T103000
DTEND;TZID=America/Los_Angeles:20291003T113000
DTSTAMP:20260419T230747
CREATED:20221102T064209Z
LAST-MODIFIED:20260305T180306Z
UID:10003816-1885717800-1885721400@larfpa.org
SUMMARY:Las Vegas Blueline Group Luncheon
DESCRIPTION:Contact: \nJoe Germain – P: 702-580-2407\, E: germain.joe@cox.net
URL:https://larfpa.org/calendar-single-post-name/las-vegas-blueline-group-luncheon/2029-10-03/
LOCATION:Las Vegas Blueline Group Luncheon Meeting Location – Las Vegas National Golf Club\, 1911 E. Desert Inn Rd.\, Las Vegas\, NV\, 89169\, United States
CATEGORIES:LAPD Group Meeting,Retiree Group Meeting
ATTACH;FMTTYPE=image/png:https://larfpa.org/wp-content/uploads/2025/07/Untitled-design-2025-07-01T161726.101-scaled.png
END:VEVENT
BEGIN:VEVENT
DTSTART;TZID=America/Los_Angeles:20291107T103000
DTEND;TZID=America/Los_Angeles:20291107T113000
DTSTAMP:20260419T230747
CREATED:20221102T064209Z
LAST-MODIFIED:20260305T180306Z
UID:10003817-1888741800-1888745400@larfpa.org
SUMMARY:Las Vegas Blueline Group Luncheon
DESCRIPTION:Contact: \nJoe Germain – P: 702-580-2407\, E: germain.joe@cox.net
URL:https://larfpa.org/calendar-single-post-name/las-vegas-blueline-group-luncheon/2029-11-07/
LOCATION:Las Vegas Blueline Group Luncheon Meeting Location – Las Vegas National Golf Club\, 1911 E. Desert Inn Rd.\, Las Vegas\, NV\, 89169\, United States
CATEGORIES:LAPD Group Meeting,Retiree Group Meeting
ATTACH;FMTTYPE=image/png:https://larfpa.org/wp-content/uploads/2025/07/Untitled-design-2025-07-01T161726.101-scaled.png
END:VEVENT
BEGIN:VEVENT
DTSTART;TZID=America/Los_Angeles:20291205T103000
DTEND;TZID=America/Los_Angeles:20291205T113000
DTSTAMP:20260419T230747
CREATED:20221102T064209Z
LAST-MODIFIED:20260305T180306Z
UID:10003818-1891161000-1891164600@larfpa.org
SUMMARY:Las Vegas Blueline Group Luncheon
DESCRIPTION:Contact: \nJoe Germain – P: 702-580-2407\, E: germain.joe@cox.net
URL:https://larfpa.org/calendar-single-post-name/las-vegas-blueline-group-luncheon/2029-12-05/
LOCATION:Las Vegas Blueline Group Luncheon Meeting Location – Las Vegas National Golf Club\, 1911 E. Desert Inn Rd.\, Las Vegas\, NV\, 89169\, United States
CATEGORIES:LAPD Group Meeting,Retiree Group Meeting
ATTACH;FMTTYPE=image/png:https://larfpa.org/wp-content/uploads/2025/07/Untitled-design-2025-07-01T161726.101-scaled.png
END:VEVENT
BEGIN:VEVENT
DTSTART;TZID=America/Los_Angeles:20300102T103000
DTEND;TZID=America/Los_Angeles:20300102T113000
DTSTAMP:20260419T230747
CREATED:20221102T064209Z
LAST-MODIFIED:20260305T180306Z
UID:10003819-1893580200-1893583800@larfpa.org
SUMMARY:Las Vegas Blueline Group Luncheon
DESCRIPTION:Contact: \nJoe Germain – P: 702-580-2407\, E: germain.joe@cox.net
URL:https://larfpa.org/calendar-single-post-name/las-vegas-blueline-group-luncheon/2030-01-02/
LOCATION:Las Vegas Blueline Group Luncheon Meeting Location – Las Vegas National Golf Club\, 1911 E. Desert Inn Rd.\, Las Vegas\, NV\, 89169\, United States
CATEGORIES:LAPD Group Meeting,Retiree Group Meeting
ATTACH;FMTTYPE=image/png:https://larfpa.org/wp-content/uploads/2025/07/Untitled-design-2025-07-01T161726.101-scaled.png
END:VEVENT
BEGIN:VEVENT
DTSTART;TZID=America/Los_Angeles:20300206T103000
DTEND;TZID=America/Los_Angeles:20300206T113000
DTSTAMP:20260419T230747
CREATED:20221102T064209Z
LAST-MODIFIED:20260305T180306Z
UID:10003820-1896604200-1896607800@larfpa.org
SUMMARY:Las Vegas Blueline Group Luncheon
DESCRIPTION:Contact: \nJoe Germain – P: 702-580-2407\, E: germain.joe@cox.net
URL:https://larfpa.org/calendar-single-post-name/las-vegas-blueline-group-luncheon/2030-02-06/
LOCATION:Las Vegas Blueline Group Luncheon Meeting Location – Las Vegas National Golf Club\, 1911 E. Desert Inn Rd.\, Las Vegas\, NV\, 89169\, United States
CATEGORIES:LAPD Group Meeting,Retiree Group Meeting
ATTACH;FMTTYPE=image/png:https://larfpa.org/wp-content/uploads/2025/07/Untitled-design-2025-07-01T161726.101-scaled.png
END:VEVENT
BEGIN:VEVENT
DTSTART;TZID=America/Los_Angeles:20300306T103000
DTEND;TZID=America/Los_Angeles:20300306T113000
DTSTAMP:20260419T230747
CREATED:20221102T064209Z
LAST-MODIFIED:20260305T180306Z
UID:10003821-1899023400-1899027000@larfpa.org
SUMMARY:Las Vegas Blueline Group Luncheon
DESCRIPTION:Contact: \nJoe Germain – P: 702-580-2407\, E: germain.joe@cox.net
URL:https://larfpa.org/calendar-single-post-name/las-vegas-blueline-group-luncheon/2030-03-06/
LOCATION:Las Vegas Blueline Group Luncheon Meeting Location – Las Vegas National Golf Club\, 1911 E. Desert Inn Rd.\, Las Vegas\, NV\, 89169\, United States
CATEGORIES:LAPD Group Meeting,Retiree Group Meeting
ATTACH;FMTTYPE=image/png:https://larfpa.org/wp-content/uploads/2025/07/Untitled-design-2025-07-01T161726.101-scaled.png
END:VEVENT
BEGIN:VEVENT
DTSTART;TZID=America/Los_Angeles:20300403T103000
DTEND;TZID=America/Los_Angeles:20300403T113000
DTSTAMP:20260419T230747
CREATED:20221102T064209Z
LAST-MODIFIED:20260305T180306Z
UID:10003822-1901442600-1901446200@larfpa.org
SUMMARY:Las Vegas Blueline Group Luncheon
DESCRIPTION:Contact: \nJoe Germain – P: 702-580-2407\, E: germain.joe@cox.net
URL:https://larfpa.org/calendar-single-post-name/las-vegas-blueline-group-luncheon/2030-04-03/
LOCATION:Las Vegas Blueline Group Luncheon Meeting Location – Las Vegas National Golf Club\, 1911 E. Desert Inn Rd.\, Las Vegas\, NV\, 89169\, United States
CATEGORIES:LAPD Group Meeting,Retiree Group Meeting
ATTACH;FMTTYPE=image/png:https://larfpa.org/wp-content/uploads/2025/07/Untitled-design-2025-07-01T161726.101-scaled.png
END:VEVENT
BEGIN:VEVENT
DTSTART;TZID=America/Los_Angeles:20300501T103000
DTEND;TZID=America/Los_Angeles:20300501T113000
DTSTAMP:20260419T230747
CREATED:20221102T064209Z
LAST-MODIFIED:20260305T180306Z
UID:10003823-1903861800-1903865400@larfpa.org
SUMMARY:Las Vegas Blueline Group Luncheon
DESCRIPTION:Contact: \nJoe Germain – P: 702-580-2407\, E: germain.joe@cox.net
URL:https://larfpa.org/calendar-single-post-name/las-vegas-blueline-group-luncheon/2030-05-01/
LOCATION:Las Vegas Blueline Group Luncheon Meeting Location – Las Vegas National Golf Club\, 1911 E. Desert Inn Rd.\, Las Vegas\, NV\, 89169\, United States
CATEGORIES:LAPD Group Meeting,Retiree Group Meeting
ATTACH;FMTTYPE=image/png:https://larfpa.org/wp-content/uploads/2025/07/Untitled-design-2025-07-01T161726.101-scaled.png
END:VEVENT
BEGIN:VEVENT
DTSTART;TZID=America/Los_Angeles:20300605T103000
DTEND;TZID=America/Los_Angeles:20300605T113000
DTSTAMP:20260419T230747
CREATED:20221102T064209Z
LAST-MODIFIED:20260305T180306Z
UID:10003824-1906885800-1906889400@larfpa.org
SUMMARY:Las Vegas Blueline Group Luncheon
DESCRIPTION:Contact: \nJoe Germain – P: 702-580-2407\, E: germain.joe@cox.net
URL:https://larfpa.org/calendar-single-post-name/las-vegas-blueline-group-luncheon/2030-06-05/
LOCATION:Las Vegas Blueline Group Luncheon Meeting Location – Las Vegas National Golf Club\, 1911 E. Desert Inn Rd.\, Las Vegas\, NV\, 89169\, United States
CATEGORIES:LAPD Group Meeting,Retiree Group Meeting
ATTACH;FMTTYPE=image/png:https://larfpa.org/wp-content/uploads/2025/07/Untitled-design-2025-07-01T161726.101-scaled.png
END:VEVENT
BEGIN:VEVENT
DTSTART;TZID=America/Los_Angeles:20300703T103000
DTEND;TZID=America/Los_Angeles:20300703T113000
DTSTAMP:20260419T230747
CREATED:20221102T064209Z
LAST-MODIFIED:20260305T180306Z
UID:10003825-1909305000-1909308600@larfpa.org
SUMMARY:Las Vegas Blueline Group Luncheon
DESCRIPTION:Contact: \nJoe Germain – P: 702-580-2407\, E: germain.joe@cox.net
URL:https://larfpa.org/calendar-single-post-name/las-vegas-blueline-group-luncheon/2030-07-03/
LOCATION:Las Vegas Blueline Group Luncheon Meeting Location – Las Vegas National Golf Club\, 1911 E. Desert Inn Rd.\, Las Vegas\, NV\, 89169\, United States
CATEGORIES:LAPD Group Meeting,Retiree Group Meeting
ATTACH;FMTTYPE=image/png:https://larfpa.org/wp-content/uploads/2025/07/Untitled-design-2025-07-01T161726.101-scaled.png
END:VEVENT
BEGIN:VEVENT
DTSTART;TZID=America/Los_Angeles:20300807T103000
DTEND;TZID=America/Los_Angeles:20300807T113000
DTSTAMP:20260419T230747
CREATED:20221102T064209Z
LAST-MODIFIED:20260305T180306Z
UID:10003826-1912329000-1912332600@larfpa.org
SUMMARY:Las Vegas Blueline Group Luncheon
DESCRIPTION:Contact: \nJoe Germain – P: 702-580-2407\, E: germain.joe@cox.net
URL:https://larfpa.org/calendar-single-post-name/las-vegas-blueline-group-luncheon/2030-08-07/
LOCATION:Las Vegas Blueline Group Luncheon Meeting Location – Las Vegas National Golf Club\, 1911 E. Desert Inn Rd.\, Las Vegas\, NV\, 89169\, United States
CATEGORIES:LAPD Group Meeting,Retiree Group Meeting
ATTACH;FMTTYPE=image/png:https://larfpa.org/wp-content/uploads/2025/07/Untitled-design-2025-07-01T161726.101-scaled.png
END:VEVENT
BEGIN:VEVENT
DTSTART;TZID=America/Los_Angeles:20300904T103000
DTEND;TZID=America/Los_Angeles:20300904T113000
DTSTAMP:20260419T230747
CREATED:20221102T064209Z
LAST-MODIFIED:20260305T180306Z
UID:10003827-1914748200-1914751800@larfpa.org
SUMMARY:Las Vegas Blueline Group Luncheon
DESCRIPTION:Contact: \nJoe Germain – P: 702-580-2407\, E: germain.joe@cox.net
URL:https://larfpa.org/calendar-single-post-name/las-vegas-blueline-group-luncheon/2030-09-04/
LOCATION:Las Vegas Blueline Group Luncheon Meeting Location – Las Vegas National Golf Club\, 1911 E. Desert Inn Rd.\, Las Vegas\, NV\, 89169\, United States
CATEGORIES:LAPD Group Meeting,Retiree Group Meeting
ATTACH;FMTTYPE=image/png:https://larfpa.org/wp-content/uploads/2025/07/Untitled-design-2025-07-01T161726.101-scaled.png
END:VEVENT
BEGIN:VEVENT
DTSTART;TZID=America/Los_Angeles:20301002T103000
DTEND;TZID=America/Los_Angeles:20301002T113000
DTSTAMP:20260419T230747
CREATED:20221102T064209Z
LAST-MODIFIED:20260305T180306Z
UID:10003828-1917167400-1917171000@larfpa.org
SUMMARY:Las Vegas Blueline Group Luncheon
DESCRIPTION:Contact: \nJoe Germain – P: 702-580-2407\, E: germain.joe@cox.net
URL:https://larfpa.org/calendar-single-post-name/las-vegas-blueline-group-luncheon/2030-10-02/
LOCATION:Las Vegas Blueline Group Luncheon Meeting Location – Las Vegas National Golf Club\, 1911 E. Desert Inn Rd.\, Las Vegas\, NV\, 89169\, United States
CATEGORIES:LAPD Group Meeting,Retiree Group Meeting
ATTACH;FMTTYPE=image/png:https://larfpa.org/wp-content/uploads/2025/07/Untitled-design-2025-07-01T161726.101-scaled.png
END:VEVENT
END:VCALENDAR