BEGIN:VCALENDAR
VERSION:2.0
PRODID:-//LARFPA - ECPv6.15.20//NONSGML v1.0//EN
CALSCALE:GREGORIAN
METHOD:PUBLISH
X-WR-CALNAME:LARFPA
X-ORIGINAL-URL:https://larfpa.org
X-WR-CALDESC:Events for LARFPA
REFRESH-INTERVAL;VALUE=DURATION:PT1H
X-Robots-Tag:noindex
X-PUBLISHED-TTL:PT1H
BEGIN:VTIMEZONE
TZID:America/Los_Angeles
BEGIN:DAYLIGHT
TZOFFSETFROM:-0800
TZOFFSETTO:-0700
TZNAME:PDT
DTSTART:20250309T100000
END:DAYLIGHT
BEGIN:STANDARD
TZOFFSETFROM:-0700
TZOFFSETTO:-0800
TZNAME:PST
DTSTART:20251102T090000
END:STANDARD
BEGIN:DAYLIGHT
TZOFFSETFROM:-0800
TZOFFSETTO:-0700
TZNAME:PDT
DTSTART:20260308T100000
END:DAYLIGHT
BEGIN:STANDARD
TZOFFSETFROM:-0700
TZOFFSETTO:-0800
TZNAME:PST
DTSTART:20261101T090000
END:STANDARD
BEGIN:DAYLIGHT
TZOFFSETFROM:-0800
TZOFFSETTO:-0700
TZNAME:PDT
DTSTART:20270314T100000
END:DAYLIGHT
BEGIN:STANDARD
TZOFFSETFROM:-0700
TZOFFSETTO:-0800
TZNAME:PST
DTSTART:20271107T090000
END:STANDARD
BEGIN:DAYLIGHT
TZOFFSETFROM:-0800
TZOFFSETTO:-0700
TZNAME:PDT
DTSTART:20280312T100000
END:DAYLIGHT
BEGIN:STANDARD
TZOFFSETFROM:-0700
TZOFFSETTO:-0800
TZNAME:PST
DTSTART:20281105T090000
END:STANDARD
BEGIN:DAYLIGHT
TZOFFSETFROM:-0800
TZOFFSETTO:-0700
TZNAME:PDT
DTSTART:20290311T100000
END:DAYLIGHT
BEGIN:STANDARD
TZOFFSETFROM:-0700
TZOFFSETTO:-0800
TZNAME:PST
DTSTART:20291104T090000
END:STANDARD
END:VTIMEZONE
BEGIN:VEVENT
DTSTART;TZID=America/Los_Angeles:20260506T103000
DTEND;TZID=America/Los_Angeles:20260506T113000
DTSTAMP:20260419T213700
CREATED:20221102T064209Z
LAST-MODIFIED:20260305T180306Z
UID:10003775-1778063400-1778067000@larfpa.org
SUMMARY:Las Vegas Blueline Group Luncheon
DESCRIPTION:Contact: \nJoe Germain – P: 702-580-2407\, E: germain.joe@cox.net
URL:https://larfpa.org/calendar-single-post-name/las-vegas-blueline-group-luncheon/2026-05-06/
LOCATION:Las Vegas Blueline Group Luncheon Meeting Location – Las Vegas National Golf Club\, 1911 E. Desert Inn Rd.\, Las Vegas\, NV\, 89169\, United States
CATEGORIES:LAPD Group Meeting,Retiree Group Meeting
ATTACH;FMTTYPE=image/png:https://larfpa.org/wp-content/uploads/2025/07/Untitled-design-2025-07-01T161726.101-scaled.png
END:VEVENT
BEGIN:VEVENT
DTSTART;TZID=America/Los_Angeles:20260603T103000
DTEND;TZID=America/Los_Angeles:20260603T113000
DTSTAMP:20260419T213700
CREATED:20221102T064209Z
LAST-MODIFIED:20260305T180306Z
UID:10003776-1780482600-1780486200@larfpa.org
SUMMARY:Las Vegas Blueline Group Luncheon
DESCRIPTION:Contact: \nJoe Germain – P: 702-580-2407\, E: germain.joe@cox.net
URL:https://larfpa.org/calendar-single-post-name/las-vegas-blueline-group-luncheon/2026-06-03/
LOCATION:Las Vegas Blueline Group Luncheon Meeting Location – Las Vegas National Golf Club\, 1911 E. Desert Inn Rd.\, Las Vegas\, NV\, 89169\, United States
CATEGORIES:LAPD Group Meeting,Retiree Group Meeting
ATTACH;FMTTYPE=image/png:https://larfpa.org/wp-content/uploads/2025/07/Untitled-design-2025-07-01T161726.101-scaled.png
END:VEVENT
BEGIN:VEVENT
DTSTART;TZID=America/Los_Angeles:20260701T103000
DTEND;TZID=America/Los_Angeles:20260701T113000
DTSTAMP:20260419T213700
CREATED:20221102T064209Z
LAST-MODIFIED:20260305T180306Z
UID:10003777-1782901800-1782905400@larfpa.org
SUMMARY:Las Vegas Blueline Group Luncheon
DESCRIPTION:Contact: \nJoe Germain – P: 702-580-2407\, E: germain.joe@cox.net
URL:https://larfpa.org/calendar-single-post-name/las-vegas-blueline-group-luncheon/2026-07-01/
LOCATION:Las Vegas Blueline Group Luncheon Meeting Location – Las Vegas National Golf Club\, 1911 E. Desert Inn Rd.\, Las Vegas\, NV\, 89169\, United States
CATEGORIES:LAPD Group Meeting,Retiree Group Meeting
ATTACH;FMTTYPE=image/png:https://larfpa.org/wp-content/uploads/2025/07/Untitled-design-2025-07-01T161726.101-scaled.png
END:VEVENT
BEGIN:VEVENT
DTSTART;TZID=America/Los_Angeles:20260805T103000
DTEND;TZID=America/Los_Angeles:20260805T113000
DTSTAMP:20260419T213700
CREATED:20221102T064209Z
LAST-MODIFIED:20260305T180306Z
UID:10003778-1785925800-1785929400@larfpa.org
SUMMARY:Las Vegas Blueline Group Luncheon
DESCRIPTION:Contact: \nJoe Germain – P: 702-580-2407\, E: germain.joe@cox.net
URL:https://larfpa.org/calendar-single-post-name/las-vegas-blueline-group-luncheon/2026-08-05/
LOCATION:Las Vegas Blueline Group Luncheon Meeting Location – Las Vegas National Golf Club\, 1911 E. Desert Inn Rd.\, Las Vegas\, NV\, 89169\, United States
CATEGORIES:LAPD Group Meeting,Retiree Group Meeting
ATTACH;FMTTYPE=image/png:https://larfpa.org/wp-content/uploads/2025/07/Untitled-design-2025-07-01T161726.101-scaled.png
END:VEVENT
BEGIN:VEVENT
DTSTART;TZID=America/Los_Angeles:20260902T103000
DTEND;TZID=America/Los_Angeles:20260902T113000
DTSTAMP:20260419T213700
CREATED:20221102T064209Z
LAST-MODIFIED:20260305T180306Z
UID:10003779-1788345000-1788348600@larfpa.org
SUMMARY:Las Vegas Blueline Group Luncheon
DESCRIPTION:Contact: \nJoe Germain – P: 702-580-2407\, E: germain.joe@cox.net
URL:https://larfpa.org/calendar-single-post-name/las-vegas-blueline-group-luncheon/2026-09-02/
LOCATION:Las Vegas Blueline Group Luncheon Meeting Location – Las Vegas National Golf Club\, 1911 E. Desert Inn Rd.\, Las Vegas\, NV\, 89169\, United States
CATEGORIES:LAPD Group Meeting,Retiree Group Meeting
ATTACH;FMTTYPE=image/png:https://larfpa.org/wp-content/uploads/2025/07/Untitled-design-2025-07-01T161726.101-scaled.png
END:VEVENT
BEGIN:VEVENT
DTSTART;TZID=America/Los_Angeles:20261007T103000
DTEND;TZID=America/Los_Angeles:20261007T113000
DTSTAMP:20260419T213700
CREATED:20221102T064209Z
LAST-MODIFIED:20260305T180306Z
UID:10003780-1791369000-1791372600@larfpa.org
SUMMARY:Las Vegas Blueline Group Luncheon
DESCRIPTION:Contact: \nJoe Germain – P: 702-580-2407\, E: germain.joe@cox.net
URL:https://larfpa.org/calendar-single-post-name/las-vegas-blueline-group-luncheon/2026-10-07/
LOCATION:Las Vegas Blueline Group Luncheon Meeting Location – Las Vegas National Golf Club\, 1911 E. Desert Inn Rd.\, Las Vegas\, NV\, 89169\, United States
CATEGORIES:LAPD Group Meeting,Retiree Group Meeting
ATTACH;FMTTYPE=image/png:https://larfpa.org/wp-content/uploads/2025/07/Untitled-design-2025-07-01T161726.101-scaled.png
END:VEVENT
BEGIN:VEVENT
DTSTART;TZID=America/Los_Angeles:20261104T103000
DTEND;TZID=America/Los_Angeles:20261104T113000
DTSTAMP:20260419T213700
CREATED:20221102T064209Z
LAST-MODIFIED:20260305T180306Z
UID:10003781-1793788200-1793791800@larfpa.org
SUMMARY:Las Vegas Blueline Group Luncheon
DESCRIPTION:Contact: \nJoe Germain – P: 702-580-2407\, E: germain.joe@cox.net
URL:https://larfpa.org/calendar-single-post-name/las-vegas-blueline-group-luncheon/2026-11-04/
LOCATION:Las Vegas Blueline Group Luncheon Meeting Location – Las Vegas National Golf Club\, 1911 E. Desert Inn Rd.\, Las Vegas\, NV\, 89169\, United States
CATEGORIES:LAPD Group Meeting,Retiree Group Meeting
ATTACH;FMTTYPE=image/png:https://larfpa.org/wp-content/uploads/2025/07/Untitled-design-2025-07-01T161726.101-scaled.png
END:VEVENT
BEGIN:VEVENT
DTSTART;TZID=America/Los_Angeles:20261202T103000
DTEND;TZID=America/Los_Angeles:20261202T113000
DTSTAMP:20260419T213700
CREATED:20221102T064209Z
LAST-MODIFIED:20260305T180306Z
UID:10003782-1796207400-1796211000@larfpa.org
SUMMARY:Las Vegas Blueline Group Luncheon
DESCRIPTION:Contact: \nJoe Germain – P: 702-580-2407\, E: germain.joe@cox.net
URL:https://larfpa.org/calendar-single-post-name/las-vegas-blueline-group-luncheon/2026-12-02/
LOCATION:Las Vegas Blueline Group Luncheon Meeting Location – Las Vegas National Golf Club\, 1911 E. Desert Inn Rd.\, Las Vegas\, NV\, 89169\, United States
CATEGORIES:LAPD Group Meeting,Retiree Group Meeting
ATTACH;FMTTYPE=image/png:https://larfpa.org/wp-content/uploads/2025/07/Untitled-design-2025-07-01T161726.101-scaled.png
END:VEVENT
BEGIN:VEVENT
DTSTART;TZID=America/Los_Angeles:20270106T103000
DTEND;TZID=America/Los_Angeles:20270106T113000
DTSTAMP:20260419T213700
CREATED:20221102T064209Z
LAST-MODIFIED:20260305T180306Z
UID:10003783-1799231400-1799235000@larfpa.org
SUMMARY:Las Vegas Blueline Group Luncheon
DESCRIPTION:Contact: \nJoe Germain – P: 702-580-2407\, E: germain.joe@cox.net
URL:https://larfpa.org/calendar-single-post-name/las-vegas-blueline-group-luncheon/2027-01-06/
LOCATION:Las Vegas Blueline Group Luncheon Meeting Location – Las Vegas National Golf Club\, 1911 E. Desert Inn Rd.\, Las Vegas\, NV\, 89169\, United States
CATEGORIES:LAPD Group Meeting,Retiree Group Meeting
ATTACH;FMTTYPE=image/png:https://larfpa.org/wp-content/uploads/2025/07/Untitled-design-2025-07-01T161726.101-scaled.png
END:VEVENT
BEGIN:VEVENT
DTSTART;TZID=America/Los_Angeles:20270203T103000
DTEND;TZID=America/Los_Angeles:20270203T113000
DTSTAMP:20260419T213700
CREATED:20221102T064209Z
LAST-MODIFIED:20260305T180306Z
UID:10003784-1801650600-1801654200@larfpa.org
SUMMARY:Las Vegas Blueline Group Luncheon
DESCRIPTION:Contact: \nJoe Germain – P: 702-580-2407\, E: germain.joe@cox.net
URL:https://larfpa.org/calendar-single-post-name/las-vegas-blueline-group-luncheon/2027-02-03/
LOCATION:Las Vegas Blueline Group Luncheon Meeting Location – Las Vegas National Golf Club\, 1911 E. Desert Inn Rd.\, Las Vegas\, NV\, 89169\, United States
CATEGORIES:LAPD Group Meeting,Retiree Group Meeting
ATTACH;FMTTYPE=image/png:https://larfpa.org/wp-content/uploads/2025/07/Untitled-design-2025-07-01T161726.101-scaled.png
END:VEVENT
BEGIN:VEVENT
DTSTART;TZID=America/Los_Angeles:20270303T103000
DTEND;TZID=America/Los_Angeles:20270303T113000
DTSTAMP:20260419T213700
CREATED:20221102T064209Z
LAST-MODIFIED:20260305T180306Z
UID:10003785-1804069800-1804073400@larfpa.org
SUMMARY:Las Vegas Blueline Group Luncheon
DESCRIPTION:Contact: \nJoe Germain – P: 702-580-2407\, E: germain.joe@cox.net
URL:https://larfpa.org/calendar-single-post-name/las-vegas-blueline-group-luncheon/2027-03-03/
LOCATION:Las Vegas Blueline Group Luncheon Meeting Location – Las Vegas National Golf Club\, 1911 E. Desert Inn Rd.\, Las Vegas\, NV\, 89169\, United States
CATEGORIES:LAPD Group Meeting,Retiree Group Meeting
ATTACH;FMTTYPE=image/png:https://larfpa.org/wp-content/uploads/2025/07/Untitled-design-2025-07-01T161726.101-scaled.png
END:VEVENT
BEGIN:VEVENT
DTSTART;TZID=America/Los_Angeles:20270407T103000
DTEND;TZID=America/Los_Angeles:20270407T113000
DTSTAMP:20260419T213700
CREATED:20221102T064209Z
LAST-MODIFIED:20260305T180306Z
UID:10003786-1807093800-1807097400@larfpa.org
SUMMARY:Las Vegas Blueline Group Luncheon
DESCRIPTION:Contact: \nJoe Germain – P: 702-580-2407\, E: germain.joe@cox.net
URL:https://larfpa.org/calendar-single-post-name/las-vegas-blueline-group-luncheon/2027-04-07/
LOCATION:Las Vegas Blueline Group Luncheon Meeting Location – Las Vegas National Golf Club\, 1911 E. Desert Inn Rd.\, Las Vegas\, NV\, 89169\, United States
CATEGORIES:LAPD Group Meeting,Retiree Group Meeting
ATTACH;FMTTYPE=image/png:https://larfpa.org/wp-content/uploads/2025/07/Untitled-design-2025-07-01T161726.101-scaled.png
END:VEVENT
BEGIN:VEVENT
DTSTART;TZID=America/Los_Angeles:20270505T103000
DTEND;TZID=America/Los_Angeles:20270505T113000
DTSTAMP:20260419T213700
CREATED:20221102T064209Z
LAST-MODIFIED:20260305T180306Z
UID:10003787-1809513000-1809516600@larfpa.org
SUMMARY:Las Vegas Blueline Group Luncheon
DESCRIPTION:Contact: \nJoe Germain – P: 702-580-2407\, E: germain.joe@cox.net
URL:https://larfpa.org/calendar-single-post-name/las-vegas-blueline-group-luncheon/2027-05-05/
LOCATION:Las Vegas Blueline Group Luncheon Meeting Location – Las Vegas National Golf Club\, 1911 E. Desert Inn Rd.\, Las Vegas\, NV\, 89169\, United States
CATEGORIES:LAPD Group Meeting,Retiree Group Meeting
ATTACH;FMTTYPE=image/png:https://larfpa.org/wp-content/uploads/2025/07/Untitled-design-2025-07-01T161726.101-scaled.png
END:VEVENT
BEGIN:VEVENT
DTSTART;TZID=America/Los_Angeles:20270602T103000
DTEND;TZID=America/Los_Angeles:20270602T113000
DTSTAMP:20260419T213700
CREATED:20221102T064209Z
LAST-MODIFIED:20260305T180306Z
UID:10003788-1811932200-1811935800@larfpa.org
SUMMARY:Las Vegas Blueline Group Luncheon
DESCRIPTION:Contact: \nJoe Germain – P: 702-580-2407\, E: germain.joe@cox.net
URL:https://larfpa.org/calendar-single-post-name/las-vegas-blueline-group-luncheon/2027-06-02/
LOCATION:Las Vegas Blueline Group Luncheon Meeting Location – Las Vegas National Golf Club\, 1911 E. Desert Inn Rd.\, Las Vegas\, NV\, 89169\, United States
CATEGORIES:LAPD Group Meeting,Retiree Group Meeting
ATTACH;FMTTYPE=image/png:https://larfpa.org/wp-content/uploads/2025/07/Untitled-design-2025-07-01T161726.101-scaled.png
END:VEVENT
BEGIN:VEVENT
DTSTART;TZID=America/Los_Angeles:20270707T103000
DTEND;TZID=America/Los_Angeles:20270707T113000
DTSTAMP:20260419T213700
CREATED:20221102T064209Z
LAST-MODIFIED:20260305T180306Z
UID:10003789-1814956200-1814959800@larfpa.org
SUMMARY:Las Vegas Blueline Group Luncheon
DESCRIPTION:Contact: \nJoe Germain – P: 702-580-2407\, E: germain.joe@cox.net
URL:https://larfpa.org/calendar-single-post-name/las-vegas-blueline-group-luncheon/2027-07-07/
LOCATION:Las Vegas Blueline Group Luncheon Meeting Location – Las Vegas National Golf Club\, 1911 E. Desert Inn Rd.\, Las Vegas\, NV\, 89169\, United States
CATEGORIES:LAPD Group Meeting,Retiree Group Meeting
ATTACH;FMTTYPE=image/png:https://larfpa.org/wp-content/uploads/2025/07/Untitled-design-2025-07-01T161726.101-scaled.png
END:VEVENT
BEGIN:VEVENT
DTSTART;TZID=America/Los_Angeles:20270804T103000
DTEND;TZID=America/Los_Angeles:20270804T113000
DTSTAMP:20260419T213700
CREATED:20221102T064209Z
LAST-MODIFIED:20260305T180306Z
UID:10003790-1817375400-1817379000@larfpa.org
SUMMARY:Las Vegas Blueline Group Luncheon
DESCRIPTION:Contact: \nJoe Germain – P: 702-580-2407\, E: germain.joe@cox.net
URL:https://larfpa.org/calendar-single-post-name/las-vegas-blueline-group-luncheon/2027-08-04/
LOCATION:Las Vegas Blueline Group Luncheon Meeting Location – Las Vegas National Golf Club\, 1911 E. Desert Inn Rd.\, Las Vegas\, NV\, 89169\, United States
CATEGORIES:LAPD Group Meeting,Retiree Group Meeting
ATTACH;FMTTYPE=image/png:https://larfpa.org/wp-content/uploads/2025/07/Untitled-design-2025-07-01T161726.101-scaled.png
END:VEVENT
BEGIN:VEVENT
DTSTART;TZID=America/Los_Angeles:20270901T103000
DTEND;TZID=America/Los_Angeles:20270901T113000
DTSTAMP:20260419T213700
CREATED:20221102T064209Z
LAST-MODIFIED:20260305T180306Z
UID:10003791-1819794600-1819798200@larfpa.org
SUMMARY:Las Vegas Blueline Group Luncheon
DESCRIPTION:Contact: \nJoe Germain – P: 702-580-2407\, E: germain.joe@cox.net
URL:https://larfpa.org/calendar-single-post-name/las-vegas-blueline-group-luncheon/2027-09-01/
LOCATION:Las Vegas Blueline Group Luncheon Meeting Location – Las Vegas National Golf Club\, 1911 E. Desert Inn Rd.\, Las Vegas\, NV\, 89169\, United States
CATEGORIES:LAPD Group Meeting,Retiree Group Meeting
ATTACH;FMTTYPE=image/png:https://larfpa.org/wp-content/uploads/2025/07/Untitled-design-2025-07-01T161726.101-scaled.png
END:VEVENT
BEGIN:VEVENT
DTSTART;TZID=America/Los_Angeles:20271006T103000
DTEND;TZID=America/Los_Angeles:20271006T113000
DTSTAMP:20260419T213700
CREATED:20221102T064209Z
LAST-MODIFIED:20260305T180306Z
UID:10003792-1822818600-1822822200@larfpa.org
SUMMARY:Las Vegas Blueline Group Luncheon
DESCRIPTION:Contact: \nJoe Germain – P: 702-580-2407\, E: germain.joe@cox.net
URL:https://larfpa.org/calendar-single-post-name/las-vegas-blueline-group-luncheon/2027-10-06/
LOCATION:Las Vegas Blueline Group Luncheon Meeting Location – Las Vegas National Golf Club\, 1911 E. Desert Inn Rd.\, Las Vegas\, NV\, 89169\, United States
CATEGORIES:LAPD Group Meeting,Retiree Group Meeting
ATTACH;FMTTYPE=image/png:https://larfpa.org/wp-content/uploads/2025/07/Untitled-design-2025-07-01T161726.101-scaled.png
END:VEVENT
BEGIN:VEVENT
DTSTART;TZID=America/Los_Angeles:20271103T103000
DTEND;TZID=America/Los_Angeles:20271103T113000
DTSTAMP:20260419T213700
CREATED:20221102T064209Z
LAST-MODIFIED:20260305T180306Z
UID:10003793-1825237800-1825241400@larfpa.org
SUMMARY:Las Vegas Blueline Group Luncheon
DESCRIPTION:Contact: \nJoe Germain – P: 702-580-2407\, E: germain.joe@cox.net
URL:https://larfpa.org/calendar-single-post-name/las-vegas-blueline-group-luncheon/2027-11-03/
LOCATION:Las Vegas Blueline Group Luncheon Meeting Location – Las Vegas National Golf Club\, 1911 E. Desert Inn Rd.\, Las Vegas\, NV\, 89169\, United States
CATEGORIES:LAPD Group Meeting,Retiree Group Meeting
ATTACH;FMTTYPE=image/png:https://larfpa.org/wp-content/uploads/2025/07/Untitled-design-2025-07-01T161726.101-scaled.png
END:VEVENT
BEGIN:VEVENT
DTSTART;TZID=America/Los_Angeles:20271201T103000
DTEND;TZID=America/Los_Angeles:20271201T113000
DTSTAMP:20260419T213700
CREATED:20221102T064209Z
LAST-MODIFIED:20260305T180306Z
UID:10003794-1827657000-1827660600@larfpa.org
SUMMARY:Las Vegas Blueline Group Luncheon
DESCRIPTION:Contact: \nJoe Germain – P: 702-580-2407\, E: germain.joe@cox.net
URL:https://larfpa.org/calendar-single-post-name/las-vegas-blueline-group-luncheon/2027-12-01/
LOCATION:Las Vegas Blueline Group Luncheon Meeting Location – Las Vegas National Golf Club\, 1911 E. Desert Inn Rd.\, Las Vegas\, NV\, 89169\, United States
CATEGORIES:LAPD Group Meeting,Retiree Group Meeting
ATTACH;FMTTYPE=image/png:https://larfpa.org/wp-content/uploads/2025/07/Untitled-design-2025-07-01T161726.101-scaled.png
END:VEVENT
BEGIN:VEVENT
DTSTART;TZID=America/Los_Angeles:20280105T103000
DTEND;TZID=America/Los_Angeles:20280105T113000
DTSTAMP:20260419T213700
CREATED:20221102T064209Z
LAST-MODIFIED:20260305T180306Z
UID:10003795-1830681000-1830684600@larfpa.org
SUMMARY:Las Vegas Blueline Group Luncheon
DESCRIPTION:Contact: \nJoe Germain – P: 702-580-2407\, E: germain.joe@cox.net
URL:https://larfpa.org/calendar-single-post-name/las-vegas-blueline-group-luncheon/2028-01-05/
LOCATION:Las Vegas Blueline Group Luncheon Meeting Location – Las Vegas National Golf Club\, 1911 E. Desert Inn Rd.\, Las Vegas\, NV\, 89169\, United States
CATEGORIES:LAPD Group Meeting,Retiree Group Meeting
ATTACH;FMTTYPE=image/png:https://larfpa.org/wp-content/uploads/2025/07/Untitled-design-2025-07-01T161726.101-scaled.png
END:VEVENT
BEGIN:VEVENT
DTSTART;TZID=America/Los_Angeles:20280202T103000
DTEND;TZID=America/Los_Angeles:20280202T113000
DTSTAMP:20260419T213700
CREATED:20221102T064209Z
LAST-MODIFIED:20260305T180306Z
UID:10003796-1833100200-1833103800@larfpa.org
SUMMARY:Las Vegas Blueline Group Luncheon
DESCRIPTION:Contact: \nJoe Germain – P: 702-580-2407\, E: germain.joe@cox.net
URL:https://larfpa.org/calendar-single-post-name/las-vegas-blueline-group-luncheon/2028-02-02/
LOCATION:Las Vegas Blueline Group Luncheon Meeting Location – Las Vegas National Golf Club\, 1911 E. Desert Inn Rd.\, Las Vegas\, NV\, 89169\, United States
CATEGORIES:LAPD Group Meeting,Retiree Group Meeting
ATTACH;FMTTYPE=image/png:https://larfpa.org/wp-content/uploads/2025/07/Untitled-design-2025-07-01T161726.101-scaled.png
END:VEVENT
BEGIN:VEVENT
DTSTART;TZID=America/Los_Angeles:20280301T103000
DTEND;TZID=America/Los_Angeles:20280301T113000
DTSTAMP:20260419T213700
CREATED:20221102T064209Z
LAST-MODIFIED:20260305T180306Z
UID:10003797-1835519400-1835523000@larfpa.org
SUMMARY:Las Vegas Blueline Group Luncheon
DESCRIPTION:Contact: \nJoe Germain – P: 702-580-2407\, E: germain.joe@cox.net
URL:https://larfpa.org/calendar-single-post-name/las-vegas-blueline-group-luncheon/2028-03-01/
LOCATION:Las Vegas Blueline Group Luncheon Meeting Location – Las Vegas National Golf Club\, 1911 E. Desert Inn Rd.\, Las Vegas\, NV\, 89169\, United States
CATEGORIES:LAPD Group Meeting,Retiree Group Meeting
ATTACH;FMTTYPE=image/png:https://larfpa.org/wp-content/uploads/2025/07/Untitled-design-2025-07-01T161726.101-scaled.png
END:VEVENT
BEGIN:VEVENT
DTSTART;TZID=America/Los_Angeles:20280405T103000
DTEND;TZID=America/Los_Angeles:20280405T113000
DTSTAMP:20260419T213700
CREATED:20221102T064209Z
LAST-MODIFIED:20260305T180306Z
UID:10003798-1838543400-1838547000@larfpa.org
SUMMARY:Las Vegas Blueline Group Luncheon
DESCRIPTION:Contact: \nJoe Germain – P: 702-580-2407\, E: germain.joe@cox.net
URL:https://larfpa.org/calendar-single-post-name/las-vegas-blueline-group-luncheon/2028-04-05/
LOCATION:Las Vegas Blueline Group Luncheon Meeting Location – Las Vegas National Golf Club\, 1911 E. Desert Inn Rd.\, Las Vegas\, NV\, 89169\, United States
CATEGORIES:LAPD Group Meeting,Retiree Group Meeting
ATTACH;FMTTYPE=image/png:https://larfpa.org/wp-content/uploads/2025/07/Untitled-design-2025-07-01T161726.101-scaled.png
END:VEVENT
BEGIN:VEVENT
DTSTART;TZID=America/Los_Angeles:20280503T103000
DTEND;TZID=America/Los_Angeles:20280503T113000
DTSTAMP:20260419T213700
CREATED:20221102T064209Z
LAST-MODIFIED:20260305T180306Z
UID:10003799-1840962600-1840966200@larfpa.org
SUMMARY:Las Vegas Blueline Group Luncheon
DESCRIPTION:Contact: \nJoe Germain – P: 702-580-2407\, E: germain.joe@cox.net
URL:https://larfpa.org/calendar-single-post-name/las-vegas-blueline-group-luncheon/2028-05-03/
LOCATION:Las Vegas Blueline Group Luncheon Meeting Location – Las Vegas National Golf Club\, 1911 E. Desert Inn Rd.\, Las Vegas\, NV\, 89169\, United States
CATEGORIES:LAPD Group Meeting,Retiree Group Meeting
ATTACH;FMTTYPE=image/png:https://larfpa.org/wp-content/uploads/2025/07/Untitled-design-2025-07-01T161726.101-scaled.png
END:VEVENT
BEGIN:VEVENT
DTSTART;TZID=America/Los_Angeles:20280607T103000
DTEND;TZID=America/Los_Angeles:20280607T113000
DTSTAMP:20260419T213700
CREATED:20221102T064209Z
LAST-MODIFIED:20260305T180306Z
UID:10003800-1843986600-1843990200@larfpa.org
SUMMARY:Las Vegas Blueline Group Luncheon
DESCRIPTION:Contact: \nJoe Germain – P: 702-580-2407\, E: germain.joe@cox.net
URL:https://larfpa.org/calendar-single-post-name/las-vegas-blueline-group-luncheon/2028-06-07/
LOCATION:Las Vegas Blueline Group Luncheon Meeting Location – Las Vegas National Golf Club\, 1911 E. Desert Inn Rd.\, Las Vegas\, NV\, 89169\, United States
CATEGORIES:LAPD Group Meeting,Retiree Group Meeting
ATTACH;FMTTYPE=image/png:https://larfpa.org/wp-content/uploads/2025/07/Untitled-design-2025-07-01T161726.101-scaled.png
END:VEVENT
BEGIN:VEVENT
DTSTART;TZID=America/Los_Angeles:20280705T103000
DTEND;TZID=America/Los_Angeles:20280705T113000
DTSTAMP:20260419T213700
CREATED:20221102T064209Z
LAST-MODIFIED:20260305T180306Z
UID:10003801-1846405800-1846409400@larfpa.org
SUMMARY:Las Vegas Blueline Group Luncheon
DESCRIPTION:Contact: \nJoe Germain – P: 702-580-2407\, E: germain.joe@cox.net
URL:https://larfpa.org/calendar-single-post-name/las-vegas-blueline-group-luncheon/2028-07-05/
LOCATION:Las Vegas Blueline Group Luncheon Meeting Location – Las Vegas National Golf Club\, 1911 E. Desert Inn Rd.\, Las Vegas\, NV\, 89169\, United States
CATEGORIES:LAPD Group Meeting,Retiree Group Meeting
ATTACH;FMTTYPE=image/png:https://larfpa.org/wp-content/uploads/2025/07/Untitled-design-2025-07-01T161726.101-scaled.png
END:VEVENT
BEGIN:VEVENT
DTSTART;TZID=America/Los_Angeles:20280802T103000
DTEND;TZID=America/Los_Angeles:20280802T113000
DTSTAMP:20260419T213700
CREATED:20221102T064209Z
LAST-MODIFIED:20260305T180306Z
UID:10003802-1848825000-1848828600@larfpa.org
SUMMARY:Las Vegas Blueline Group Luncheon
DESCRIPTION:Contact: \nJoe Germain – P: 702-580-2407\, E: germain.joe@cox.net
URL:https://larfpa.org/calendar-single-post-name/las-vegas-blueline-group-luncheon/2028-08-02/
LOCATION:Las Vegas Blueline Group Luncheon Meeting Location – Las Vegas National Golf Club\, 1911 E. Desert Inn Rd.\, Las Vegas\, NV\, 89169\, United States
CATEGORIES:LAPD Group Meeting,Retiree Group Meeting
ATTACH;FMTTYPE=image/png:https://larfpa.org/wp-content/uploads/2025/07/Untitled-design-2025-07-01T161726.101-scaled.png
END:VEVENT
BEGIN:VEVENT
DTSTART;TZID=America/Los_Angeles:20280906T103000
DTEND;TZID=America/Los_Angeles:20280906T113000
DTSTAMP:20260419T213700
CREATED:20221102T064209Z
LAST-MODIFIED:20260305T180306Z
UID:10003803-1851849000-1851852600@larfpa.org
SUMMARY:Las Vegas Blueline Group Luncheon
DESCRIPTION:Contact: \nJoe Germain – P: 702-580-2407\, E: germain.joe@cox.net
URL:https://larfpa.org/calendar-single-post-name/las-vegas-blueline-group-luncheon/2028-09-06/
LOCATION:Las Vegas Blueline Group Luncheon Meeting Location – Las Vegas National Golf Club\, 1911 E. Desert Inn Rd.\, Las Vegas\, NV\, 89169\, United States
CATEGORIES:LAPD Group Meeting,Retiree Group Meeting
ATTACH;FMTTYPE=image/png:https://larfpa.org/wp-content/uploads/2025/07/Untitled-design-2025-07-01T161726.101-scaled.png
END:VEVENT
BEGIN:VEVENT
DTSTART;TZID=America/Los_Angeles:20281004T103000
DTEND;TZID=America/Los_Angeles:20281004T113000
DTSTAMP:20260419T213700
CREATED:20221102T064209Z
LAST-MODIFIED:20260305T180306Z
UID:10003804-1854268200-1854271800@larfpa.org
SUMMARY:Las Vegas Blueline Group Luncheon
DESCRIPTION:Contact: \nJoe Germain – P: 702-580-2407\, E: germain.joe@cox.net
URL:https://larfpa.org/calendar-single-post-name/las-vegas-blueline-group-luncheon/2028-10-04/
LOCATION:Las Vegas Blueline Group Luncheon Meeting Location – Las Vegas National Golf Club\, 1911 E. Desert Inn Rd.\, Las Vegas\, NV\, 89169\, United States
CATEGORIES:LAPD Group Meeting,Retiree Group Meeting
ATTACH;FMTTYPE=image/png:https://larfpa.org/wp-content/uploads/2025/07/Untitled-design-2025-07-01T161726.101-scaled.png
END:VEVENT
END:VCALENDAR