BEGIN:VCALENDAR
VERSION:2.0
PRODID:-//LARFPA - ECPv6.15.20//NONSGML v1.0//EN
CALSCALE:GREGORIAN
METHOD:PUBLISH
X-ORIGINAL-URL:https://larfpa.org
X-WR-CALDESC:Events for LARFPA
REFRESH-INTERVAL;VALUE=DURATION:PT1H
X-Robots-Tag:noindex
X-PUBLISHED-TTL:PT1H
BEGIN:VTIMEZONE
TZID:America/Los_Angeles
BEGIN:DAYLIGHT
TZOFFSETFROM:-0800
TZOFFSETTO:-0700
TZNAME:PDT
DTSTART:20220313T100000
END:DAYLIGHT
BEGIN:STANDARD
TZOFFSETFROM:-0700
TZOFFSETTO:-0800
TZNAME:PST
DTSTART:20221106T090000
END:STANDARD
BEGIN:DAYLIGHT
TZOFFSETFROM:-0800
TZOFFSETTO:-0700
TZNAME:PDT
DTSTART:20230312T100000
END:DAYLIGHT
BEGIN:STANDARD
TZOFFSETFROM:-0700
TZOFFSETTO:-0800
TZNAME:PST
DTSTART:20231105T090000
END:STANDARD
BEGIN:DAYLIGHT
TZOFFSETFROM:-0800
TZOFFSETTO:-0700
TZNAME:PDT
DTSTART:20240310T100000
END:DAYLIGHT
BEGIN:STANDARD
TZOFFSETFROM:-0700
TZOFFSETTO:-0800
TZNAME:PST
DTSTART:20241103T090000
END:STANDARD
BEGIN:DAYLIGHT
TZOFFSETFROM:-0800
TZOFFSETTO:-0700
TZNAME:PDT
DTSTART:20250309T100000
END:DAYLIGHT
BEGIN:STANDARD
TZOFFSETFROM:-0700
TZOFFSETTO:-0800
TZNAME:PST
DTSTART:20251102T090000
END:STANDARD
BEGIN:DAYLIGHT
TZOFFSETFROM:-0800
TZOFFSETTO:-0700
TZNAME:PDT
DTSTART:20260308T100000
END:DAYLIGHT
BEGIN:STANDARD
TZOFFSETFROM:-0700
TZOFFSETTO:-0800
TZNAME:PST
DTSTART:20261101T090000
END:STANDARD
BEGIN:DAYLIGHT
TZOFFSETFROM:-0800
TZOFFSETTO:-0700
TZNAME:PDT
DTSTART:20270314T100000
END:DAYLIGHT
BEGIN:STANDARD
TZOFFSETFROM:-0700
TZOFFSETTO:-0800
TZNAME:PST
DTSTART:20271107T090000
END:STANDARD
END:VTIMEZONE
BEGIN:VEVENT
DTSTART;TZID=America/Los_Angeles:20260401T103000
DTEND;TZID=America/Los_Angeles:20260401T113000
DTSTAMP:20260419T185444
CREATED:20221102T064209Z
LAST-MODIFIED:20260305T180306Z
UID:10003774-1775039400-1775043000@larfpa.org
SUMMARY:Las Vegas Blueline Group Luncheon
DESCRIPTION:Contact: \nJoe Germain – P: 702-580-2407\, E: germain.joe@cox.net
URL:https://larfpa.org/calendar-single-post-name/las-vegas-blueline-group-luncheon/2026-04-01/
LOCATION:Las Vegas Blueline Group Luncheon Meeting Location – Las Vegas National Golf Club\, 1911 E. Desert Inn Rd.\, Las Vegas\, NV\, 89169\, United States
CATEGORIES:LAPD Group Meeting,Retiree Group Meeting
ATTACH;FMTTYPE=image/png:https://larfpa.org/wp-content/uploads/2025/07/Untitled-design-2025-07-01T161726.101-scaled.png
END:VEVENT
BEGIN:VEVENT
DTSTART;TZID=America/Los_Angeles:20260304T103000
DTEND;TZID=America/Los_Angeles:20260304T113000
DTSTAMP:20260419T185444
CREATED:20221102T064209Z
LAST-MODIFIED:20260305T180306Z
UID:10003773-1772620200-1772623800@larfpa.org
SUMMARY:Las Vegas Blueline Group Luncheon
DESCRIPTION:Contact: \nJoe Germain – P: 702-580-2407\, E: germain.joe@cox.net
URL:https://larfpa.org/calendar-single-post-name/las-vegas-blueline-group-luncheon/2026-03-04/
LOCATION:Las Vegas Blueline Group Luncheon Meeting Location – Las Vegas National Golf Club\, 1911 E. Desert Inn Rd.\, Las Vegas\, NV\, 89169\, United States
CATEGORIES:LAPD Group Meeting,Retiree Group Meeting
ATTACH;FMTTYPE=image/png:https://larfpa.org/wp-content/uploads/2025/07/Untitled-design-2025-07-01T161726.101-scaled.png
END:VEVENT
BEGIN:VEVENT
DTSTART;TZID=America/Los_Angeles:20260204T103000
DTEND;TZID=America/Los_Angeles:20260204T113000
DTSTAMP:20260419T185444
CREATED:20221102T064209Z
LAST-MODIFIED:20260305T180306Z
UID:10003772-1770201000-1770204600@larfpa.org
SUMMARY:Las Vegas Blueline Group Luncheon
DESCRIPTION:Contact: \nJoe Germain – P: 702-580-2407\, E: germain.joe@cox.net
URL:https://larfpa.org/calendar-single-post-name/las-vegas-blueline-group-luncheon/2026-02-04/
LOCATION:Las Vegas Blueline Group Luncheon Meeting Location – Las Vegas National Golf Club\, 1911 E. Desert Inn Rd.\, Las Vegas\, NV\, 89169\, United States
CATEGORIES:LAPD Group Meeting,Retiree Group Meeting
ATTACH;FMTTYPE=image/png:https://larfpa.org/wp-content/uploads/2025/07/Untitled-design-2025-07-01T161726.101-scaled.png
END:VEVENT
BEGIN:VEVENT
DTSTART;TZID=America/Los_Angeles:20260107T103000
DTEND;TZID=America/Los_Angeles:20260107T113000
DTSTAMP:20260419T185444
CREATED:20221102T064209Z
LAST-MODIFIED:20260305T180306Z
UID:10003771-1767781800-1767785400@larfpa.org
SUMMARY:Las Vegas Blueline Group Luncheon
DESCRIPTION:Contact: \nJoe Germain – P: 702-580-2407\, E: germain.joe@cox.net
URL:https://larfpa.org/calendar-single-post-name/las-vegas-blueline-group-luncheon/2026-01-07/
LOCATION:Las Vegas Blueline Group Luncheon Meeting Location – Las Vegas National Golf Club\, 1911 E. Desert Inn Rd.\, Las Vegas\, NV\, 89169\, United States
CATEGORIES:LAPD Group Meeting,Retiree Group Meeting
ATTACH;FMTTYPE=image/png:https://larfpa.org/wp-content/uploads/2025/07/Untitled-design-2025-07-01T161726.101-scaled.png
END:VEVENT
BEGIN:VEVENT
DTSTART;TZID=America/Los_Angeles:20251203T103000
DTEND;TZID=America/Los_Angeles:20251203T113000
DTSTAMP:20260419T185444
CREATED:20221102T064209Z
LAST-MODIFIED:20260305T180306Z
UID:10003770-1764757800-1764761400@larfpa.org
SUMMARY:Las Vegas Blueline Group Luncheon
DESCRIPTION:Contact: \nJoe Germain – P: 702-580-2407\, E: germain.joe@cox.net
URL:https://larfpa.org/calendar-single-post-name/las-vegas-blueline-group-luncheon/2025-12-03/
LOCATION:Las Vegas Blueline Group Luncheon Meeting Location – Las Vegas National Golf Club\, 1911 E. Desert Inn Rd.\, Las Vegas\, NV\, 89169\, United States
CATEGORIES:LAPD Group Meeting,Retiree Group Meeting
ATTACH;FMTTYPE=image/png:https://larfpa.org/wp-content/uploads/2025/07/Untitled-design-2025-07-01T161726.101-scaled.png
END:VEVENT
BEGIN:VEVENT
DTSTART;TZID=America/Los_Angeles:20251105T103000
DTEND;TZID=America/Los_Angeles:20251105T113000
DTSTAMP:20260419T185444
CREATED:20221102T064209Z
LAST-MODIFIED:20260305T180306Z
UID:10003769-1762338600-1762342200@larfpa.org
SUMMARY:Las Vegas Blueline Group Luncheon
DESCRIPTION:Contact: \nJoe Germain – P: 702-580-2407\, E: germain.joe@cox.net
URL:https://larfpa.org/calendar-single-post-name/las-vegas-blueline-group-luncheon/2025-11-05/
LOCATION:Las Vegas Blueline Group Luncheon Meeting Location – Las Vegas National Golf Club\, 1911 E. Desert Inn Rd.\, Las Vegas\, NV\, 89169\, United States
CATEGORIES:LAPD Group Meeting,Retiree Group Meeting
ATTACH;FMTTYPE=image/png:https://larfpa.org/wp-content/uploads/2025/07/Untitled-design-2025-07-01T161726.101-scaled.png
END:VEVENT
BEGIN:VEVENT
DTSTART;TZID=America/Los_Angeles:20251001T103000
DTEND;TZID=America/Los_Angeles:20251001T113000
DTSTAMP:20260419T185444
CREATED:20221102T064209Z
LAST-MODIFIED:20260305T180306Z
UID:10003768-1759314600-1759318200@larfpa.org
SUMMARY:Las Vegas Blueline Group Luncheon
DESCRIPTION:Contact: \nJoe Germain – P: 702-580-2407\, E: germain.joe@cox.net
URL:https://larfpa.org/calendar-single-post-name/las-vegas-blueline-group-luncheon/2025-10-01/
LOCATION:Las Vegas Blueline Group Luncheon Meeting Location – Las Vegas National Golf Club\, 1911 E. Desert Inn Rd.\, Las Vegas\, NV\, 89169\, United States
CATEGORIES:LAPD Group Meeting,Retiree Group Meeting
ATTACH;FMTTYPE=image/png:https://larfpa.org/wp-content/uploads/2025/07/Untitled-design-2025-07-01T161726.101-scaled.png
END:VEVENT
BEGIN:VEVENT
DTSTART;TZID=America/Los_Angeles:20250903T103000
DTEND;TZID=America/Los_Angeles:20250903T113000
DTSTAMP:20260419T185444
CREATED:20221102T064209Z
LAST-MODIFIED:20260305T180306Z
UID:10003767-1756895400-1756899000@larfpa.org
SUMMARY:Las Vegas Blueline Group Luncheon
DESCRIPTION:Contact: \nJoe Germain – P: 702-580-2407\, E: germain.joe@cox.net
URL:https://larfpa.org/calendar-single-post-name/las-vegas-blueline-group-luncheon/2025-09-03/
LOCATION:Las Vegas Blueline Group Luncheon Meeting Location – Las Vegas National Golf Club\, 1911 E. Desert Inn Rd.\, Las Vegas\, NV\, 89169\, United States
CATEGORIES:LAPD Group Meeting,Retiree Group Meeting
ATTACH;FMTTYPE=image/png:https://larfpa.org/wp-content/uploads/2025/07/Untitled-design-2025-07-01T161726.101-scaled.png
END:VEVENT
BEGIN:VEVENT
DTSTART;TZID=America/Los_Angeles:20250806T103000
DTEND;TZID=America/Los_Angeles:20250806T113000
DTSTAMP:20260419T185444
CREATED:20221102T064209Z
LAST-MODIFIED:20260305T180306Z
UID:10003766-1754476200-1754479800@larfpa.org
SUMMARY:Las Vegas Blueline Group Luncheon
DESCRIPTION:Contact: \nJoe Germain – P: 702-580-2407\, E: germain.joe@cox.net
URL:https://larfpa.org/calendar-single-post-name/las-vegas-blueline-group-luncheon/2025-08-06/
LOCATION:Las Vegas Blueline Group Luncheon Meeting Location – Las Vegas National Golf Club\, 1911 E. Desert Inn Rd.\, Las Vegas\, NV\, 89169\, United States
CATEGORIES:LAPD Group Meeting,Retiree Group Meeting
ATTACH;FMTTYPE=image/png:https://larfpa.org/wp-content/uploads/2025/07/Untitled-design-2025-07-01T161726.101-scaled.png
END:VEVENT
BEGIN:VEVENT
DTSTART;TZID=America/Los_Angeles:20250702T103000
DTEND;TZID=America/Los_Angeles:20250702T113000
DTSTAMP:20260419T185444
CREATED:20221102T064209Z
LAST-MODIFIED:20260305T180306Z
UID:10003765-1751452200-1751455800@larfpa.org
SUMMARY:Las Vegas Blueline Group Luncheon
DESCRIPTION:Contact: \nJoe Germain – P: 702-580-2407\, E: germain.joe@cox.net
URL:https://larfpa.org/calendar-single-post-name/las-vegas-blueline-group-luncheon/2025-07-02/
LOCATION:Las Vegas Blueline Group Luncheon Meeting Location – Las Vegas National Golf Club\, 1911 E. Desert Inn Rd.\, Las Vegas\, NV\, 89169\, United States
CATEGORIES:LAPD Group Meeting,Retiree Group Meeting
ATTACH;FMTTYPE=image/png:https://larfpa.org/wp-content/uploads/2025/07/Untitled-design-2025-07-01T161726.101-scaled.png
END:VEVENT
BEGIN:VEVENT
DTSTART;TZID=America/Los_Angeles:20250604T103000
DTEND;TZID=America/Los_Angeles:20250604T113000
DTSTAMP:20260419T185444
CREATED:20221102T064209Z
LAST-MODIFIED:20260305T180306Z
UID:10003764-1749033000-1749036600@larfpa.org
SUMMARY:Las Vegas Blueline Group Luncheon
DESCRIPTION:Contact: \nJoe Germain – P: 702-580-2407\, E: germain.joe@cox.net
URL:https://larfpa.org/calendar-single-post-name/las-vegas-blueline-group-luncheon/2025-06-04/
LOCATION:Las Vegas Blueline Group Luncheon Meeting Location – Las Vegas National Golf Club\, 1911 E. Desert Inn Rd.\, Las Vegas\, NV\, 89169\, United States
CATEGORIES:LAPD Group Meeting,Retiree Group Meeting
ATTACH;FMTTYPE=image/png:https://larfpa.org/wp-content/uploads/2025/07/Untitled-design-2025-07-01T161726.101-scaled.png
END:VEVENT
BEGIN:VEVENT
DTSTART;TZID=America/Los_Angeles:20250507T103000
DTEND;TZID=America/Los_Angeles:20250507T113000
DTSTAMP:20260419T185444
CREATED:20221102T064209Z
LAST-MODIFIED:20260305T180306Z
UID:10003763-1746613800-1746617400@larfpa.org
SUMMARY:Las Vegas Blueline Group Luncheon
DESCRIPTION:Contact: \nJoe Germain – P: 702-580-2407\, E: germain.joe@cox.net
URL:https://larfpa.org/calendar-single-post-name/las-vegas-blueline-group-luncheon/2025-05-07/
LOCATION:Las Vegas Blueline Group Luncheon Meeting Location – Las Vegas National Golf Club\, 1911 E. Desert Inn Rd.\, Las Vegas\, NV\, 89169\, United States
CATEGORIES:LAPD Group Meeting,Retiree Group Meeting
ATTACH;FMTTYPE=image/png:https://larfpa.org/wp-content/uploads/2025/07/Untitled-design-2025-07-01T161726.101-scaled.png
END:VEVENT
BEGIN:VEVENT
DTSTART;TZID=America/Los_Angeles:20250402T103000
DTEND;TZID=America/Los_Angeles:20250402T113000
DTSTAMP:20260419T185444
CREATED:20221102T064209Z
LAST-MODIFIED:20260305T180306Z
UID:10003762-1743589800-1743593400@larfpa.org
SUMMARY:Las Vegas Blueline Group Luncheon
DESCRIPTION:Contact: \nJoe Germain – P: 702-580-2407\, E: germain.joe@cox.net
URL:https://larfpa.org/calendar-single-post-name/las-vegas-blueline-group-luncheon/2025-04-02/
LOCATION:Las Vegas Blueline Group Luncheon Meeting Location – Las Vegas National Golf Club\, 1911 E. Desert Inn Rd.\, Las Vegas\, NV\, 89169\, United States
CATEGORIES:LAPD Group Meeting,Retiree Group Meeting
ATTACH;FMTTYPE=image/png:https://larfpa.org/wp-content/uploads/2025/07/Untitled-design-2025-07-01T161726.101-scaled.png
END:VEVENT
BEGIN:VEVENT
DTSTART;TZID=America/Los_Angeles:20250305T103000
DTEND;TZID=America/Los_Angeles:20250305T113000
DTSTAMP:20260419T185444
CREATED:20221102T064209Z
LAST-MODIFIED:20260305T180306Z
UID:10003761-1741170600-1741174200@larfpa.org
SUMMARY:Las Vegas Blueline Group Luncheon
DESCRIPTION:Contact: \nJoe Germain – P: 702-580-2407\, E: germain.joe@cox.net
URL:https://larfpa.org/calendar-single-post-name/las-vegas-blueline-group-luncheon/2025-03-05/
LOCATION:Las Vegas Blueline Group Luncheon Meeting Location – Las Vegas National Golf Club\, 1911 E. Desert Inn Rd.\, Las Vegas\, NV\, 89169\, United States
CATEGORIES:LAPD Group Meeting,Retiree Group Meeting
ATTACH;FMTTYPE=image/png:https://larfpa.org/wp-content/uploads/2025/07/Untitled-design-2025-07-01T161726.101-scaled.png
END:VEVENT
BEGIN:VEVENT
DTSTART;TZID=America/Los_Angeles:20250205T103000
DTEND;TZID=America/Los_Angeles:20250205T113000
DTSTAMP:20260419T185444
CREATED:20221102T064209Z
LAST-MODIFIED:20260305T180306Z
UID:10003760-1738751400-1738755000@larfpa.org
SUMMARY:Las Vegas Blueline Group Luncheon
DESCRIPTION:Contact: \nJoe Germain – P: 702-580-2407\, E: germain.joe@cox.net
URL:https://larfpa.org/calendar-single-post-name/las-vegas-blueline-group-luncheon/2025-02-05/
LOCATION:Las Vegas Blueline Group Luncheon Meeting Location – Las Vegas National Golf Club\, 1911 E. Desert Inn Rd.\, Las Vegas\, NV\, 89169\, United States
CATEGORIES:LAPD Group Meeting,Retiree Group Meeting
ATTACH;FMTTYPE=image/png:https://larfpa.org/wp-content/uploads/2025/07/Untitled-design-2025-07-01T161726.101-scaled.png
END:VEVENT
BEGIN:VEVENT
DTSTART;TZID=America/Los_Angeles:20250101T103000
DTEND;TZID=America/Los_Angeles:20250101T113000
DTSTAMP:20260419T185444
CREATED:20221102T064209Z
LAST-MODIFIED:20260305T180306Z
UID:10003759-1735727400-1735731000@larfpa.org
SUMMARY:Las Vegas Blueline Group Luncheon
DESCRIPTION:Contact: \nJoe Germain – P: 702-580-2407\, E: germain.joe@cox.net
URL:https://larfpa.org/calendar-single-post-name/las-vegas-blueline-group-luncheon/2025-01-01/
LOCATION:Las Vegas Blueline Group Luncheon Meeting Location – Las Vegas National Golf Club\, 1911 E. Desert Inn Rd.\, Las Vegas\, NV\, 89169\, United States
CATEGORIES:LAPD Group Meeting,Retiree Group Meeting
ATTACH;FMTTYPE=image/png:https://larfpa.org/wp-content/uploads/2025/07/Untitled-design-2025-07-01T161726.101-scaled.png
END:VEVENT
BEGIN:VEVENT
DTSTART;TZID=America/Los_Angeles:20241204T103000
DTEND;TZID=America/Los_Angeles:20241204T113000
DTSTAMP:20260419T185444
CREATED:20221102T064209Z
LAST-MODIFIED:20260305T180306Z
UID:10003758-1733308200-1733311800@larfpa.org
SUMMARY:Las Vegas Blueline Group Luncheon
DESCRIPTION:Contact: \nJoe Germain – P: 702-580-2407\, E: germain.joe@cox.net
URL:https://larfpa.org/calendar-single-post-name/las-vegas-blueline-group-luncheon/2024-12-04/
LOCATION:Las Vegas Blueline Group Luncheon Meeting Location – Las Vegas National Golf Club\, 1911 E. Desert Inn Rd.\, Las Vegas\, NV\, 89169\, United States
CATEGORIES:LAPD Group Meeting,Retiree Group Meeting
ATTACH;FMTTYPE=image/png:https://larfpa.org/wp-content/uploads/2025/07/Untitled-design-2025-07-01T161726.101-scaled.png
END:VEVENT
BEGIN:VEVENT
DTSTART;TZID=America/Los_Angeles:20241106T103000
DTEND;TZID=America/Los_Angeles:20241106T113000
DTSTAMP:20260419T185444
CREATED:20221102T064209Z
LAST-MODIFIED:20260305T180306Z
UID:10003757-1730889000-1730892600@larfpa.org
SUMMARY:Las Vegas Blueline Group Luncheon
DESCRIPTION:Contact: \nJoe Germain – P: 702-580-2407\, E: germain.joe@cox.net
URL:https://larfpa.org/calendar-single-post-name/las-vegas-blueline-group-luncheon/2024-11-06/
LOCATION:Las Vegas Blueline Group Luncheon Meeting Location – Las Vegas National Golf Club\, 1911 E. Desert Inn Rd.\, Las Vegas\, NV\, 89169\, United States
CATEGORIES:LAPD Group Meeting,Retiree Group Meeting
ATTACH;FMTTYPE=image/png:https://larfpa.org/wp-content/uploads/2025/07/Untitled-design-2025-07-01T161726.101-scaled.png
END:VEVENT
BEGIN:VEVENT
DTSTART;TZID=America/Los_Angeles:20241002T103000
DTEND;TZID=America/Los_Angeles:20241002T113000
DTSTAMP:20260419T185444
CREATED:20221102T064209Z
LAST-MODIFIED:20260305T180306Z
UID:10003756-1727865000-1727868600@larfpa.org
SUMMARY:Las Vegas Blueline Group Luncheon
DESCRIPTION:Contact: \nJoe Germain – P: 702-580-2407\, E: germain.joe@cox.net
URL:https://larfpa.org/calendar-single-post-name/las-vegas-blueline-group-luncheon/2024-10-02/
LOCATION:Las Vegas Blueline Group Luncheon Meeting Location – Las Vegas National Golf Club\, 1911 E. Desert Inn Rd.\, Las Vegas\, NV\, 89169\, United States
CATEGORIES:LAPD Group Meeting,Retiree Group Meeting
ATTACH;FMTTYPE=image/png:https://larfpa.org/wp-content/uploads/2025/07/Untitled-design-2025-07-01T161726.101-scaled.png
END:VEVENT
BEGIN:VEVENT
DTSTART;TZID=America/Los_Angeles:20240904T103000
DTEND;TZID=America/Los_Angeles:20240904T113000
DTSTAMP:20260419T185444
CREATED:20221102T064209Z
LAST-MODIFIED:20260305T180306Z
UID:10003755-1725445800-1725449400@larfpa.org
SUMMARY:Las Vegas Blueline Group Luncheon
DESCRIPTION:Contact: \nJoe Germain – P: 702-580-2407\, E: germain.joe@cox.net
URL:https://larfpa.org/calendar-single-post-name/las-vegas-blueline-group-luncheon/2024-09-04/
LOCATION:Las Vegas Blueline Group Luncheon Meeting Location – Las Vegas National Golf Club\, 1911 E. Desert Inn Rd.\, Las Vegas\, NV\, 89169\, United States
CATEGORIES:LAPD Group Meeting,Retiree Group Meeting
ATTACH;FMTTYPE=image/png:https://larfpa.org/wp-content/uploads/2025/07/Untitled-design-2025-07-01T161726.101-scaled.png
END:VEVENT
BEGIN:VEVENT
DTSTART;TZID=America/Los_Angeles:20240807T103000
DTEND;TZID=America/Los_Angeles:20240807T113000
DTSTAMP:20260419T185444
CREATED:20221102T064209Z
LAST-MODIFIED:20260305T180306Z
UID:10003754-1723026600-1723030200@larfpa.org
SUMMARY:Las Vegas Blueline Group Luncheon
DESCRIPTION:Contact: \nJoe Germain – P: 702-580-2407\, E: germain.joe@cox.net
URL:https://larfpa.org/calendar-single-post-name/las-vegas-blueline-group-luncheon/2024-08-07/
LOCATION:Las Vegas Blueline Group Luncheon Meeting Location – Las Vegas National Golf Club\, 1911 E. Desert Inn Rd.\, Las Vegas\, NV\, 89169\, United States
CATEGORIES:LAPD Group Meeting,Retiree Group Meeting
ATTACH;FMTTYPE=image/png:https://larfpa.org/wp-content/uploads/2025/07/Untitled-design-2025-07-01T161726.101-scaled.png
END:VEVENT
BEGIN:VEVENT
DTSTART;TZID=America/Los_Angeles:20240703T103000
DTEND;TZID=America/Los_Angeles:20240703T113000
DTSTAMP:20260419T185444
CREATED:20221102T064209Z
LAST-MODIFIED:20260305T180306Z
UID:10003753-1720002600-1720006200@larfpa.org
SUMMARY:Las Vegas Blueline Group Luncheon
DESCRIPTION:Contact: \nJoe Germain – P: 702-580-2407\, E: germain.joe@cox.net
URL:https://larfpa.org/calendar-single-post-name/las-vegas-blueline-group-luncheon/2024-07-03/
LOCATION:Las Vegas Blueline Group Luncheon Meeting Location – Las Vegas National Golf Club\, 1911 E. Desert Inn Rd.\, Las Vegas\, NV\, 89169\, United States
CATEGORIES:LAPD Group Meeting,Retiree Group Meeting
ATTACH;FMTTYPE=image/png:https://larfpa.org/wp-content/uploads/2025/07/Untitled-design-2025-07-01T161726.101-scaled.png
END:VEVENT
BEGIN:VEVENT
DTSTART;TZID=America/Los_Angeles:20240605T103000
DTEND;TZID=America/Los_Angeles:20240605T113000
DTSTAMP:20260419T185444
CREATED:20221102T064209Z
LAST-MODIFIED:20260305T180306Z
UID:10003752-1717583400-1717587000@larfpa.org
SUMMARY:Las Vegas Blueline Group Luncheon
DESCRIPTION:Contact: \nJoe Germain – P: 702-580-2407\, E: germain.joe@cox.net
URL:https://larfpa.org/calendar-single-post-name/las-vegas-blueline-group-luncheon/2024-06-05/
LOCATION:Las Vegas Blueline Group Luncheon Meeting Location – Las Vegas National Golf Club\, 1911 E. Desert Inn Rd.\, Las Vegas\, NV\, 89169\, United States
CATEGORIES:LAPD Group Meeting,Retiree Group Meeting
ATTACH;FMTTYPE=image/png:https://larfpa.org/wp-content/uploads/2025/07/Untitled-design-2025-07-01T161726.101-scaled.png
END:VEVENT
BEGIN:VEVENT
DTSTART;TZID=America/Los_Angeles:20240501T103000
DTEND;TZID=America/Los_Angeles:20240501T113000
DTSTAMP:20260419T185444
CREATED:20221102T064209Z
LAST-MODIFIED:20260305T180306Z
UID:10003751-1714559400-1714563000@larfpa.org
SUMMARY:Las Vegas Blueline Group Luncheon
DESCRIPTION:Contact: \nJoe Germain – P: 702-580-2407\, E: germain.joe@cox.net
URL:https://larfpa.org/calendar-single-post-name/las-vegas-blueline-group-luncheon/2024-05-01/
LOCATION:Las Vegas Blueline Group Luncheon Meeting Location – Las Vegas National Golf Club\, 1911 E. Desert Inn Rd.\, Las Vegas\, NV\, 89169\, United States
CATEGORIES:LAPD Group Meeting,Retiree Group Meeting
ATTACH;FMTTYPE=image/png:https://larfpa.org/wp-content/uploads/2025/07/Untitled-design-2025-07-01T161726.101-scaled.png
END:VEVENT
BEGIN:VEVENT
DTSTART;TZID=America/Los_Angeles:20240403T103000
DTEND;TZID=America/Los_Angeles:20240403T113000
DTSTAMP:20260419T185444
CREATED:20221102T064209Z
LAST-MODIFIED:20260305T180306Z
UID:10003750-1712140200-1712143800@larfpa.org
SUMMARY:Las Vegas Blueline Group Luncheon
DESCRIPTION:Contact: \nJoe Germain – P: 702-580-2407\, E: germain.joe@cox.net
URL:https://larfpa.org/calendar-single-post-name/las-vegas-blueline-group-luncheon/2024-04-03/
LOCATION:Las Vegas Blueline Group Luncheon Meeting Location – Las Vegas National Golf Club\, 1911 E. Desert Inn Rd.\, Las Vegas\, NV\, 89169\, United States
CATEGORIES:LAPD Group Meeting,Retiree Group Meeting
ATTACH;FMTTYPE=image/png:https://larfpa.org/wp-content/uploads/2025/07/Untitled-design-2025-07-01T161726.101-scaled.png
END:VEVENT
BEGIN:VEVENT
DTSTART;TZID=America/Los_Angeles:20240306T103000
DTEND;TZID=America/Los_Angeles:20240306T113000
DTSTAMP:20260419T185444
CREATED:20221102T064209Z
LAST-MODIFIED:20260305T180306Z
UID:10003749-1709721000-1709724600@larfpa.org
SUMMARY:Las Vegas Blueline Group Luncheon
DESCRIPTION:Contact: \nJoe Germain – P: 702-580-2407\, E: germain.joe@cox.net
URL:https://larfpa.org/calendar-single-post-name/las-vegas-blueline-group-luncheon/2024-03-06/
LOCATION:Las Vegas Blueline Group Luncheon Meeting Location – Las Vegas National Golf Club\, 1911 E. Desert Inn Rd.\, Las Vegas\, NV\, 89169\, United States
CATEGORIES:LAPD Group Meeting,Retiree Group Meeting
ATTACH;FMTTYPE=image/png:https://larfpa.org/wp-content/uploads/2025/07/Untitled-design-2025-07-01T161726.101-scaled.png
END:VEVENT
BEGIN:VEVENT
DTSTART;TZID=America/Los_Angeles:20240207T103000
DTEND;TZID=America/Los_Angeles:20240207T113000
DTSTAMP:20260419T185444
CREATED:20221102T064209Z
LAST-MODIFIED:20260305T180306Z
UID:10003748-1707301800-1707305400@larfpa.org
SUMMARY:Las Vegas Blueline Group Luncheon
DESCRIPTION:Contact: \nJoe Germain – P: 702-580-2407\, E: germain.joe@cox.net
URL:https://larfpa.org/calendar-single-post-name/las-vegas-blueline-group-luncheon/2024-02-07/
LOCATION:Las Vegas Blueline Group Luncheon Meeting Location – Las Vegas National Golf Club\, 1911 E. Desert Inn Rd.\, Las Vegas\, NV\, 89169\, United States
CATEGORIES:LAPD Group Meeting,Retiree Group Meeting
ATTACH;FMTTYPE=image/png:https://larfpa.org/wp-content/uploads/2025/07/Untitled-design-2025-07-01T161726.101-scaled.png
END:VEVENT
BEGIN:VEVENT
DTSTART;TZID=America/Los_Angeles:20240103T103000
DTEND;TZID=America/Los_Angeles:20240103T113000
DTSTAMP:20260419T185444
CREATED:20221102T064209Z
LAST-MODIFIED:20260305T180306Z
UID:10003747-1704277800-1704281400@larfpa.org
SUMMARY:Las Vegas Blueline Group Luncheon
DESCRIPTION:Contact: \nJoe Germain – P: 702-580-2407\, E: germain.joe@cox.net
URL:https://larfpa.org/calendar-single-post-name/las-vegas-blueline-group-luncheon/2024-01-03/
LOCATION:Las Vegas Blueline Group Luncheon Meeting Location – Las Vegas National Golf Club\, 1911 E. Desert Inn Rd.\, Las Vegas\, NV\, 89169\, United States
CATEGORIES:LAPD Group Meeting,Retiree Group Meeting
ATTACH;FMTTYPE=image/png:https://larfpa.org/wp-content/uploads/2025/07/Untitled-design-2025-07-01T161726.101-scaled.png
END:VEVENT
BEGIN:VEVENT
DTSTART;TZID=America/Los_Angeles:20231206T103000
DTEND;TZID=America/Los_Angeles:20231206T113000
DTSTAMP:20260419T185444
CREATED:20221102T064209Z
LAST-MODIFIED:20260305T180306Z
UID:10003746-1701858600-1701862200@larfpa.org
SUMMARY:Las Vegas Blueline Group Luncheon
DESCRIPTION:Contact: \nJoe Germain – P: 702-580-2407\, E: germain.joe@cox.net
URL:https://larfpa.org/calendar-single-post-name/las-vegas-blueline-group-luncheon/2023-12-06/
LOCATION:Las Vegas Blueline Group Luncheon Meeting Location – Las Vegas National Golf Club\, 1911 E. Desert Inn Rd.\, Las Vegas\, NV\, 89169\, United States
CATEGORIES:LAPD Group Meeting,Retiree Group Meeting
ATTACH;FMTTYPE=image/png:https://larfpa.org/wp-content/uploads/2025/07/Untitled-design-2025-07-01T161726.101-scaled.png
END:VEVENT
BEGIN:VEVENT
DTSTART;TZID=America/Los_Angeles:20231101T103000
DTEND;TZID=America/Los_Angeles:20231101T113000
DTSTAMP:20260419T185444
CREATED:20221102T064209Z
LAST-MODIFIED:20260305T180306Z
UID:10003745-1698834600-1698838200@larfpa.org
SUMMARY:Las Vegas Blueline Group Luncheon
DESCRIPTION:Contact: \nJoe Germain – P: 702-580-2407\, E: germain.joe@cox.net
URL:https://larfpa.org/calendar-single-post-name/las-vegas-blueline-group-luncheon/2023-11-01/
LOCATION:Las Vegas Blueline Group Luncheon Meeting Location – Las Vegas National Golf Club\, 1911 E. Desert Inn Rd.\, Las Vegas\, NV\, 89169\, United States
CATEGORIES:LAPD Group Meeting,Retiree Group Meeting
ATTACH;FMTTYPE=image/png:https://larfpa.org/wp-content/uploads/2025/07/Untitled-design-2025-07-01T161726.101-scaled.png
END:VEVENT
END:VCALENDAR