BEGIN:VCALENDAR
VERSION:2.0
PRODID:-//LARFPA - ECPv6.15.20//NONSGML v1.0//EN
CALSCALE:GREGORIAN
METHOD:PUBLISH
X-WR-CALNAME:LARFPA
X-ORIGINAL-URL:https://larfpa.org
X-WR-CALDESC:Events for LARFPA
REFRESH-INTERVAL;VALUE=DURATION:PT1H
X-Robots-Tag:noindex
X-PUBLISHED-TTL:PT1H
BEGIN:VTIMEZONE
TZID:America/Los_Angeles
BEGIN:DAYLIGHT
TZOFFSETFROM:-0800
TZOFFSETTO:-0700
TZNAME:PDT
DTSTART:20290311T100000
END:DAYLIGHT
BEGIN:STANDARD
TZOFFSETFROM:-0700
TZOFFSETTO:-0800
TZNAME:PST
DTSTART:20291104T090000
END:STANDARD
BEGIN:DAYLIGHT
TZOFFSETFROM:-0800
TZOFFSETTO:-0700
TZNAME:PDT
DTSTART:20300310T100000
END:DAYLIGHT
BEGIN:STANDARD
TZOFFSETFROM:-0700
TZOFFSETTO:-0800
TZNAME:PST
DTSTART:20301103T090000
END:STANDARD
BEGIN:DAYLIGHT
TZOFFSETFROM:-0800
TZOFFSETTO:-0700
TZNAME:PDT
DTSTART:20310309T100000
END:DAYLIGHT
BEGIN:STANDARD
TZOFFSETFROM:-0700
TZOFFSETTO:-0800
TZNAME:PST
DTSTART:20311102T090000
END:STANDARD
END:VTIMEZONE
BEGIN:VEVENT
DTSTART;TZID=America/Los_Angeles:20300425T113000
DTEND;TZID=America/Los_Angeles:20300425T123000
DTSTAMP:20260422T052521
CREATED:20221102T070033Z
LAST-MODIFIED:20250701T234938Z
UID:10002451-1903347000-1903350600@larfpa.org
SUMMARY:LAPD Cancer Support Group
DESCRIPTION:Website: www.lapcsg.org \nEmail: lapcsgcares@gmail.com \nCivilian Department Wellness Coordinator: (213) 216-7009
URL:https://larfpa.org/calendar-single-post-name/lapd-cancer-support-group/2030-04-25/
LOCATION:LAPD Cancer Support Group Meeting – Los Angeles Police Relief Association\, 600 N. Grand Ave.\, Los Angeles\, CA\, 90012\, United States
CATEGORIES:LAPD Group Meeting
ATTACH;FMTTYPE=image/png:https://larfpa.org/wp-content/uploads/2025/07/Untitled-design-2025-07-01T161726.101-scaled.png
END:VEVENT
BEGIN:VEVENT
DTSTART;TZID=America/Los_Angeles:20300523T113000
DTEND;TZID=America/Los_Angeles:20300523T123000
DTSTAMP:20260422T052521
CREATED:20221102T070033Z
LAST-MODIFIED:20250701T234938Z
UID:10002452-1905766200-1905769800@larfpa.org
SUMMARY:LAPD Cancer Support Group
DESCRIPTION:Website: www.lapcsg.org \nEmail: lapcsgcares@gmail.com \nCivilian Department Wellness Coordinator: (213) 216-7009
URL:https://larfpa.org/calendar-single-post-name/lapd-cancer-support-group/2030-05-23/
LOCATION:LAPD Cancer Support Group Meeting – Los Angeles Police Relief Association\, 600 N. Grand Ave.\, Los Angeles\, CA\, 90012\, United States
CATEGORIES:LAPD Group Meeting
ATTACH;FMTTYPE=image/png:https://larfpa.org/wp-content/uploads/2025/07/Untitled-design-2025-07-01T161726.101-scaled.png
END:VEVENT
BEGIN:VEVENT
DTSTART;TZID=America/Los_Angeles:20300627T113000
DTEND;TZID=America/Los_Angeles:20300627T123000
DTSTAMP:20260422T052521
CREATED:20221102T070033Z
LAST-MODIFIED:20250701T234938Z
UID:10002453-1908790200-1908793800@larfpa.org
SUMMARY:LAPD Cancer Support Group
DESCRIPTION:Website: www.lapcsg.org \nEmail: lapcsgcares@gmail.com \nCivilian Department Wellness Coordinator: (213) 216-7009
URL:https://larfpa.org/calendar-single-post-name/lapd-cancer-support-group/2030-06-27/
LOCATION:LAPD Cancer Support Group Meeting – Los Angeles Police Relief Association\, 600 N. Grand Ave.\, Los Angeles\, CA\, 90012\, United States
CATEGORIES:LAPD Group Meeting
ATTACH;FMTTYPE=image/png:https://larfpa.org/wp-content/uploads/2025/07/Untitled-design-2025-07-01T161726.101-scaled.png
END:VEVENT
END:VCALENDAR