BEGIN:VCALENDAR
VERSION:2.0
PRODID:-//LARFPA - ECPv6.15.20//NONSGML v1.0//EN
CALSCALE:GREGORIAN
METHOD:PUBLISH
X-WR-CALNAME:LARFPA
X-ORIGINAL-URL:https://larfpa.org
X-WR-CALDESC:Events for LARFPA
REFRESH-INTERVAL;VALUE=DURATION:PT1H
X-Robots-Tag:noindex
X-PUBLISHED-TTL:PT1H
BEGIN:VTIMEZONE
TZID:America/Los_Angeles
BEGIN:DAYLIGHT
TZOFFSETFROM:-0800
TZOFFSETTO:-0700
TZNAME:PDT
DTSTART:20280312T100000
END:DAYLIGHT
BEGIN:STANDARD
TZOFFSETFROM:-0700
TZOFFSETTO:-0800
TZNAME:PST
DTSTART:20281105T090000
END:STANDARD
BEGIN:DAYLIGHT
TZOFFSETFROM:-0800
TZOFFSETTO:-0700
TZNAME:PDT
DTSTART:20290311T100000
END:DAYLIGHT
BEGIN:STANDARD
TZOFFSETFROM:-0700
TZOFFSETTO:-0800
TZNAME:PST
DTSTART:20291104T090000
END:STANDARD
BEGIN:DAYLIGHT
TZOFFSETFROM:-0800
TZOFFSETTO:-0700
TZNAME:PDT
DTSTART:20300310T100000
END:DAYLIGHT
BEGIN:STANDARD
TZOFFSETFROM:-0700
TZOFFSETTO:-0800
TZNAME:PST
DTSTART:20301103T090000
END:STANDARD
BEGIN:DAYLIGHT
TZOFFSETFROM:-0800
TZOFFSETTO:-0700
TZNAME:PDT
DTSTART:20310309T100000
END:DAYLIGHT
BEGIN:STANDARD
TZOFFSETFROM:-0700
TZOFFSETTO:-0800
TZNAME:PST
DTSTART:20311102T090000
END:STANDARD
END:VTIMEZONE
BEGIN:VEVENT
DTSTART;TZID=America/Los_Angeles:20290426T113000
DTEND;TZID=America/Los_Angeles:20290426T123000
DTSTAMP:20260419T164532
CREATED:20221102T070033Z
LAST-MODIFIED:20250701T234938Z
UID:10002439-1871897400-1871901000@larfpa.org
SUMMARY:LAPD Cancer Support Group
DESCRIPTION:Website: www.lapcsg.org \nEmail: lapcsgcares@gmail.com \nCivilian Department Wellness Coordinator: (213) 216-7009
URL:https://larfpa.org/calendar-single-post-name/lapd-cancer-support-group/2029-04-26/
LOCATION:LAPD Cancer Support Group Meeting – Los Angeles Police Relief Association\, 600 N. Grand Ave.\, Los Angeles\, CA\, 90012\, United States
CATEGORIES:LAPD Group Meeting
ATTACH;FMTTYPE=image/png:https://larfpa.org/wp-content/uploads/2025/07/Untitled-design-2025-07-01T161726.101-scaled.png
END:VEVENT
BEGIN:VEVENT
DTSTART;TZID=America/Los_Angeles:20290524T113000
DTEND;TZID=America/Los_Angeles:20290524T123000
DTSTAMP:20260419T164532
CREATED:20221102T070033Z
LAST-MODIFIED:20250701T234938Z
UID:10002440-1874316600-1874320200@larfpa.org
SUMMARY:LAPD Cancer Support Group
DESCRIPTION:Website: www.lapcsg.org \nEmail: lapcsgcares@gmail.com \nCivilian Department Wellness Coordinator: (213) 216-7009
URL:https://larfpa.org/calendar-single-post-name/lapd-cancer-support-group/2029-05-24/
LOCATION:LAPD Cancer Support Group Meeting – Los Angeles Police Relief Association\, 600 N. Grand Ave.\, Los Angeles\, CA\, 90012\, United States
CATEGORIES:LAPD Group Meeting
ATTACH;FMTTYPE=image/png:https://larfpa.org/wp-content/uploads/2025/07/Untitled-design-2025-07-01T161726.101-scaled.png
END:VEVENT
BEGIN:VEVENT
DTSTART;TZID=America/Los_Angeles:20290628T113000
DTEND;TZID=America/Los_Angeles:20290628T123000
DTSTAMP:20260419T164532
CREATED:20221102T070033Z
LAST-MODIFIED:20250701T234938Z
UID:10002441-1877340600-1877344200@larfpa.org
SUMMARY:LAPD Cancer Support Group
DESCRIPTION:Website: www.lapcsg.org \nEmail: lapcsgcares@gmail.com \nCivilian Department Wellness Coordinator: (213) 216-7009
URL:https://larfpa.org/calendar-single-post-name/lapd-cancer-support-group/2029-06-28/
LOCATION:LAPD Cancer Support Group Meeting – Los Angeles Police Relief Association\, 600 N. Grand Ave.\, Los Angeles\, CA\, 90012\, United States
CATEGORIES:LAPD Group Meeting
ATTACH;FMTTYPE=image/png:https://larfpa.org/wp-content/uploads/2025/07/Untitled-design-2025-07-01T161726.101-scaled.png
END:VEVENT
BEGIN:VEVENT
DTSTART;TZID=America/Los_Angeles:20290726T113000
DTEND;TZID=America/Los_Angeles:20290726T123000
DTSTAMP:20260419T164532
CREATED:20221102T070033Z
LAST-MODIFIED:20250701T234938Z
UID:10002442-1879759800-1879763400@larfpa.org
SUMMARY:LAPD Cancer Support Group
DESCRIPTION:Website: www.lapcsg.org \nEmail: lapcsgcares@gmail.com \nCivilian Department Wellness Coordinator: (213) 216-7009
URL:https://larfpa.org/calendar-single-post-name/lapd-cancer-support-group/2029-07-26/
LOCATION:LAPD Cancer Support Group Meeting – Los Angeles Police Relief Association\, 600 N. Grand Ave.\, Los Angeles\, CA\, 90012\, United States
CATEGORIES:LAPD Group Meeting
ATTACH;FMTTYPE=image/png:https://larfpa.org/wp-content/uploads/2025/07/Untitled-design-2025-07-01T161726.101-scaled.png
END:VEVENT
BEGIN:VEVENT
DTSTART;TZID=America/Los_Angeles:20290823T113000
DTEND;TZID=America/Los_Angeles:20290823T123000
DTSTAMP:20260419T164532
CREATED:20221102T070033Z
LAST-MODIFIED:20250701T234938Z
UID:10002443-1882179000-1882182600@larfpa.org
SUMMARY:LAPD Cancer Support Group
DESCRIPTION:Website: www.lapcsg.org \nEmail: lapcsgcares@gmail.com \nCivilian Department Wellness Coordinator: (213) 216-7009
URL:https://larfpa.org/calendar-single-post-name/lapd-cancer-support-group/2029-08-23/
LOCATION:LAPD Cancer Support Group Meeting – Los Angeles Police Relief Association\, 600 N. Grand Ave.\, Los Angeles\, CA\, 90012\, United States
CATEGORIES:LAPD Group Meeting
ATTACH;FMTTYPE=image/png:https://larfpa.org/wp-content/uploads/2025/07/Untitled-design-2025-07-01T161726.101-scaled.png
END:VEVENT
BEGIN:VEVENT
DTSTART;TZID=America/Los_Angeles:20290927T113000
DTEND;TZID=America/Los_Angeles:20290927T123000
DTSTAMP:20260419T164532
CREATED:20221102T070033Z
LAST-MODIFIED:20250701T234938Z
UID:10002444-1885203000-1885206600@larfpa.org
SUMMARY:LAPD Cancer Support Group
DESCRIPTION:Website: www.lapcsg.org \nEmail: lapcsgcares@gmail.com \nCivilian Department Wellness Coordinator: (213) 216-7009
URL:https://larfpa.org/calendar-single-post-name/lapd-cancer-support-group/2029-09-27/
LOCATION:LAPD Cancer Support Group Meeting – Los Angeles Police Relief Association\, 600 N. Grand Ave.\, Los Angeles\, CA\, 90012\, United States
CATEGORIES:LAPD Group Meeting
ATTACH;FMTTYPE=image/png:https://larfpa.org/wp-content/uploads/2025/07/Untitled-design-2025-07-01T161726.101-scaled.png
END:VEVENT
BEGIN:VEVENT
DTSTART;TZID=America/Los_Angeles:20291025T113000
DTEND;TZID=America/Los_Angeles:20291025T123000
DTSTAMP:20260419T164532
CREATED:20221102T070033Z
LAST-MODIFIED:20250701T234938Z
UID:10002445-1887622200-1887625800@larfpa.org
SUMMARY:LAPD Cancer Support Group
DESCRIPTION:Website: www.lapcsg.org \nEmail: lapcsgcares@gmail.com \nCivilian Department Wellness Coordinator: (213) 216-7009
URL:https://larfpa.org/calendar-single-post-name/lapd-cancer-support-group/2029-10-25/
LOCATION:LAPD Cancer Support Group Meeting – Los Angeles Police Relief Association\, 600 N. Grand Ave.\, Los Angeles\, CA\, 90012\, United States
CATEGORIES:LAPD Group Meeting
ATTACH;FMTTYPE=image/png:https://larfpa.org/wp-content/uploads/2025/07/Untitled-design-2025-07-01T161726.101-scaled.png
END:VEVENT
BEGIN:VEVENT
DTSTART;TZID=America/Los_Angeles:20291122T113000
DTEND;TZID=America/Los_Angeles:20291122T123000
DTSTAMP:20260419T164532
CREATED:20221102T070033Z
LAST-MODIFIED:20250701T234938Z
UID:10002446-1890041400-1890045000@larfpa.org
SUMMARY:LAPD Cancer Support Group
DESCRIPTION:Website: www.lapcsg.org \nEmail: lapcsgcares@gmail.com \nCivilian Department Wellness Coordinator: (213) 216-7009
URL:https://larfpa.org/calendar-single-post-name/lapd-cancer-support-group/2029-11-22/
LOCATION:LAPD Cancer Support Group Meeting – Los Angeles Police Relief Association\, 600 N. Grand Ave.\, Los Angeles\, CA\, 90012\, United States
CATEGORIES:LAPD Group Meeting
ATTACH;FMTTYPE=image/png:https://larfpa.org/wp-content/uploads/2025/07/Untitled-design-2025-07-01T161726.101-scaled.png
END:VEVENT
BEGIN:VEVENT
DTSTART;TZID=America/Los_Angeles:20291227T113000
DTEND;TZID=America/Los_Angeles:20291227T123000
DTSTAMP:20260419T164532
CREATED:20221102T070033Z
LAST-MODIFIED:20250701T234938Z
UID:10002447-1893065400-1893069000@larfpa.org
SUMMARY:LAPD Cancer Support Group
DESCRIPTION:Website: www.lapcsg.org \nEmail: lapcsgcares@gmail.com \nCivilian Department Wellness Coordinator: (213) 216-7009
URL:https://larfpa.org/calendar-single-post-name/lapd-cancer-support-group/2029-12-27/
LOCATION:LAPD Cancer Support Group Meeting – Los Angeles Police Relief Association\, 600 N. Grand Ave.\, Los Angeles\, CA\, 90012\, United States
CATEGORIES:LAPD Group Meeting
ATTACH;FMTTYPE=image/png:https://larfpa.org/wp-content/uploads/2025/07/Untitled-design-2025-07-01T161726.101-scaled.png
END:VEVENT
BEGIN:VEVENT
DTSTART;TZID=America/Los_Angeles:20300124T113000
DTEND;TZID=America/Los_Angeles:20300124T123000
DTSTAMP:20260419T164532
CREATED:20221102T070033Z
LAST-MODIFIED:20250701T234938Z
UID:10002448-1895484600-1895488200@larfpa.org
SUMMARY:LAPD Cancer Support Group
DESCRIPTION:Website: www.lapcsg.org \nEmail: lapcsgcares@gmail.com \nCivilian Department Wellness Coordinator: (213) 216-7009
URL:https://larfpa.org/calendar-single-post-name/lapd-cancer-support-group/2030-01-24/
LOCATION:LAPD Cancer Support Group Meeting – Los Angeles Police Relief Association\, 600 N. Grand Ave.\, Los Angeles\, CA\, 90012\, United States
CATEGORIES:LAPD Group Meeting
ATTACH;FMTTYPE=image/png:https://larfpa.org/wp-content/uploads/2025/07/Untitled-design-2025-07-01T161726.101-scaled.png
END:VEVENT
BEGIN:VEVENT
DTSTART;TZID=America/Los_Angeles:20300228T113000
DTEND;TZID=America/Los_Angeles:20300228T123000
DTSTAMP:20260419T164532
CREATED:20221102T070033Z
LAST-MODIFIED:20250701T234938Z
UID:10002449-1898508600-1898512200@larfpa.org
SUMMARY:LAPD Cancer Support Group
DESCRIPTION:Website: www.lapcsg.org \nEmail: lapcsgcares@gmail.com \nCivilian Department Wellness Coordinator: (213) 216-7009
URL:https://larfpa.org/calendar-single-post-name/lapd-cancer-support-group/2030-02-28/
LOCATION:LAPD Cancer Support Group Meeting – Los Angeles Police Relief Association\, 600 N. Grand Ave.\, Los Angeles\, CA\, 90012\, United States
CATEGORIES:LAPD Group Meeting
ATTACH;FMTTYPE=image/png:https://larfpa.org/wp-content/uploads/2025/07/Untitled-design-2025-07-01T161726.101-scaled.png
END:VEVENT
BEGIN:VEVENT
DTSTART;TZID=America/Los_Angeles:20300328T113000
DTEND;TZID=America/Los_Angeles:20300328T123000
DTSTAMP:20260419T164532
CREATED:20221102T070033Z
LAST-MODIFIED:20250701T234938Z
UID:10002450-1900927800-1900931400@larfpa.org
SUMMARY:LAPD Cancer Support Group
DESCRIPTION:Website: www.lapcsg.org \nEmail: lapcsgcares@gmail.com \nCivilian Department Wellness Coordinator: (213) 216-7009
URL:https://larfpa.org/calendar-single-post-name/lapd-cancer-support-group/2030-03-28/
LOCATION:LAPD Cancer Support Group Meeting – Los Angeles Police Relief Association\, 600 N. Grand Ave.\, Los Angeles\, CA\, 90012\, United States
CATEGORIES:LAPD Group Meeting
ATTACH;FMTTYPE=image/png:https://larfpa.org/wp-content/uploads/2025/07/Untitled-design-2025-07-01T161726.101-scaled.png
END:VEVENT
BEGIN:VEVENT
DTSTART;TZID=America/Los_Angeles:20300425T113000
DTEND;TZID=America/Los_Angeles:20300425T123000
DTSTAMP:20260419T164532
CREATED:20221102T070033Z
LAST-MODIFIED:20250701T234938Z
UID:10002451-1903347000-1903350600@larfpa.org
SUMMARY:LAPD Cancer Support Group
DESCRIPTION:Website: www.lapcsg.org \nEmail: lapcsgcares@gmail.com \nCivilian Department Wellness Coordinator: (213) 216-7009
URL:https://larfpa.org/calendar-single-post-name/lapd-cancer-support-group/2030-04-25/
LOCATION:LAPD Cancer Support Group Meeting – Los Angeles Police Relief Association\, 600 N. Grand Ave.\, Los Angeles\, CA\, 90012\, United States
CATEGORIES:LAPD Group Meeting
ATTACH;FMTTYPE=image/png:https://larfpa.org/wp-content/uploads/2025/07/Untitled-design-2025-07-01T161726.101-scaled.png
END:VEVENT
BEGIN:VEVENT
DTSTART;TZID=America/Los_Angeles:20300523T113000
DTEND;TZID=America/Los_Angeles:20300523T123000
DTSTAMP:20260419T164532
CREATED:20221102T070033Z
LAST-MODIFIED:20250701T234938Z
UID:10002452-1905766200-1905769800@larfpa.org
SUMMARY:LAPD Cancer Support Group
DESCRIPTION:Website: www.lapcsg.org \nEmail: lapcsgcares@gmail.com \nCivilian Department Wellness Coordinator: (213) 216-7009
URL:https://larfpa.org/calendar-single-post-name/lapd-cancer-support-group/2030-05-23/
LOCATION:LAPD Cancer Support Group Meeting – Los Angeles Police Relief Association\, 600 N. Grand Ave.\, Los Angeles\, CA\, 90012\, United States
CATEGORIES:LAPD Group Meeting
ATTACH;FMTTYPE=image/png:https://larfpa.org/wp-content/uploads/2025/07/Untitled-design-2025-07-01T161726.101-scaled.png
END:VEVENT
BEGIN:VEVENT
DTSTART;TZID=America/Los_Angeles:20300627T113000
DTEND;TZID=America/Los_Angeles:20300627T123000
DTSTAMP:20260419T164532
CREATED:20221102T070033Z
LAST-MODIFIED:20250701T234938Z
UID:10002453-1908790200-1908793800@larfpa.org
SUMMARY:LAPD Cancer Support Group
DESCRIPTION:Website: www.lapcsg.org \nEmail: lapcsgcares@gmail.com \nCivilian Department Wellness Coordinator: (213) 216-7009
URL:https://larfpa.org/calendar-single-post-name/lapd-cancer-support-group/2030-06-27/
LOCATION:LAPD Cancer Support Group Meeting – Los Angeles Police Relief Association\, 600 N. Grand Ave.\, Los Angeles\, CA\, 90012\, United States
CATEGORIES:LAPD Group Meeting
ATTACH;FMTTYPE=image/png:https://larfpa.org/wp-content/uploads/2025/07/Untitled-design-2025-07-01T161726.101-scaled.png
END:VEVENT
END:VCALENDAR