BEGIN:VCALENDAR
VERSION:2.0
PRODID:-//LARFPA - ECPv6.15.20//NONSGML v1.0//EN
CALSCALE:GREGORIAN
METHOD:PUBLISH
X-ORIGINAL-URL:https://larfpa.org
X-WR-CALDESC:Events for LARFPA
REFRESH-INTERVAL;VALUE=DURATION:PT1H
X-Robots-Tag:noindex
X-PUBLISHED-TTL:PT1H
BEGIN:VTIMEZONE
TZID:America/Los_Angeles
BEGIN:DAYLIGHT
TZOFFSETFROM:-0800
TZOFFSETTO:-0700
TZNAME:PDT
DTSTART:20210314T100000
END:DAYLIGHT
BEGIN:STANDARD
TZOFFSETFROM:-0700
TZOFFSETTO:-0800
TZNAME:PST
DTSTART:20211107T090000
END:STANDARD
BEGIN:DAYLIGHT
TZOFFSETFROM:-0800
TZOFFSETTO:-0700
TZNAME:PDT
DTSTART:20220313T100000
END:DAYLIGHT
BEGIN:STANDARD
TZOFFSETFROM:-0700
TZOFFSETTO:-0800
TZNAME:PST
DTSTART:20221106T090000
END:STANDARD
BEGIN:DAYLIGHT
TZOFFSETFROM:-0800
TZOFFSETTO:-0700
TZNAME:PDT
DTSTART:20230312T100000
END:DAYLIGHT
BEGIN:STANDARD
TZOFFSETFROM:-0700
TZOFFSETTO:-0800
TZNAME:PST
DTSTART:20231105T090000
END:STANDARD
BEGIN:DAYLIGHT
TZOFFSETFROM:-0800
TZOFFSETTO:-0700
TZNAME:PDT
DTSTART:20240310T100000
END:DAYLIGHT
BEGIN:STANDARD
TZOFFSETFROM:-0700
TZOFFSETTO:-0800
TZNAME:PST
DTSTART:20241103T090000
END:STANDARD
END:VTIMEZONE
BEGIN:VEVENT
DTSTART;TZID=America/Los_Angeles:20230404T090000
DTEND;TZID=America/Los_Angeles:20230404T120000
DTSTAMP:20260419T213326
CREATED:20221019T060052Z
LAST-MODIFIED:20250702T001806Z
UID:10003118-1680598800-1680609600@larfpa.org
SUMMARY:Inland Blue Line Monthly Breakfast
DESCRIPTION:Contact: Bill Fromling (951) 308-4570 \n  \n 
URL:https://larfpa.org/calendar-single-post-name/inland-blue-line-monthly-breakfast/2023-04-04/
LOCATION:Inland Blue Line Monthly Breakfast Location – Richie’s Diner\, 40615 Murrieta Hot Springs Rd.\, Murrieta\, CA\, 92562\, United States
CATEGORIES:LAPD Group Meeting,Retiree Group Meeting
ATTACH;FMTTYPE=image/png:https://larfpa.org/wp-content/uploads/2025/07/Untitled-design-2025-07-01T161726.101-scaled.png
END:VEVENT
BEGIN:VEVENT
DTSTART;TZID=America/Los_Angeles:20230307T090000
DTEND;TZID=America/Los_Angeles:20230307T120000
DTSTAMP:20260419T213326
CREATED:20221019T060052Z
LAST-MODIFIED:20250702T001806Z
UID:10003117-1678179600-1678190400@larfpa.org
SUMMARY:Inland Blue Line Monthly Breakfast
DESCRIPTION:Contact: Bill Fromling (951) 308-4570 \n  \n 
URL:https://larfpa.org/calendar-single-post-name/inland-blue-line-monthly-breakfast/2023-03-07/
LOCATION:Inland Blue Line Monthly Breakfast Location – Richie’s Diner\, 40615 Murrieta Hot Springs Rd.\, Murrieta\, CA\, 92562\, United States
CATEGORIES:LAPD Group Meeting,Retiree Group Meeting
ATTACH;FMTTYPE=image/png:https://larfpa.org/wp-content/uploads/2025/07/Untitled-design-2025-07-01T161726.101-scaled.png
END:VEVENT
BEGIN:VEVENT
DTSTART;TZID=America/Los_Angeles:20230207T090000
DTEND;TZID=America/Los_Angeles:20230207T120000
DTSTAMP:20260419T213326
CREATED:20221019T060052Z
LAST-MODIFIED:20250702T001806Z
UID:10003116-1675760400-1675771200@larfpa.org
SUMMARY:Inland Blue Line Monthly Breakfast
DESCRIPTION:Contact: Bill Fromling (951) 308-4570 \n  \n 
URL:https://larfpa.org/calendar-single-post-name/inland-blue-line-monthly-breakfast/2023-02-07/
LOCATION:Inland Blue Line Monthly Breakfast Location – Richie’s Diner\, 40615 Murrieta Hot Springs Rd.\, Murrieta\, CA\, 92562\, United States
CATEGORIES:LAPD Group Meeting,Retiree Group Meeting
ATTACH;FMTTYPE=image/png:https://larfpa.org/wp-content/uploads/2025/07/Untitled-design-2025-07-01T161726.101-scaled.png
END:VEVENT
BEGIN:VEVENT
DTSTART;TZID=America/Los_Angeles:20230103T090000
DTEND;TZID=America/Los_Angeles:20230103T120000
DTSTAMP:20260419T213327
CREATED:20221019T060052Z
LAST-MODIFIED:20250702T001806Z
UID:10003115-1672736400-1672747200@larfpa.org
SUMMARY:Inland Blue Line Monthly Breakfast
DESCRIPTION:Contact: Bill Fromling (951) 308-4570 \n  \n 
URL:https://larfpa.org/calendar-single-post-name/inland-blue-line-monthly-breakfast/2023-01-03/
LOCATION:Inland Blue Line Monthly Breakfast Location – Richie’s Diner\, 40615 Murrieta Hot Springs Rd.\, Murrieta\, CA\, 92562\, United States
CATEGORIES:LAPD Group Meeting,Retiree Group Meeting
ATTACH;FMTTYPE=image/png:https://larfpa.org/wp-content/uploads/2025/07/Untitled-design-2025-07-01T161726.101-scaled.png
END:VEVENT
BEGIN:VEVENT
DTSTART;TZID=America/Los_Angeles:20221206T090000
DTEND;TZID=America/Los_Angeles:20221206T120000
DTSTAMP:20260419T213327
CREATED:20221019T060052Z
LAST-MODIFIED:20250702T001806Z
UID:10003114-1670317200-1670328000@larfpa.org
SUMMARY:Inland Blue Line Monthly Breakfast
DESCRIPTION:Contact: Bill Fromling (951) 308-4570 \n  \n 
URL:https://larfpa.org/calendar-single-post-name/inland-blue-line-monthly-breakfast/2022-12-06/
LOCATION:Inland Blue Line Monthly Breakfast Location – Richie’s Diner\, 40615 Murrieta Hot Springs Rd.\, Murrieta\, CA\, 92562\, United States
CATEGORIES:LAPD Group Meeting,Retiree Group Meeting
ATTACH;FMTTYPE=image/png:https://larfpa.org/wp-content/uploads/2025/07/Untitled-design-2025-07-01T161726.101-scaled.png
END:VEVENT
BEGIN:VEVENT
DTSTART;TZID=America/Los_Angeles:20221101T090000
DTEND;TZID=America/Los_Angeles:20221101T120000
DTSTAMP:20260419T213327
CREATED:20221019T060052Z
LAST-MODIFIED:20250702T001806Z
UID:10003113-1667293200-1667304000@larfpa.org
SUMMARY:Inland Blue Line Monthly Breakfast
DESCRIPTION:Contact: Bill Fromling (951) 308-4570 \n  \n 
URL:https://larfpa.org/calendar-single-post-name/inland-blue-line-monthly-breakfast/2022-11-01/
LOCATION:Inland Blue Line Monthly Breakfast Location – Richie’s Diner\, 40615 Murrieta Hot Springs Rd.\, Murrieta\, CA\, 92562\, United States
CATEGORIES:LAPD Group Meeting,Retiree Group Meeting
ATTACH;FMTTYPE=image/png:https://larfpa.org/wp-content/uploads/2025/07/Untitled-design-2025-07-01T161726.101-scaled.png
END:VEVENT
BEGIN:VEVENT
DTSTART;TZID=America/Los_Angeles:20221004T090000
DTEND;TZID=America/Los_Angeles:20221004T120000
DTSTAMP:20260419T213327
CREATED:20221019T060052Z
LAST-MODIFIED:20250702T001806Z
UID:10003112-1664874000-1664884800@larfpa.org
SUMMARY:Inland Blue Line Monthly Breakfast
DESCRIPTION:Contact: Bill Fromling (951) 308-4570 \n  \n 
URL:https://larfpa.org/calendar-single-post-name/inland-blue-line-monthly-breakfast/2022-10-04/
LOCATION:Inland Blue Line Monthly Breakfast Location – Richie’s Diner\, 40615 Murrieta Hot Springs Rd.\, Murrieta\, CA\, 92562\, United States
CATEGORIES:LAPD Group Meeting,Retiree Group Meeting
ATTACH;FMTTYPE=image/png:https://larfpa.org/wp-content/uploads/2025/07/Untitled-design-2025-07-01T161726.101-scaled.png
END:VEVENT
END:VCALENDAR