BEGIN:VCALENDAR
VERSION:2.0
PRODID:-//LARFPA - ECPv6.15.20//NONSGML v1.0//EN
CALSCALE:GREGORIAN
METHOD:PUBLISH
X-WR-CALNAME:LARFPA
X-ORIGINAL-URL:https://larfpa.org
X-WR-CALDESC:Events for LARFPA
REFRESH-INTERVAL;VALUE=DURATION:PT1H
X-Robots-Tag:noindex
X-PUBLISHED-TTL:PT1H
BEGIN:VTIMEZONE
TZID:America/Los_Angeles
BEGIN:DAYLIGHT
TZOFFSETFROM:-0800
TZOFFSETTO:-0700
TZNAME:PDT
DTSTART:20250309T100000
END:DAYLIGHT
BEGIN:STANDARD
TZOFFSETFROM:-0700
TZOFFSETTO:-0800
TZNAME:PST
DTSTART:20251102T090000
END:STANDARD
BEGIN:DAYLIGHT
TZOFFSETFROM:-0800
TZOFFSETTO:-0700
TZNAME:PDT
DTSTART:20260308T100000
END:DAYLIGHT
BEGIN:STANDARD
TZOFFSETFROM:-0700
TZOFFSETTO:-0800
TZNAME:PST
DTSTART:20261101T090000
END:STANDARD
BEGIN:DAYLIGHT
TZOFFSETFROM:-0800
TZOFFSETTO:-0700
TZNAME:PDT
DTSTART:20270314T100000
END:DAYLIGHT
BEGIN:STANDARD
TZOFFSETFROM:-0700
TZOFFSETTO:-0800
TZNAME:PST
DTSTART:20271107T090000
END:STANDARD
BEGIN:DAYLIGHT
TZOFFSETFROM:-0800
TZOFFSETTO:-0700
TZNAME:PDT
DTSTART:20280312T100000
END:DAYLIGHT
BEGIN:STANDARD
TZOFFSETFROM:-0700
TZOFFSETTO:-0800
TZNAME:PST
DTSTART:20281105T090000
END:STANDARD
BEGIN:DAYLIGHT
TZOFFSETFROM:-0800
TZOFFSETTO:-0700
TZNAME:PDT
DTSTART:20290311T100000
END:DAYLIGHT
BEGIN:STANDARD
TZOFFSETFROM:-0700
TZOFFSETTO:-0800
TZNAME:PST
DTSTART:20291104T090000
END:STANDARD
END:VTIMEZONE
BEGIN:VEVENT
DTSTART;TZID=America/Los_Angeles:20260520T100000
DTEND;TZID=America/Los_Angeles:20260520T130000
DTSTAMP:20260421T090424
CREATED:20250702T003838Z
LAST-MODIFIED:20250702T003838Z
UID:10003551-1779271200-1779282000@larfpa.org
SUMMARY:Valley Retired Blues
DESCRIPTION:Contact Tom Hays at (818) 704-6284 or haystrom@aol.com
URL:https://larfpa.org/calendar-single-post-name/valley-retired-blues/2026-05-20/
LOCATION:Bobs Big Boy\, 8876 Corbin Ave.\, Northridge\, CA\, 91324\, United States
CATEGORIES:LAPD Group Meeting,Retiree Group Meeting
ATTACH;FMTTYPE=image/png:https://larfpa.org/wp-content/uploads/2025/07/Untitled-design-2025-07-01T161726.101-scaled.png
END:VEVENT
BEGIN:VEVENT
DTSTART;TZID=America/Los_Angeles:20260617T100000
DTEND;TZID=America/Los_Angeles:20260617T130000
DTSTAMP:20260421T090424
CREATED:20250702T003838Z
LAST-MODIFIED:20250702T003838Z
UID:10003552-1781690400-1781701200@larfpa.org
SUMMARY:Valley Retired Blues
DESCRIPTION:Contact Tom Hays at (818) 704-6284 or haystrom@aol.com
URL:https://larfpa.org/calendar-single-post-name/valley-retired-blues/2026-06-17/
LOCATION:Bobs Big Boy\, 8876 Corbin Ave.\, Northridge\, CA\, 91324\, United States
CATEGORIES:LAPD Group Meeting,Retiree Group Meeting
ATTACH;FMTTYPE=image/png:https://larfpa.org/wp-content/uploads/2025/07/Untitled-design-2025-07-01T161726.101-scaled.png
END:VEVENT
BEGIN:VEVENT
DTSTART;TZID=America/Los_Angeles:20260715T100000
DTEND;TZID=America/Los_Angeles:20260715T130000
DTSTAMP:20260421T090424
CREATED:20250702T003838Z
LAST-MODIFIED:20250702T003838Z
UID:10003553-1784109600-1784120400@larfpa.org
SUMMARY:Valley Retired Blues
DESCRIPTION:Contact Tom Hays at (818) 704-6284 or haystrom@aol.com
URL:https://larfpa.org/calendar-single-post-name/valley-retired-blues/2026-07-15/
LOCATION:Bobs Big Boy\, 8876 Corbin Ave.\, Northridge\, CA\, 91324\, United States
CATEGORIES:LAPD Group Meeting,Retiree Group Meeting
ATTACH;FMTTYPE=image/png:https://larfpa.org/wp-content/uploads/2025/07/Untitled-design-2025-07-01T161726.101-scaled.png
END:VEVENT
BEGIN:VEVENT
DTSTART;TZID=America/Los_Angeles:20260819T100000
DTEND;TZID=America/Los_Angeles:20260819T130000
DTSTAMP:20260421T090424
CREATED:20250702T003838Z
LAST-MODIFIED:20250702T003838Z
UID:10003554-1787133600-1787144400@larfpa.org
SUMMARY:Valley Retired Blues
DESCRIPTION:Contact Tom Hays at (818) 704-6284 or haystrom@aol.com
URL:https://larfpa.org/calendar-single-post-name/valley-retired-blues/2026-08-19/
LOCATION:Bobs Big Boy\, 8876 Corbin Ave.\, Northridge\, CA\, 91324\, United States
CATEGORIES:LAPD Group Meeting,Retiree Group Meeting
ATTACH;FMTTYPE=image/png:https://larfpa.org/wp-content/uploads/2025/07/Untitled-design-2025-07-01T161726.101-scaled.png
END:VEVENT
BEGIN:VEVENT
DTSTART;TZID=America/Los_Angeles:20260916T100000
DTEND;TZID=America/Los_Angeles:20260916T130000
DTSTAMP:20260421T090424
CREATED:20250702T003838Z
LAST-MODIFIED:20250702T003838Z
UID:10003555-1789552800-1789563600@larfpa.org
SUMMARY:Valley Retired Blues
DESCRIPTION:Contact Tom Hays at (818) 704-6284 or haystrom@aol.com
URL:https://larfpa.org/calendar-single-post-name/valley-retired-blues/2026-09-16/
LOCATION:Bobs Big Boy\, 8876 Corbin Ave.\, Northridge\, CA\, 91324\, United States
CATEGORIES:LAPD Group Meeting,Retiree Group Meeting
ATTACH;FMTTYPE=image/png:https://larfpa.org/wp-content/uploads/2025/07/Untitled-design-2025-07-01T161726.101-scaled.png
END:VEVENT
BEGIN:VEVENT
DTSTART;TZID=America/Los_Angeles:20261021T100000
DTEND;TZID=America/Los_Angeles:20261021T130000
DTSTAMP:20260421T090424
CREATED:20250702T003838Z
LAST-MODIFIED:20250702T003838Z
UID:10003556-1792576800-1792587600@larfpa.org
SUMMARY:Valley Retired Blues
DESCRIPTION:Contact Tom Hays at (818) 704-6284 or haystrom@aol.com
URL:https://larfpa.org/calendar-single-post-name/valley-retired-blues/2026-10-21/
LOCATION:Bobs Big Boy\, 8876 Corbin Ave.\, Northridge\, CA\, 91324\, United States
CATEGORIES:LAPD Group Meeting,Retiree Group Meeting
ATTACH;FMTTYPE=image/png:https://larfpa.org/wp-content/uploads/2025/07/Untitled-design-2025-07-01T161726.101-scaled.png
END:VEVENT
BEGIN:VEVENT
DTSTART;TZID=America/Los_Angeles:20261118T100000
DTEND;TZID=America/Los_Angeles:20261118T130000
DTSTAMP:20260421T090424
CREATED:20250702T003838Z
LAST-MODIFIED:20250702T003838Z
UID:10003557-1794996000-1795006800@larfpa.org
SUMMARY:Valley Retired Blues
DESCRIPTION:Contact Tom Hays at (818) 704-6284 or haystrom@aol.com
URL:https://larfpa.org/calendar-single-post-name/valley-retired-blues/2026-11-18/
LOCATION:Bobs Big Boy\, 8876 Corbin Ave.\, Northridge\, CA\, 91324\, United States
CATEGORIES:LAPD Group Meeting,Retiree Group Meeting
ATTACH;FMTTYPE=image/png:https://larfpa.org/wp-content/uploads/2025/07/Untitled-design-2025-07-01T161726.101-scaled.png
END:VEVENT
BEGIN:VEVENT
DTSTART;TZID=America/Los_Angeles:20261216T100000
DTEND;TZID=America/Los_Angeles:20261216T130000
DTSTAMP:20260421T090424
CREATED:20250702T003838Z
LAST-MODIFIED:20250702T003838Z
UID:10003558-1797415200-1797426000@larfpa.org
SUMMARY:Valley Retired Blues
DESCRIPTION:Contact Tom Hays at (818) 704-6284 or haystrom@aol.com
URL:https://larfpa.org/calendar-single-post-name/valley-retired-blues/2026-12-16/
LOCATION:Bobs Big Boy\, 8876 Corbin Ave.\, Northridge\, CA\, 91324\, United States
CATEGORIES:LAPD Group Meeting,Retiree Group Meeting
ATTACH;FMTTYPE=image/png:https://larfpa.org/wp-content/uploads/2025/07/Untitled-design-2025-07-01T161726.101-scaled.png
END:VEVENT
BEGIN:VEVENT
DTSTART;TZID=America/Los_Angeles:20270120T100000
DTEND;TZID=America/Los_Angeles:20270120T130000
DTSTAMP:20260421T090424
CREATED:20250702T003838Z
LAST-MODIFIED:20250702T003838Z
UID:10003559-1800439200-1800450000@larfpa.org
SUMMARY:Valley Retired Blues
DESCRIPTION:Contact Tom Hays at (818) 704-6284 or haystrom@aol.com
URL:https://larfpa.org/calendar-single-post-name/valley-retired-blues/2027-01-20/
LOCATION:Bobs Big Boy\, 8876 Corbin Ave.\, Northridge\, CA\, 91324\, United States
CATEGORIES:LAPD Group Meeting,Retiree Group Meeting
ATTACH;FMTTYPE=image/png:https://larfpa.org/wp-content/uploads/2025/07/Untitled-design-2025-07-01T161726.101-scaled.png
END:VEVENT
BEGIN:VEVENT
DTSTART;TZID=America/Los_Angeles:20270217T100000
DTEND;TZID=America/Los_Angeles:20270217T130000
DTSTAMP:20260421T090424
CREATED:20250702T003838Z
LAST-MODIFIED:20250702T003838Z
UID:10003560-1802858400-1802869200@larfpa.org
SUMMARY:Valley Retired Blues
DESCRIPTION:Contact Tom Hays at (818) 704-6284 or haystrom@aol.com
URL:https://larfpa.org/calendar-single-post-name/valley-retired-blues/2027-02-17/
LOCATION:Bobs Big Boy\, 8876 Corbin Ave.\, Northridge\, CA\, 91324\, United States
CATEGORIES:LAPD Group Meeting,Retiree Group Meeting
ATTACH;FMTTYPE=image/png:https://larfpa.org/wp-content/uploads/2025/07/Untitled-design-2025-07-01T161726.101-scaled.png
END:VEVENT
BEGIN:VEVENT
DTSTART;TZID=America/Los_Angeles:20270317T100000
DTEND;TZID=America/Los_Angeles:20270317T130000
DTSTAMP:20260421T090424
CREATED:20250702T003838Z
LAST-MODIFIED:20250702T003838Z
UID:10003561-1805277600-1805288400@larfpa.org
SUMMARY:Valley Retired Blues
DESCRIPTION:Contact Tom Hays at (818) 704-6284 or haystrom@aol.com
URL:https://larfpa.org/calendar-single-post-name/valley-retired-blues/2027-03-17/
LOCATION:Bobs Big Boy\, 8876 Corbin Ave.\, Northridge\, CA\, 91324\, United States
CATEGORIES:LAPD Group Meeting,Retiree Group Meeting
ATTACH;FMTTYPE=image/png:https://larfpa.org/wp-content/uploads/2025/07/Untitled-design-2025-07-01T161726.101-scaled.png
END:VEVENT
BEGIN:VEVENT
DTSTART;TZID=America/Los_Angeles:20270421T100000
DTEND;TZID=America/Los_Angeles:20270421T130000
DTSTAMP:20260421T090424
CREATED:20250702T003838Z
LAST-MODIFIED:20250702T003838Z
UID:10003562-1808301600-1808312400@larfpa.org
SUMMARY:Valley Retired Blues
DESCRIPTION:Contact Tom Hays at (818) 704-6284 or haystrom@aol.com
URL:https://larfpa.org/calendar-single-post-name/valley-retired-blues/2027-04-21/
LOCATION:Bobs Big Boy\, 8876 Corbin Ave.\, Northridge\, CA\, 91324\, United States
CATEGORIES:LAPD Group Meeting,Retiree Group Meeting
ATTACH;FMTTYPE=image/png:https://larfpa.org/wp-content/uploads/2025/07/Untitled-design-2025-07-01T161726.101-scaled.png
END:VEVENT
BEGIN:VEVENT
DTSTART;TZID=America/Los_Angeles:20270519T100000
DTEND;TZID=America/Los_Angeles:20270519T130000
DTSTAMP:20260421T090424
CREATED:20250702T003838Z
LAST-MODIFIED:20250702T003838Z
UID:10003563-1810720800-1810731600@larfpa.org
SUMMARY:Valley Retired Blues
DESCRIPTION:Contact Tom Hays at (818) 704-6284 or haystrom@aol.com
URL:https://larfpa.org/calendar-single-post-name/valley-retired-blues/2027-05-19/
LOCATION:Bobs Big Boy\, 8876 Corbin Ave.\, Northridge\, CA\, 91324\, United States
CATEGORIES:LAPD Group Meeting,Retiree Group Meeting
ATTACH;FMTTYPE=image/png:https://larfpa.org/wp-content/uploads/2025/07/Untitled-design-2025-07-01T161726.101-scaled.png
END:VEVENT
BEGIN:VEVENT
DTSTART;TZID=America/Los_Angeles:20270616T100000
DTEND;TZID=America/Los_Angeles:20270616T130000
DTSTAMP:20260421T090424
CREATED:20250702T003838Z
LAST-MODIFIED:20250702T003838Z
UID:10003564-1813140000-1813150800@larfpa.org
SUMMARY:Valley Retired Blues
DESCRIPTION:Contact Tom Hays at (818) 704-6284 or haystrom@aol.com
URL:https://larfpa.org/calendar-single-post-name/valley-retired-blues/2027-06-16/
LOCATION:Bobs Big Boy\, 8876 Corbin Ave.\, Northridge\, CA\, 91324\, United States
CATEGORIES:LAPD Group Meeting,Retiree Group Meeting
ATTACH;FMTTYPE=image/png:https://larfpa.org/wp-content/uploads/2025/07/Untitled-design-2025-07-01T161726.101-scaled.png
END:VEVENT
BEGIN:VEVENT
DTSTART;TZID=America/Los_Angeles:20270721T100000
DTEND;TZID=America/Los_Angeles:20270721T130000
DTSTAMP:20260421T090424
CREATED:20250702T003838Z
LAST-MODIFIED:20250702T003838Z
UID:10003565-1816164000-1816174800@larfpa.org
SUMMARY:Valley Retired Blues
DESCRIPTION:Contact Tom Hays at (818) 704-6284 or haystrom@aol.com
URL:https://larfpa.org/calendar-single-post-name/valley-retired-blues/2027-07-21/
LOCATION:Bobs Big Boy\, 8876 Corbin Ave.\, Northridge\, CA\, 91324\, United States
CATEGORIES:LAPD Group Meeting,Retiree Group Meeting
ATTACH;FMTTYPE=image/png:https://larfpa.org/wp-content/uploads/2025/07/Untitled-design-2025-07-01T161726.101-scaled.png
END:VEVENT
BEGIN:VEVENT
DTSTART;TZID=America/Los_Angeles:20270818T100000
DTEND;TZID=America/Los_Angeles:20270818T130000
DTSTAMP:20260421T090424
CREATED:20250702T003838Z
LAST-MODIFIED:20250702T003838Z
UID:10003566-1818583200-1818594000@larfpa.org
SUMMARY:Valley Retired Blues
DESCRIPTION:Contact Tom Hays at (818) 704-6284 or haystrom@aol.com
URL:https://larfpa.org/calendar-single-post-name/valley-retired-blues/2027-08-18/
LOCATION:Bobs Big Boy\, 8876 Corbin Ave.\, Northridge\, CA\, 91324\, United States
CATEGORIES:LAPD Group Meeting,Retiree Group Meeting
ATTACH;FMTTYPE=image/png:https://larfpa.org/wp-content/uploads/2025/07/Untitled-design-2025-07-01T161726.101-scaled.png
END:VEVENT
BEGIN:VEVENT
DTSTART;TZID=America/Los_Angeles:20270915T100000
DTEND;TZID=America/Los_Angeles:20270915T130000
DTSTAMP:20260421T090424
CREATED:20250702T003838Z
LAST-MODIFIED:20250702T003838Z
UID:10003567-1821002400-1821013200@larfpa.org
SUMMARY:Valley Retired Blues
DESCRIPTION:Contact Tom Hays at (818) 704-6284 or haystrom@aol.com
URL:https://larfpa.org/calendar-single-post-name/valley-retired-blues/2027-09-15/
LOCATION:Bobs Big Boy\, 8876 Corbin Ave.\, Northridge\, CA\, 91324\, United States
CATEGORIES:LAPD Group Meeting,Retiree Group Meeting
ATTACH;FMTTYPE=image/png:https://larfpa.org/wp-content/uploads/2025/07/Untitled-design-2025-07-01T161726.101-scaled.png
END:VEVENT
BEGIN:VEVENT
DTSTART;TZID=America/Los_Angeles:20271020T100000
DTEND;TZID=America/Los_Angeles:20271020T130000
DTSTAMP:20260421T090424
CREATED:20250702T003838Z
LAST-MODIFIED:20250702T003838Z
UID:10003568-1824026400-1824037200@larfpa.org
SUMMARY:Valley Retired Blues
DESCRIPTION:Contact Tom Hays at (818) 704-6284 or haystrom@aol.com
URL:https://larfpa.org/calendar-single-post-name/valley-retired-blues/2027-10-20/
LOCATION:Bobs Big Boy\, 8876 Corbin Ave.\, Northridge\, CA\, 91324\, United States
CATEGORIES:LAPD Group Meeting,Retiree Group Meeting
ATTACH;FMTTYPE=image/png:https://larfpa.org/wp-content/uploads/2025/07/Untitled-design-2025-07-01T161726.101-scaled.png
END:VEVENT
BEGIN:VEVENT
DTSTART;TZID=America/Los_Angeles:20271117T100000
DTEND;TZID=America/Los_Angeles:20271117T130000
DTSTAMP:20260421T090424
CREATED:20250702T003838Z
LAST-MODIFIED:20250702T003838Z
UID:10003569-1826445600-1826456400@larfpa.org
SUMMARY:Valley Retired Blues
DESCRIPTION:Contact Tom Hays at (818) 704-6284 or haystrom@aol.com
URL:https://larfpa.org/calendar-single-post-name/valley-retired-blues/2027-11-17/
LOCATION:Bobs Big Boy\, 8876 Corbin Ave.\, Northridge\, CA\, 91324\, United States
CATEGORIES:LAPD Group Meeting,Retiree Group Meeting
ATTACH;FMTTYPE=image/png:https://larfpa.org/wp-content/uploads/2025/07/Untitled-design-2025-07-01T161726.101-scaled.png
END:VEVENT
BEGIN:VEVENT
DTSTART;TZID=America/Los_Angeles:20271215T100000
DTEND;TZID=America/Los_Angeles:20271215T130000
DTSTAMP:20260421T090424
CREATED:20250702T003838Z
LAST-MODIFIED:20250702T003838Z
UID:10003570-1828864800-1828875600@larfpa.org
SUMMARY:Valley Retired Blues
DESCRIPTION:Contact Tom Hays at (818) 704-6284 or haystrom@aol.com
URL:https://larfpa.org/calendar-single-post-name/valley-retired-blues/2027-12-15/
LOCATION:Bobs Big Boy\, 8876 Corbin Ave.\, Northridge\, CA\, 91324\, United States
CATEGORIES:LAPD Group Meeting,Retiree Group Meeting
ATTACH;FMTTYPE=image/png:https://larfpa.org/wp-content/uploads/2025/07/Untitled-design-2025-07-01T161726.101-scaled.png
END:VEVENT
BEGIN:VEVENT
DTSTART;TZID=America/Los_Angeles:20280119T100000
DTEND;TZID=America/Los_Angeles:20280119T130000
DTSTAMP:20260421T090424
CREATED:20250702T003838Z
LAST-MODIFIED:20250702T003838Z
UID:10003571-1831888800-1831899600@larfpa.org
SUMMARY:Valley Retired Blues
DESCRIPTION:Contact Tom Hays at (818) 704-6284 or haystrom@aol.com
URL:https://larfpa.org/calendar-single-post-name/valley-retired-blues/2028-01-19/
LOCATION:Bobs Big Boy\, 8876 Corbin Ave.\, Northridge\, CA\, 91324\, United States
CATEGORIES:LAPD Group Meeting,Retiree Group Meeting
ATTACH;FMTTYPE=image/png:https://larfpa.org/wp-content/uploads/2025/07/Untitled-design-2025-07-01T161726.101-scaled.png
END:VEVENT
BEGIN:VEVENT
DTSTART;TZID=America/Los_Angeles:20280216T100000
DTEND;TZID=America/Los_Angeles:20280216T130000
DTSTAMP:20260421T090424
CREATED:20250702T003838Z
LAST-MODIFIED:20250702T003838Z
UID:10003572-1834308000-1834318800@larfpa.org
SUMMARY:Valley Retired Blues
DESCRIPTION:Contact Tom Hays at (818) 704-6284 or haystrom@aol.com
URL:https://larfpa.org/calendar-single-post-name/valley-retired-blues/2028-02-16/
LOCATION:Bobs Big Boy\, 8876 Corbin Ave.\, Northridge\, CA\, 91324\, United States
CATEGORIES:LAPD Group Meeting,Retiree Group Meeting
ATTACH;FMTTYPE=image/png:https://larfpa.org/wp-content/uploads/2025/07/Untitled-design-2025-07-01T161726.101-scaled.png
END:VEVENT
BEGIN:VEVENT
DTSTART;TZID=America/Los_Angeles:20280315T100000
DTEND;TZID=America/Los_Angeles:20280315T130000
DTSTAMP:20260421T090424
CREATED:20250702T003838Z
LAST-MODIFIED:20250702T003838Z
UID:10003573-1836727200-1836738000@larfpa.org
SUMMARY:Valley Retired Blues
DESCRIPTION:Contact Tom Hays at (818) 704-6284 or haystrom@aol.com
URL:https://larfpa.org/calendar-single-post-name/valley-retired-blues/2028-03-15/
LOCATION:Bobs Big Boy\, 8876 Corbin Ave.\, Northridge\, CA\, 91324\, United States
CATEGORIES:LAPD Group Meeting,Retiree Group Meeting
ATTACH;FMTTYPE=image/png:https://larfpa.org/wp-content/uploads/2025/07/Untitled-design-2025-07-01T161726.101-scaled.png
END:VEVENT
BEGIN:VEVENT
DTSTART;TZID=America/Los_Angeles:20280419T100000
DTEND;TZID=America/Los_Angeles:20280419T130000
DTSTAMP:20260421T090424
CREATED:20250702T003838Z
LAST-MODIFIED:20250702T003838Z
UID:10003574-1839751200-1839762000@larfpa.org
SUMMARY:Valley Retired Blues
DESCRIPTION:Contact Tom Hays at (818) 704-6284 or haystrom@aol.com
URL:https://larfpa.org/calendar-single-post-name/valley-retired-blues/2028-04-19/
LOCATION:Bobs Big Boy\, 8876 Corbin Ave.\, Northridge\, CA\, 91324\, United States
CATEGORIES:LAPD Group Meeting,Retiree Group Meeting
ATTACH;FMTTYPE=image/png:https://larfpa.org/wp-content/uploads/2025/07/Untitled-design-2025-07-01T161726.101-scaled.png
END:VEVENT
BEGIN:VEVENT
DTSTART;TZID=America/Los_Angeles:20280517T100000
DTEND;TZID=America/Los_Angeles:20280517T130000
DTSTAMP:20260421T090424
CREATED:20250702T003838Z
LAST-MODIFIED:20250702T003838Z
UID:10003575-1842170400-1842181200@larfpa.org
SUMMARY:Valley Retired Blues
DESCRIPTION:Contact Tom Hays at (818) 704-6284 or haystrom@aol.com
URL:https://larfpa.org/calendar-single-post-name/valley-retired-blues/2028-05-17/
LOCATION:Bobs Big Boy\, 8876 Corbin Ave.\, Northridge\, CA\, 91324\, United States
CATEGORIES:LAPD Group Meeting,Retiree Group Meeting
ATTACH;FMTTYPE=image/png:https://larfpa.org/wp-content/uploads/2025/07/Untitled-design-2025-07-01T161726.101-scaled.png
END:VEVENT
BEGIN:VEVENT
DTSTART;TZID=America/Los_Angeles:20280621T100000
DTEND;TZID=America/Los_Angeles:20280621T130000
DTSTAMP:20260421T090424
CREATED:20250702T003838Z
LAST-MODIFIED:20250702T003838Z
UID:10003576-1845194400-1845205200@larfpa.org
SUMMARY:Valley Retired Blues
DESCRIPTION:Contact Tom Hays at (818) 704-6284 or haystrom@aol.com
URL:https://larfpa.org/calendar-single-post-name/valley-retired-blues/2028-06-21/
LOCATION:Bobs Big Boy\, 8876 Corbin Ave.\, Northridge\, CA\, 91324\, United States
CATEGORIES:LAPD Group Meeting,Retiree Group Meeting
ATTACH;FMTTYPE=image/png:https://larfpa.org/wp-content/uploads/2025/07/Untitled-design-2025-07-01T161726.101-scaled.png
END:VEVENT
BEGIN:VEVENT
DTSTART;TZID=America/Los_Angeles:20280719T100000
DTEND;TZID=America/Los_Angeles:20280719T130000
DTSTAMP:20260421T090424
CREATED:20250702T003838Z
LAST-MODIFIED:20250702T003838Z
UID:10003577-1847613600-1847624400@larfpa.org
SUMMARY:Valley Retired Blues
DESCRIPTION:Contact Tom Hays at (818) 704-6284 or haystrom@aol.com
URL:https://larfpa.org/calendar-single-post-name/valley-retired-blues/2028-07-19/
LOCATION:Bobs Big Boy\, 8876 Corbin Ave.\, Northridge\, CA\, 91324\, United States
CATEGORIES:LAPD Group Meeting,Retiree Group Meeting
ATTACH;FMTTYPE=image/png:https://larfpa.org/wp-content/uploads/2025/07/Untitled-design-2025-07-01T161726.101-scaled.png
END:VEVENT
BEGIN:VEVENT
DTSTART;TZID=America/Los_Angeles:20280816T100000
DTEND;TZID=America/Los_Angeles:20280816T130000
DTSTAMP:20260421T090424
CREATED:20250702T003838Z
LAST-MODIFIED:20250702T003838Z
UID:10003578-1850032800-1850043600@larfpa.org
SUMMARY:Valley Retired Blues
DESCRIPTION:Contact Tom Hays at (818) 704-6284 or haystrom@aol.com
URL:https://larfpa.org/calendar-single-post-name/valley-retired-blues/2028-08-16/
LOCATION:Bobs Big Boy\, 8876 Corbin Ave.\, Northridge\, CA\, 91324\, United States
CATEGORIES:LAPD Group Meeting,Retiree Group Meeting
ATTACH;FMTTYPE=image/png:https://larfpa.org/wp-content/uploads/2025/07/Untitled-design-2025-07-01T161726.101-scaled.png
END:VEVENT
BEGIN:VEVENT
DTSTART;TZID=America/Los_Angeles:20280920T100000
DTEND;TZID=America/Los_Angeles:20280920T130000
DTSTAMP:20260421T090424
CREATED:20250702T003838Z
LAST-MODIFIED:20250702T003838Z
UID:10003579-1853056800-1853067600@larfpa.org
SUMMARY:Valley Retired Blues
DESCRIPTION:Contact Tom Hays at (818) 704-6284 or haystrom@aol.com
URL:https://larfpa.org/calendar-single-post-name/valley-retired-blues/2028-09-20/
LOCATION:Bobs Big Boy\, 8876 Corbin Ave.\, Northridge\, CA\, 91324\, United States
CATEGORIES:LAPD Group Meeting,Retiree Group Meeting
ATTACH;FMTTYPE=image/png:https://larfpa.org/wp-content/uploads/2025/07/Untitled-design-2025-07-01T161726.101-scaled.png
END:VEVENT
BEGIN:VEVENT
DTSTART;TZID=America/Los_Angeles:20281018T100000
DTEND;TZID=America/Los_Angeles:20281018T130000
DTSTAMP:20260421T090424
CREATED:20250702T003838Z
LAST-MODIFIED:20250702T003838Z
UID:10003580-1855476000-1855486800@larfpa.org
SUMMARY:Valley Retired Blues
DESCRIPTION:Contact Tom Hays at (818) 704-6284 or haystrom@aol.com
URL:https://larfpa.org/calendar-single-post-name/valley-retired-blues/2028-10-18/
LOCATION:Bobs Big Boy\, 8876 Corbin Ave.\, Northridge\, CA\, 91324\, United States
CATEGORIES:LAPD Group Meeting,Retiree Group Meeting
ATTACH;FMTTYPE=image/png:https://larfpa.org/wp-content/uploads/2025/07/Untitled-design-2025-07-01T161726.101-scaled.png
END:VEVENT
END:VCALENDAR