BEGIN:VCALENDAR
VERSION:2.0
PRODID:-//LARFPA - ECPv6.15.20//NONSGML v1.0//EN
CALSCALE:GREGORIAN
METHOD:PUBLISH
X-WR-CALNAME:LARFPA
X-ORIGINAL-URL:https://larfpa.org
X-WR-CALDESC:Events for LARFPA
REFRESH-INTERVAL;VALUE=DURATION:PT1H
X-Robots-Tag:noindex
X-PUBLISHED-TTL:PT1H
BEGIN:VTIMEZONE
TZID:America/Los_Angeles
BEGIN:DAYLIGHT
TZOFFSETFROM:-0800
TZOFFSETTO:-0700
TZNAME:PDT
DTSTART:20260308T100000
END:DAYLIGHT
BEGIN:STANDARD
TZOFFSETFROM:-0700
TZOFFSETTO:-0800
TZNAME:PST
DTSTART:20261101T090000
END:STANDARD
BEGIN:DAYLIGHT
TZOFFSETFROM:-0800
TZOFFSETTO:-0700
TZNAME:PDT
DTSTART:20270314T100000
END:DAYLIGHT
BEGIN:STANDARD
TZOFFSETFROM:-0700
TZOFFSETTO:-0800
TZNAME:PST
DTSTART:20271107T090000
END:STANDARD
BEGIN:DAYLIGHT
TZOFFSETFROM:-0800
TZOFFSETTO:-0700
TZNAME:PDT
DTSTART:20280312T100000
END:DAYLIGHT
BEGIN:STANDARD
TZOFFSETFROM:-0700
TZOFFSETTO:-0800
TZNAME:PST
DTSTART:20281105T090000
END:STANDARD
END:VTIMEZONE
BEGIN:VEVENT
DTSTART;TZID=America/Los_Angeles:20270203T080000
DTEND;TZID=America/Los_Angeles:20270203T090000
DTSTAMP:20260421T103445
CREATED:20221102T064910Z
LAST-MODIFIED:20250701T234146Z
UID:10000756-1801641600-1801645200@larfpa.org
SUMMARY:Kern County Breakfast Club (LAFD)
DESCRIPTION:Contact: Chuck Hallman – P: (818) 635-1280\, E: chall97047@aol.com
URL:https://larfpa.org/calendar-single-post-name/kern-county-breakfast-club-lafd/2027-02-03/
LOCATION:Kern County Breakfast Club (LAFD) Meeting Location – Henry’s Cafe\, 550 Tucker Rd.\, Tehachapi\, CA\, 93561\, United States
CATEGORIES:LAFD Groups and Meetings,Retiree Group Meeting
ATTACH;FMTTYPE=image/png:https://larfpa.org/wp-content/uploads/2025/07/Untitled-design-2025-07-01T160821.278-scaled.png
END:VEVENT
BEGIN:VEVENT
DTSTART;TZID=America/Los_Angeles:20270204T140000
DTEND;TZID=America/Los_Angeles:20270204T160000
DTSTAMP:20260421T103445
CREATED:20221019T053548Z
LAST-MODIFIED:20250701T231349Z
UID:10001716-1801749600-1801756800@larfpa.org
SUMMARY:Breakfast Get Together (LAFD)
DESCRIPTION:Contact: Gary Shelford – P: (805) 300-1331 or E: FirehouseBreakfastKlatch@gmail.com
URL:https://larfpa.org/calendar-single-post-name/breakfast-get-together-lafd/2027-02-04/
LOCATION:Breakfast Get Together (LAFD) Location – Firehouse Cafe\, 1244 Sycamore Ave.\, Simi Valley\, CA\, 93065\, United States
CATEGORIES:LAFD Groups and Meetings,Retiree Group Meeting
ATTACH;FMTTYPE=image/png:https://larfpa.org/wp-content/uploads/2025/07/Untitled-design-2025-07-01T160821.278-scaled.png
END:VEVENT
BEGIN:VEVENT
DTSTART;TZID=America/Los_Angeles:20270205T090000
DTEND;TZID=America/Los_Angeles:20270205T120000
DTSTAMP:20260421T103445
CREATED:20250702T003558Z
LAST-MODIFIED:20250702T003558Z
UID:10003494-1801818000-1801828800@larfpa.org
SUMMARY:Tehachapi Breakfast Club
DESCRIPTION:Contact Charles Hallman at chall97047@aol.com
URL:https://larfpa.org/calendar-single-post-name/tehachapi-breakfast-club/2027-02-05/
LOCATION:P-Dubs\, 20800 Santa Lucia St.\, Tehachapi\, CA\, 93561\, United States
CATEGORIES:LAFD Groups and Meetings,Retiree Group Meeting
ATTACH;FMTTYPE=image/png:https://larfpa.org/wp-content/uploads/2025/07/Untitled-design-2025-07-01T160821.278-scaled.png
END:VEVENT
BEGIN:VEVENT
DTSTART;TZID=America/Los_Angeles:20270209T183000
DTEND;TZID=America/Los_Angeles:20270209T193000
DTSTAMP:20260421T103445
CREATED:20221102T061536Z
LAST-MODIFIED:20250701T234330Z
UID:10002381-1802197800-1802201400@larfpa.org
SUMMARY:LAFD Active & Retired Santa Clarita Lunch Club - Schooners
DESCRIPTION:Contact: \nTed Nonini – P: (213) 446-6199 \nCraig White – P: (661) 305-3102 \nBruce Galien – P: (661) 645-7448
URL:https://larfpa.org/calendar-single-post-name/lafd-active-retired-santa-clarita-lunch-club-schooners/2027-02-09/
LOCATION:LAFD Active & Retired Santa Clarita Lunch Club – Schooners\, 22903 Soledad Canyon Rd.\, Santa Clarita\, CA\, 91350\, United States
CATEGORIES:LAFD Groups and Meetings,Retiree Group Meeting
ATTACH;FMTTYPE=image/png:https://larfpa.org/wp-content/uploads/2025/07/Untitled-design-2025-07-01T160821.278-scaled.png
END:VEVENT
BEGIN:VEVENT
DTSTART;TZID=America/Los_Angeles:20270210T110000
DTEND;TZID=America/Los_Angeles:20270210T120000
DTSTAMP:20260421T103445
CREATED:20221102T054517Z
LAST-MODIFIED:20250701T233339Z
UID:10000516-1802257200-1802260800@larfpa.org
SUMMARY:Inland Empire Lunch Club (Active or Retired LAFD)
DESCRIPTION:Contact: Leroy Davidson – P: (951) 203-7368\, E: wp2f@aol.com
URL:https://larfpa.org/calendar-single-post-name/inland-empire-lunch-club-active-or-retired-lafd-2/2027-02-10/
LOCATION:Inland Empire Lunch Club (Active or Retired LAFD) Meeting Location – Rodrigo’s Mexican Grill\, 39562 Winchester Rd.\, Temecula\, CA\, 92591\, United States
CATEGORIES:LAFD Groups and Meetings,Retiree Group Meeting
ATTACH;FMTTYPE=image/png:https://larfpa.org/wp-content/uploads/2025/07/Untitled-design-2025-07-01T160821.278-scaled.png
END:VEVENT
BEGIN:VEVENT
DTSTART;TZID=America/Los_Angeles:20270218T090000
DTEND;TZID=America/Los_Angeles:20270218T120000
DTSTAMP:20260421T103445
CREATED:20250702T003015Z
LAST-MODIFIED:20250702T003015Z
UID:10003362-1802941200-1802952000@larfpa.org
SUMMARY:South Orange County North San Diego County LAFD Breakfast Club
DESCRIPTION:Contact Vance Boos at (760) 213-9415
URL:https://larfpa.org/calendar-single-post-name/south-orange-county-north-san-diego-county-lafd-breakfast-club/2027-02-18/
LOCATION:Village Kitchen & Pie Shop\, 950 Tamarack Ave.\, Carlesbad\, CA\, 92008\, United States
CATEGORIES:LAFD Groups and Meetings,Retiree Group Meeting
ATTACH;FMTTYPE=image/png:https://larfpa.org/wp-content/uploads/2025/07/Untitled-design-2025-07-01T160821.278-scaled.png
END:VEVENT
BEGIN:VEVENT
DTSTART;TZID=America/Los_Angeles:20270218T140000
DTEND;TZID=America/Los_Angeles:20270218T160000
DTSTAMP:20260421T103445
CREATED:20250701T215638Z
LAST-MODIFIED:20250701T231814Z
UID:10001809-1802959200-1802966400@larfpa.org
SUMMARY:Breakfast Get Together (LAFD)
DESCRIPTION:Contact: Gary Shelford – P: (805) 300-1331 or E: FirehouseBreakfastKlatch@gmail.com
URL:https://larfpa.org/calendar-single-post-name/breakfast-get-together-lafd-2/2027-02-18/
LOCATION:Breakfast Get Together (LAFD) Location – Firehouse Cafe\, 1244 Sycamore Ave.\, Simi Valley\, CA\, 93065\, United States
CATEGORIES:LAFD Groups and Meetings,Retiree Group Meeting
ATTACH;FMTTYPE=image/png:https://larfpa.org/wp-content/uploads/2025/07/Untitled-design-2025-07-01T160821.278-scaled.png
END:VEVENT
END:VCALENDAR