BEGIN:VCALENDAR
VERSION:2.0
PRODID:-//LARFPA - ECPv6.15.20//NONSGML v1.0//EN
CALSCALE:GREGORIAN
METHOD:PUBLISH
X-WR-CALNAME:LARFPA
X-ORIGINAL-URL:https://larfpa.org
X-WR-CALDESC:Events for LARFPA
REFRESH-INTERVAL;VALUE=DURATION:PT1H
X-Robots-Tag:noindex
X-PUBLISHED-TTL:PT1H
BEGIN:VTIMEZONE
TZID:America/Los_Angeles
BEGIN:DAYLIGHT
TZOFFSETFROM:-0800
TZOFFSETTO:-0700
TZNAME:PDT
DTSTART:20240310T100000
END:DAYLIGHT
BEGIN:STANDARD
TZOFFSETFROM:-0700
TZOFFSETTO:-0800
TZNAME:PST
DTSTART:20241103T090000
END:STANDARD
BEGIN:DAYLIGHT
TZOFFSETFROM:-0800
TZOFFSETTO:-0700
TZNAME:PDT
DTSTART:20250309T100000
END:DAYLIGHT
BEGIN:STANDARD
TZOFFSETFROM:-0700
TZOFFSETTO:-0800
TZNAME:PST
DTSTART:20251102T090000
END:STANDARD
BEGIN:DAYLIGHT
TZOFFSETFROM:-0800
TZOFFSETTO:-0700
TZNAME:PDT
DTSTART:20260308T100000
END:DAYLIGHT
BEGIN:STANDARD
TZOFFSETFROM:-0700
TZOFFSETTO:-0800
TZNAME:PST
DTSTART:20261101T090000
END:STANDARD
END:VTIMEZONE
BEGIN:VEVENT
DTSTART;TZID=America/Los_Angeles:20250604T080000
DTEND;TZID=America/Los_Angeles:20250604T090000
DTSTAMP:20260423T122331
CREATED:20221102T064910Z
LAST-MODIFIED:20250701T234146Z
UID:10000736-1749024000-1749027600@larfpa.org
SUMMARY:Kern County Breakfast Club (LAFD)
DESCRIPTION:Contact: Chuck Hallman – P: (818) 635-1280\, E: chall97047@aol.com
URL:https://larfpa.org/calendar-single-post-name/kern-county-breakfast-club-lafd/2025-06-04/
LOCATION:Kern County Breakfast Club (LAFD) Meeting Location – Henry’s Cafe\, 550 Tucker Rd.\, Tehachapi\, CA\, 93561\, United States
CATEGORIES:LAFD Groups and Meetings,Retiree Group Meeting
ATTACH;FMTTYPE=image/png:https://larfpa.org/wp-content/uploads/2025/07/Untitled-design-2025-07-01T160821.278-scaled.png
END:VEVENT
BEGIN:VEVENT
DTSTART;TZID=America/Los_Angeles:20250604T100000
DTEND;TZID=America/Los_Angeles:20250604T140000
DTSTAMP:20260423T122331
CREATED:20250318T223325Z
LAST-MODIFIED:20250318T223325Z
UID:10001248-1749031200-1749045600@larfpa.org
SUMMARY:LARFPA Annual Picnic
DESCRIPTION:Join us for a day of good food\, great company\, and community at the Los Angeles Retired Fire and Police Association’s Annual Picnic! \n📍 Location: Los Angeles River Center & Gardens\, 570 W. Ave. 26\, Los Angeles\, CA 90065 \n⏰ Time: \n\nGeneral Membership Meeting: 10 AM – 12 PM\nLuncheon & Raffle: 12 PM – 2 PM\n\n🎫 Ticket Price: $25 per person (includes luncheon and event access) \n🎟 Raffle Tickets: $1 each (available online or at the door) \nEnjoy a relaxing afternoon reconnecting with fellow retired first responders\, sharing stories\, and winning raffle prizes. \nWe look forward to seeing you there!
URL:https://larfpa.org/calendar-single-post-name/larfpa-annual-picnic/
LOCATION:570 W. Ave 26\, 570 W Ave 26\, Los Angeles\, CA\, 90065\, United States
CATEGORIES:LARFPA Event
ORGANIZER;CN="LARFPA":MAILTO:events@larfpa.org
END:VEVENT
BEGIN:VEVENT
DTSTART;TZID=America/Los_Angeles:20250604T103000
DTEND;TZID=America/Los_Angeles:20250604T113000
DTSTAMP:20260423T122331
CREATED:20221102T064209Z
LAST-MODIFIED:20260305T180306Z
UID:10003764-1749033000-1749036600@larfpa.org
SUMMARY:Las Vegas Blueline Group Luncheon
DESCRIPTION:Contact: \nJoe Germain – P: 702-580-2407\, E: germain.joe@cox.net
URL:https://larfpa.org/calendar-single-post-name/las-vegas-blueline-group-luncheon/2025-06-04/
LOCATION:Las Vegas Blueline Group Luncheon Meeting Location – Las Vegas National Golf Club\, 1911 E. Desert Inn Rd.\, Las Vegas\, NV\, 89169\, United States
CATEGORIES:LAPD Group Meeting,Retiree Group Meeting
ATTACH;FMTTYPE=image/png:https://larfpa.org/wp-content/uploads/2025/07/Untitled-design-2025-07-01T161726.101-scaled.png
END:VEVENT
BEGIN:VEVENT
DTSTART;TZID=America/Los_Angeles:20250604T110000
DTEND;TZID=America/Los_Angeles:20250604T120000
DTSTAMP:20260423T122331
CREATED:20250702T003315Z
LAST-MODIFIED:20250702T003315Z
UID:10003408-1749034800-1749038400@larfpa.org
SUMMARY:Tehachapi Blue Line
DESCRIPTION:Contact Dave Hiner at hinerteh@msn.com
URL:https://larfpa.org/calendar-single-post-name/tehachapi-blue-line/2025-06-04/
LOCATION:Village Grill\, 410 E. Tehachapi Blvd.\, Tehachapi\, CA\, 93561\, United States
CATEGORIES:LAPD Group Meeting,Retiree Group Meeting
ATTACH;FMTTYPE=image/png:https://larfpa.org/wp-content/uploads/2025/07/Untitled-design-2025-07-01T161726.101-scaled.png
END:VEVENT
END:VCALENDAR